| Back to Multiple platform build/check report for BioC 3.11 |
|
This page was generated on 2020-10-17 11:54:38 -0400 (Sat, 17 Oct 2020).
| TO THE DEVELOPERS/MAINTAINERS OF THE cytolib PACKAGE: Please make sure to use the following settings in order to reproduce any error or warning you see on this page. |
| Package 413/1905 | Hostname | OS / Arch | INSTALL | BUILD | CHECK | BUILD BIN | ||||||
| cytolib 2.0.3 Mike Jiang
| malbec2 | Linux (Ubuntu 18.04.4 LTS) / x86_64 | [ OK ] | OK | OK | |||||||
| tokay2 | Windows Server 2012 R2 Standard / x64 | OK | OK | OK | OK | |||||||
| machv2 | macOS 10.14.6 Mojave / x86_64 | OK | OK | OK | OK |
| Package: cytolib |
| Version: 2.0.3 |
| Command: /home/biocbuild/bbs-3.11-bioc/R/bin/R CMD INSTALL cytolib |
| StartedAt: 2020-10-16 16:08:05 -0400 (Fri, 16 Oct 2020) |
| EndedAt: 2020-10-16 16:10:46 -0400 (Fri, 16 Oct 2020) |
| EllapsedTime: 160.8 seconds |
| RetCode: 0 |
| Status: OK |
##############################################################################
##############################################################################
###
### Running command:
###
### /home/biocbuild/bbs-3.11-bioc/R/bin/R CMD INSTALL cytolib
###
##############################################################################
##############################################################################
* installing to library ‘/home/biocbuild/bbs-3.11-bioc/R/library’
* installing *source* package ‘cytolib’ ...
** using staged installation
** preparing to configure package 'cytolib' ...
*** configured file: 'cytolibConfig.h.in' => 'inst/include/cytolib/cytolibConfig.h'
** finished configure for package 'cytolib'
** libs
g++ -std=gnu++11 -I"/home/biocbuild/bbs-3.11-bioc/R/include" -DNDEBUG -DROUT -I../inst/include -DBOOST_NO_AUTO_PTR -I'/home/biocbuild/bbs-3.11-bioc/R/library/Rcpp/include' -I'/home/biocbuild/bbs-3.11-bioc/R/library/BH/include' -I'/home/biocbuild/bbs-3.11-bioc/R/library/RProtoBufLib/include' -I'/home/biocbuild/bbs-3.11-bioc/R/library/Rhdf5lib/include' -I'/home/biocbuild/bbs-3.11-bioc/R/library/RcppArmadillo/include' -I'/home/biocbuild/bbs-3.11-bioc/R/library/RcppParallel/include' -I/usr/local/include -fpic -g -O2 -Wall -c CytoFrame.cpp -o CytoFrame.o
g++ -std=gnu++11 -I"/home/biocbuild/bbs-3.11-bioc/R/include" -DNDEBUG -DROUT -I../inst/include -DBOOST_NO_AUTO_PTR -I'/home/biocbuild/bbs-3.11-bioc/R/library/Rcpp/include' -I'/home/biocbuild/bbs-3.11-bioc/R/library/BH/include' -I'/home/biocbuild/bbs-3.11-bioc/R/library/RProtoBufLib/include' -I'/home/biocbuild/bbs-3.11-bioc/R/library/Rhdf5lib/include' -I'/home/biocbuild/bbs-3.11-bioc/R/library/RcppArmadillo/include' -I'/home/biocbuild/bbs-3.11-bioc/R/library/RcppParallel/include' -I/usr/local/include -fpic -g -O2 -Wall -c CytoFrameView.cpp -o CytoFrameView.o
g++ -std=gnu++11 -I"/home/biocbuild/bbs-3.11-bioc/R/include" -DNDEBUG -DROUT -I../inst/include -DBOOST_NO_AUTO_PTR -I'/home/biocbuild/bbs-3.11-bioc/R/library/Rcpp/include' -I'/home/biocbuild/bbs-3.11-bioc/R/library/BH/include' -I'/home/biocbuild/bbs-3.11-bioc/R/library/RProtoBufLib/include' -I'/home/biocbuild/bbs-3.11-bioc/R/library/Rhdf5lib/include' -I'/home/biocbuild/bbs-3.11-bioc/R/library/RcppArmadillo/include' -I'/home/biocbuild/bbs-3.11-bioc/R/library/RcppParallel/include' -I/usr/local/include -fpic -g -O2 -Wall -c GatingHierarchy.cpp -o GatingHierarchy.o
g++ -std=gnu++11 -I"/home/biocbuild/bbs-3.11-bioc/R/include" -DNDEBUG -DROUT -I../inst/include -DBOOST_NO_AUTO_PTR -I'/home/biocbuild/bbs-3.11-bioc/R/library/Rcpp/include' -I'/home/biocbuild/bbs-3.11-bioc/R/library/BH/include' -I'/home/biocbuild/bbs-3.11-bioc/R/library/RProtoBufLib/include' -I'/home/biocbuild/bbs-3.11-bioc/R/library/Rhdf5lib/include' -I'/home/biocbuild/bbs-3.11-bioc/R/library/RcppArmadillo/include' -I'/home/biocbuild/bbs-3.11-bioc/R/library/RcppParallel/include' -I/usr/local/include -fpic -g -O2 -Wall -c GatingSet.cpp -o GatingSet.o
g++ -std=gnu++11 -I"/home/biocbuild/bbs-3.11-bioc/R/include" -DNDEBUG -DROUT -I../inst/include -DBOOST_NO_AUTO_PTR -I'/home/biocbuild/bbs-3.11-bioc/R/library/Rcpp/include' -I'/home/biocbuild/bbs-3.11-bioc/R/library/BH/include' -I'/home/biocbuild/bbs-3.11-bioc/R/library/RProtoBufLib/include' -I'/home/biocbuild/bbs-3.11-bioc/R/library/Rhdf5lib/include' -I'/home/biocbuild/bbs-3.11-bioc/R/library/RcppArmadillo/include' -I'/home/biocbuild/bbs-3.11-bioc/R/library/RcppParallel/include' -I/usr/local/include -fpic -g -O2 -Wall -c GatingSet.pb.cc -o GatingSet.pb.o
g++ -std=gnu++11 -I"/home/biocbuild/bbs-3.11-bioc/R/include" -DNDEBUG -DROUT -I../inst/include -DBOOST_NO_AUTO_PTR -I'/home/biocbuild/bbs-3.11-bioc/R/library/Rcpp/include' -I'/home/biocbuild/bbs-3.11-bioc/R/library/BH/include' -I'/home/biocbuild/bbs-3.11-bioc/R/library/RProtoBufLib/include' -I'/home/biocbuild/bbs-3.11-bioc/R/library/Rhdf5lib/include' -I'/home/biocbuild/bbs-3.11-bioc/R/library/RcppArmadillo/include' -I'/home/biocbuild/bbs-3.11-bioc/R/library/RcppParallel/include' -I/usr/local/include -fpic -g -O2 -Wall -c H5CytoFrame.cpp -o H5CytoFrame.o
g++ -std=gnu++11 -I"/home/biocbuild/bbs-3.11-bioc/R/include" -DNDEBUG -DROUT -I../inst/include -DBOOST_NO_AUTO_PTR -I'/home/biocbuild/bbs-3.11-bioc/R/library/Rcpp/include' -I'/home/biocbuild/bbs-3.11-bioc/R/library/BH/include' -I'/home/biocbuild/bbs-3.11-bioc/R/library/RProtoBufLib/include' -I'/home/biocbuild/bbs-3.11-bioc/R/library/Rhdf5lib/include' -I'/home/biocbuild/bbs-3.11-bioc/R/library/RcppArmadillo/include' -I'/home/biocbuild/bbs-3.11-bioc/R/library/RcppParallel/include' -I/usr/local/include -fpic -g -O2 -Wall -c MemCytoFrame.cpp -o MemCytoFrame.o
MemCytoFrame.cpp:548:0: warning: ignoring #pragma omp parallel [-Wunknown-pragmas]
#pragma omp parallel for
g++ -std=gnu++11 -I"/home/biocbuild/bbs-3.11-bioc/R/include" -DNDEBUG -DROUT -I../inst/include -DBOOST_NO_AUTO_PTR -I'/home/biocbuild/bbs-3.11-bioc/R/library/Rcpp/include' -I'/home/biocbuild/bbs-3.11-bioc/R/library/BH/include' -I'/home/biocbuild/bbs-3.11-bioc/R/library/RProtoBufLib/include' -I'/home/biocbuild/bbs-3.11-bioc/R/library/Rhdf5lib/include' -I'/home/biocbuild/bbs-3.11-bioc/R/library/RcppArmadillo/include' -I'/home/biocbuild/bbs-3.11-bioc/R/library/RcppParallel/include' -I/usr/local/include -fpic -g -O2 -Wall -c POPINDICES.cpp -o POPINDICES.o
g++ -std=gnu++11 -I"/home/biocbuild/bbs-3.11-bioc/R/include" -DNDEBUG -DROUT -I../inst/include -DBOOST_NO_AUTO_PTR -I'/home/biocbuild/bbs-3.11-bioc/R/library/Rcpp/include' -I'/home/biocbuild/bbs-3.11-bioc/R/library/BH/include' -I'/home/biocbuild/bbs-3.11-bioc/R/library/RProtoBufLib/include' -I'/home/biocbuild/bbs-3.11-bioc/R/library/Rhdf5lib/include' -I'/home/biocbuild/bbs-3.11-bioc/R/library/RcppArmadillo/include' -I'/home/biocbuild/bbs-3.11-bioc/R/library/RcppParallel/include' -I/usr/local/include -fpic -g -O2 -Wall -c calibrationTable.cpp -o calibrationTable.o
g++ -std=gnu++11 -I"/home/biocbuild/bbs-3.11-bioc/R/include" -DNDEBUG -DROUT -I../inst/include -DBOOST_NO_AUTO_PTR -I'/home/biocbuild/bbs-3.11-bioc/R/library/Rcpp/include' -I'/home/biocbuild/bbs-3.11-bioc/R/library/BH/include' -I'/home/biocbuild/bbs-3.11-bioc/R/library/RProtoBufLib/include' -I'/home/biocbuild/bbs-3.11-bioc/R/library/Rhdf5lib/include' -I'/home/biocbuild/bbs-3.11-bioc/R/library/RcppArmadillo/include' -I'/home/biocbuild/bbs-3.11-bioc/R/library/RcppParallel/include' -I/usr/local/include -fpic -g -O2 -Wall -c compensation.cpp -o compensation.o
g++ -std=gnu++11 -I"/home/biocbuild/bbs-3.11-bioc/R/include" -DNDEBUG -DROUT -I../inst/include -DBOOST_NO_AUTO_PTR -I'/home/biocbuild/bbs-3.11-bioc/R/library/Rcpp/include' -I'/home/biocbuild/bbs-3.11-bioc/R/library/BH/include' -I'/home/biocbuild/bbs-3.11-bioc/R/library/RProtoBufLib/include' -I'/home/biocbuild/bbs-3.11-bioc/R/library/Rhdf5lib/include' -I'/home/biocbuild/bbs-3.11-bioc/R/library/RcppArmadillo/include' -I'/home/biocbuild/bbs-3.11-bioc/R/library/RcppParallel/include' -I/usr/local/include -fpic -g -O2 -Wall -c ellipse2points.cpp -o ellipse2points.o
g++ -std=gnu++11 -I"/home/biocbuild/bbs-3.11-bioc/R/include" -DNDEBUG -DROUT -I../inst/include -DBOOST_NO_AUTO_PTR -I'/home/biocbuild/bbs-3.11-bioc/R/library/Rcpp/include' -I'/home/biocbuild/bbs-3.11-bioc/R/library/BH/include' -I'/home/biocbuild/bbs-3.11-bioc/R/library/RProtoBufLib/include' -I'/home/biocbuild/bbs-3.11-bioc/R/library/Rhdf5lib/include' -I'/home/biocbuild/bbs-3.11-bioc/R/library/RcppArmadillo/include' -I'/home/biocbuild/bbs-3.11-bioc/R/library/RcppParallel/include' -I/usr/local/include -fpic -g -O2 -Wall -c gate.cpp -o gate.o
g++ -std=gnu++11 -I"/home/biocbuild/bbs-3.11-bioc/R/include" -DNDEBUG -DROUT -I../inst/include -DBOOST_NO_AUTO_PTR -I'/home/biocbuild/bbs-3.11-bioc/R/library/Rcpp/include' -I'/home/biocbuild/bbs-3.11-bioc/R/library/BH/include' -I'/home/biocbuild/bbs-3.11-bioc/R/library/RProtoBufLib/include' -I'/home/biocbuild/bbs-3.11-bioc/R/library/Rhdf5lib/include' -I'/home/biocbuild/bbs-3.11-bioc/R/library/RcppArmadillo/include' -I'/home/biocbuild/bbs-3.11-bioc/R/library/RcppParallel/include' -I/usr/local/include -fpic -g -O2 -Wall -c global.cpp -o global.o
g++ -std=gnu++11 -I"/home/biocbuild/bbs-3.11-bioc/R/include" -DNDEBUG -DROUT -I../inst/include -DBOOST_NO_AUTO_PTR -I'/home/biocbuild/bbs-3.11-bioc/R/library/Rcpp/include' -I'/home/biocbuild/bbs-3.11-bioc/R/library/BH/include' -I'/home/biocbuild/bbs-3.11-bioc/R/library/RProtoBufLib/include' -I'/home/biocbuild/bbs-3.11-bioc/R/library/Rhdf5lib/include' -I'/home/biocbuild/bbs-3.11-bioc/R/library/RcppArmadillo/include' -I'/home/biocbuild/bbs-3.11-bioc/R/library/RcppParallel/include' -I/usr/local/include -fpic -g -O2 -Wall -c in_polygon.cpp -o in_polygon.o
g++ -std=gnu++11 -I"/home/biocbuild/bbs-3.11-bioc/R/include" -DNDEBUG -DROUT -I../inst/include -DBOOST_NO_AUTO_PTR -I'/home/biocbuild/bbs-3.11-bioc/R/library/Rcpp/include' -I'/home/biocbuild/bbs-3.11-bioc/R/library/BH/include' -I'/home/biocbuild/bbs-3.11-bioc/R/library/RProtoBufLib/include' -I'/home/biocbuild/bbs-3.11-bioc/R/library/Rhdf5lib/include' -I'/home/biocbuild/bbs-3.11-bioc/R/library/RcppArmadillo/include' -I'/home/biocbuild/bbs-3.11-bioc/R/library/RcppParallel/include' -I/usr/local/include -fpic -g -O2 -Wall -c nodeProperties.cpp -o nodeProperties.o
g++ -std=gnu++11 -I"/home/biocbuild/bbs-3.11-bioc/R/include" -DNDEBUG -DROUT -I../inst/include -DBOOST_NO_AUTO_PTR -I'/home/biocbuild/bbs-3.11-bioc/R/library/Rcpp/include' -I'/home/biocbuild/bbs-3.11-bioc/R/library/BH/include' -I'/home/biocbuild/bbs-3.11-bioc/R/library/RProtoBufLib/include' -I'/home/biocbuild/bbs-3.11-bioc/R/library/Rhdf5lib/include' -I'/home/biocbuild/bbs-3.11-bioc/R/library/RcppArmadillo/include' -I'/home/biocbuild/bbs-3.11-bioc/R/library/RcppParallel/include' -I/usr/local/include -fpic -g -O2 -Wall -c spline.cpp -o spline.o
g++ -std=gnu++11 -I"/home/biocbuild/bbs-3.11-bioc/R/include" -DNDEBUG -DROUT -I../inst/include -DBOOST_NO_AUTO_PTR -I'/home/biocbuild/bbs-3.11-bioc/R/library/Rcpp/include' -I'/home/biocbuild/bbs-3.11-bioc/R/library/BH/include' -I'/home/biocbuild/bbs-3.11-bioc/R/library/RProtoBufLib/include' -I'/home/biocbuild/bbs-3.11-bioc/R/library/Rhdf5lib/include' -I'/home/biocbuild/bbs-3.11-bioc/R/library/RcppArmadillo/include' -I'/home/biocbuild/bbs-3.11-bioc/R/library/RcppParallel/include' -I/usr/local/include -fpic -g -O2 -Wall -c trans_group.cpp -o trans_group.o
g++ -std=gnu++11 -I"/home/biocbuild/bbs-3.11-bioc/R/include" -DNDEBUG -DROUT -I../inst/include -DBOOST_NO_AUTO_PTR -I'/home/biocbuild/bbs-3.11-bioc/R/library/Rcpp/include' -I'/home/biocbuild/bbs-3.11-bioc/R/library/BH/include' -I'/home/biocbuild/bbs-3.11-bioc/R/library/RProtoBufLib/include' -I'/home/biocbuild/bbs-3.11-bioc/R/library/Rhdf5lib/include' -I'/home/biocbuild/bbs-3.11-bioc/R/library/RcppArmadillo/include' -I'/home/biocbuild/bbs-3.11-bioc/R/library/RcppParallel/include' -I/usr/local/include -fpic -g -O2 -Wall -c transformation.cpp -o transformation.o
g++ -std=gnu++11 -I"/home/biocbuild/bbs-3.11-bioc/R/include" -DNDEBUG -DROUT -I../inst/include -DBOOST_NO_AUTO_PTR -I'/home/biocbuild/bbs-3.11-bioc/R/library/Rcpp/include' -I'/home/biocbuild/bbs-3.11-bioc/R/library/BH/include' -I'/home/biocbuild/bbs-3.11-bioc/R/library/RProtoBufLib/include' -I'/home/biocbuild/bbs-3.11-bioc/R/library/Rhdf5lib/include' -I'/home/biocbuild/bbs-3.11-bioc/R/library/RcppArmadillo/include' -I'/home/biocbuild/bbs-3.11-bioc/R/library/RcppParallel/include' -I/usr/local/include -fpic -g -O2 -Wall -c boost/libs/system/src/error_code.cpp -o boost/libs/system/src/error_code.o
g++ -std=gnu++11 -I"/home/biocbuild/bbs-3.11-bioc/R/include" -DNDEBUG -DROUT -I../inst/include -DBOOST_NO_AUTO_PTR -I'/home/biocbuild/bbs-3.11-bioc/R/library/Rcpp/include' -I'/home/biocbuild/bbs-3.11-bioc/R/library/BH/include' -I'/home/biocbuild/bbs-3.11-bioc/R/library/RProtoBufLib/include' -I'/home/biocbuild/bbs-3.11-bioc/R/library/Rhdf5lib/include' -I'/home/biocbuild/bbs-3.11-bioc/R/library/RcppArmadillo/include' -I'/home/biocbuild/bbs-3.11-bioc/R/library/RcppParallel/include' -I/usr/local/include -fpic -g -O2 -Wall -c boost/libs/filesystem/src/utf8_codecvt_facet.cpp -o boost/libs/filesystem/src/utf8_codecvt_facet.o
g++ -std=gnu++11 -I"/home/biocbuild/bbs-3.11-bioc/R/include" -DNDEBUG -DROUT -I../inst/include -DBOOST_NO_AUTO_PTR -I'/home/biocbuild/bbs-3.11-bioc/R/library/Rcpp/include' -I'/home/biocbuild/bbs-3.11-bioc/R/library/BH/include' -I'/home/biocbuild/bbs-3.11-bioc/R/library/RProtoBufLib/include' -I'/home/biocbuild/bbs-3.11-bioc/R/library/Rhdf5lib/include' -I'/home/biocbuild/bbs-3.11-bioc/R/library/RcppArmadillo/include' -I'/home/biocbuild/bbs-3.11-bioc/R/library/RcppParallel/include' -I/usr/local/include -fpic -g -O2 -Wall -c boost/libs/filesystem/src/codecvt_error_category.cpp -o boost/libs/filesystem/src/codecvt_error_category.o
g++ -std=gnu++11 -I"/home/biocbuild/bbs-3.11-bioc/R/include" -DNDEBUG -DROUT -I../inst/include -DBOOST_NO_AUTO_PTR -I'/home/biocbuild/bbs-3.11-bioc/R/library/Rcpp/include' -I'/home/biocbuild/bbs-3.11-bioc/R/library/BH/include' -I'/home/biocbuild/bbs-3.11-bioc/R/library/RProtoBufLib/include' -I'/home/biocbuild/bbs-3.11-bioc/R/library/Rhdf5lib/include' -I'/home/biocbuild/bbs-3.11-bioc/R/library/RcppArmadillo/include' -I'/home/biocbuild/bbs-3.11-bioc/R/library/RcppParallel/include' -I/usr/local/include -fpic -g -O2 -Wall -c boost/libs/filesystem/src/path_traits.cpp -o boost/libs/filesystem/src/path_traits.o
g++ -std=gnu++11 -I"/home/biocbuild/bbs-3.11-bioc/R/include" -DNDEBUG -DROUT -I../inst/include -DBOOST_NO_AUTO_PTR -I'/home/biocbuild/bbs-3.11-bioc/R/library/Rcpp/include' -I'/home/biocbuild/bbs-3.11-bioc/R/library/BH/include' -I'/home/biocbuild/bbs-3.11-bioc/R/library/RProtoBufLib/include' -I'/home/biocbuild/bbs-3.11-bioc/R/library/Rhdf5lib/include' -I'/home/biocbuild/bbs-3.11-bioc/R/library/RcppArmadillo/include' -I'/home/biocbuild/bbs-3.11-bioc/R/library/RcppParallel/include' -I/usr/local/include -fpic -g -O2 -Wall -c boost/libs/filesystem/src/windows_file_codecvt.cpp -o boost/libs/filesystem/src/windows_file_codecvt.o
g++ -std=gnu++11 -I"/home/biocbuild/bbs-3.11-bioc/R/include" -DNDEBUG -DROUT -I../inst/include -DBOOST_NO_AUTO_PTR -I'/home/biocbuild/bbs-3.11-bioc/R/library/Rcpp/include' -I'/home/biocbuild/bbs-3.11-bioc/R/library/BH/include' -I'/home/biocbuild/bbs-3.11-bioc/R/library/RProtoBufLib/include' -I'/home/biocbuild/bbs-3.11-bioc/R/library/Rhdf5lib/include' -I'/home/biocbuild/bbs-3.11-bioc/R/library/RcppArmadillo/include' -I'/home/biocbuild/bbs-3.11-bioc/R/library/RcppParallel/include' -I/usr/local/include -fpic -g -O2 -Wall -c boost/libs/filesystem/src/exception.cpp -o boost/libs/filesystem/src/exception.o
g++ -std=gnu++11 -I"/home/biocbuild/bbs-3.11-bioc/R/include" -DNDEBUG -DROUT -I../inst/include -DBOOST_NO_AUTO_PTR -I'/home/biocbuild/bbs-3.11-bioc/R/library/Rcpp/include' -I'/home/biocbuild/bbs-3.11-bioc/R/library/BH/include' -I'/home/biocbuild/bbs-3.11-bioc/R/library/RProtoBufLib/include' -I'/home/biocbuild/bbs-3.11-bioc/R/library/Rhdf5lib/include' -I'/home/biocbuild/bbs-3.11-bioc/R/library/RcppArmadillo/include' -I'/home/biocbuild/bbs-3.11-bioc/R/library/RcppParallel/include' -I/usr/local/include -fpic -g -O2 -Wall -c boost/libs/filesystem/src/directory.cpp -o boost/libs/filesystem/src/directory.o
g++ -std=gnu++11 -I"/home/biocbuild/bbs-3.11-bioc/R/include" -DNDEBUG -DROUT -I../inst/include -DBOOST_NO_AUTO_PTR -I'/home/biocbuild/bbs-3.11-bioc/R/library/Rcpp/include' -I'/home/biocbuild/bbs-3.11-bioc/R/library/BH/include' -I'/home/biocbuild/bbs-3.11-bioc/R/library/RProtoBufLib/include' -I'/home/biocbuild/bbs-3.11-bioc/R/library/Rhdf5lib/include' -I'/home/biocbuild/bbs-3.11-bioc/R/library/RcppArmadillo/include' -I'/home/biocbuild/bbs-3.11-bioc/R/library/RcppParallel/include' -I/usr/local/include -fpic -g -O2 -Wall -c boost/libs/filesystem/src/path.cpp -o boost/libs/filesystem/src/path.o
g++ -std=gnu++11 -I"/home/biocbuild/bbs-3.11-bioc/R/include" -DNDEBUG -DROUT -I../inst/include -DBOOST_NO_AUTO_PTR -I'/home/biocbuild/bbs-3.11-bioc/R/library/Rcpp/include' -I'/home/biocbuild/bbs-3.11-bioc/R/library/BH/include' -I'/home/biocbuild/bbs-3.11-bioc/R/library/RProtoBufLib/include' -I'/home/biocbuild/bbs-3.11-bioc/R/library/Rhdf5lib/include' -I'/home/biocbuild/bbs-3.11-bioc/R/library/RcppArmadillo/include' -I'/home/biocbuild/bbs-3.11-bioc/R/library/RcppParallel/include' -I/usr/local/include -fpic -g -O2 -Wall -c boost/libs/filesystem/src/operations.cpp -o boost/libs/filesystem/src/operations.o
g++ -std=gnu++11 -I"/home/biocbuild/bbs-3.11-bioc/R/include" -DNDEBUG -DROUT -I../inst/include -DBOOST_NO_AUTO_PTR -I'/home/biocbuild/bbs-3.11-bioc/R/library/Rcpp/include' -I'/home/biocbuild/bbs-3.11-bioc/R/library/BH/include' -I'/home/biocbuild/bbs-3.11-bioc/R/library/RProtoBufLib/include' -I'/home/biocbuild/bbs-3.11-bioc/R/library/Rhdf5lib/include' -I'/home/biocbuild/bbs-3.11-bioc/R/library/RcppArmadillo/include' -I'/home/biocbuild/bbs-3.11-bioc/R/library/RcppParallel/include' -I/usr/local/include -fpic -g -O2 -Wall -c boost/libs/filesystem/src/unique_path.cpp -o boost/libs/filesystem/src/unique_path.o
g++ -std=gnu++11 -I"/home/biocbuild/bbs-3.11-bioc/R/include" -DNDEBUG -DROUT -I../inst/include -DBOOST_NO_AUTO_PTR -I'/home/biocbuild/bbs-3.11-bioc/R/library/Rcpp/include' -I'/home/biocbuild/bbs-3.11-bioc/R/library/BH/include' -I'/home/biocbuild/bbs-3.11-bioc/R/library/RProtoBufLib/include' -I'/home/biocbuild/bbs-3.11-bioc/R/library/Rhdf5lib/include' -I'/home/biocbuild/bbs-3.11-bioc/R/library/RcppArmadillo/include' -I'/home/biocbuild/bbs-3.11-bioc/R/library/RcppParallel/include' -I/usr/local/include -fpic -g -O2 -Wall -c boost/libs/filesystem/src/portability.cpp -o boost/libs/filesystem/src/portability.o
mkdir -p "/home/biocbuild/bbs-3.11-bioc/R/library/00LOCK-cytolib/00new/cytolib/lib"
ar rs "/home/biocbuild/bbs-3.11-bioc/R/library/00LOCK-cytolib/00new/cytolib/lib/libboost_fs.a" boost/libs/filesystem/src/utf8_codecvt_facet.o boost/libs/filesystem/src/codecvt_error_category.o boost/libs/filesystem/src/path_traits.o boost/libs/filesystem/src/windows_file_codecvt.o boost/libs/filesystem/src/exception.o boost/libs/filesystem/src/directory.o boost/libs/filesystem/src/path.o boost/libs/filesystem/src/operations.o boost/libs/filesystem/src/unique_path.o boost/libs/filesystem/src/portability.o boost/libs/system/src/error_code.o
ar: creating /home/biocbuild/bbs-3.11-bioc/R/library/00LOCK-cytolib/00new/cytolib/lib/libboost_fs.a
g++ -std=gnu++11 -shared -L/home/biocbuild/bbs-3.11-bioc/R/lib -L/usr/local/lib -o cytolib.so CytoFrame.o CytoFrameView.o GatingHierarchy.o GatingSet.o GatingSet.pb.o H5CytoFrame.o MemCytoFrame.o POPINDICES.o calibrationTable.o compensation.o ellipse2points.o gate.o global.o in_polygon.o nodeProperties.o spline.o trans_group.o transformation.o boost/libs/filesystem/src/utf8_codecvt_facet.o boost/libs/filesystem/src/codecvt_error_category.o boost/libs/filesystem/src/path_traits.o boost/libs/filesystem/src/windows_file_codecvt.o boost/libs/filesystem/src/exception.o boost/libs/filesystem/src/directory.o boost/libs/filesystem/src/path.o boost/libs/filesystem/src/operations.o boost/libs/filesystem/src/unique_path.o boost/libs/filesystem/src/portability.o boost/libs/system/src/error_code.o -L/home/biocbuild/bbs-3.11-bioc/R/lib -lRlapack -L/home/biocbuild/bbs-3.11-bioc/R/lib -lRblas -lgfortran -lm -lquadmath /home/biocbuild/bbs-3.11-bioc/R/library/Rhdf5lib/lib/libhdf5_cpp.a /home/biocbuild/bbs-3.11-bioc/R/library/Rhdf5lib/lib/libhdf5.a /home/biocbuild/bbs-3.11-bioc/R/library/Rhdf5lib/lib/libsz.a -lz -L/home/biocbuild/bbs-3.11-bioc/R/lib -lR
installing to /home/biocbuild/bbs-3.11-bioc/R/library/00LOCK-cytolib/00new/cytolib/libs
** R
** inst
** byte-compile and prepare package for lazy loading
** help
*** installing help indices
** building package indices
** installing vignettes
** testing if installed package can be loaded from temporary location
** checking absolute paths in shared objects and dynamic libraries
** testing if installed package can be loaded from final location
** testing if installed package keeps a record of temporary installation path
* DONE (cytolib)