| Back to Multiple platform build/check report for BioC 3.11 |
|
This page was generated on 2020-10-17 11:56:22 -0400 (Sat, 17 Oct 2020).
| TO THE DEVELOPERS/MAINTAINERS OF THE consensus PACKAGE: Please make sure to use the following settings in order to reproduce any error or warning you see on this page. |
| Package 361/1905 | Hostname | OS / Arch | INSTALL | BUILD | CHECK | BUILD BIN | ||||||
| consensus 1.6.1 Tim Peters
| malbec2 | Linux (Ubuntu 18.04.4 LTS) / x86_64 | OK | OK | OK | |||||||
| tokay2 | Windows Server 2012 R2 Standard / x64 | OK | OK | OK | [ OK ] | |||||||
| machv2 | macOS 10.14.6 Mojave / x86_64 | OK | OK | OK | OK |
| Package: consensus |
| Version: 1.6.1 |
| Command: rm -rf consensus.buildbin-libdir && mkdir consensus.buildbin-libdir && C:\Users\biocbuild\bbs-3.11-bioc\R\bin\R.exe CMD INSTALL --merge-multiarch --build --library=consensus.buildbin-libdir consensus_1.6.1.tar.gz |
| StartedAt: 2020-10-17 10:11:37 -0400 (Sat, 17 Oct 2020) |
| EndedAt: 2020-10-17 10:11:54 -0400 (Sat, 17 Oct 2020) |
| EllapsedTime: 17.5 seconds |
| RetCode: 0 |
| Status: OK |
| PackageFile: consensus_1.6.1.zip |
| PackageFileSize: 1.094 MiB |
##############################################################################
##############################################################################
###
### Running command:
###
### rm -rf consensus.buildbin-libdir && mkdir consensus.buildbin-libdir && C:\Users\biocbuild\bbs-3.11-bioc\R\bin\R.exe CMD INSTALL --merge-multiarch --build --library=consensus.buildbin-libdir consensus_1.6.1.tar.gz
###
##############################################################################
##############################################################################
install for i386
* installing *source* package 'consensus' ...
** using staged installation
** R
** data
** inst
** byte-compile and prepare package for lazy loading
** help
*** installing help indices
converting help for package 'consensus'
finding HTML links ... done
Agilent html
ConsensusFit-class html
Huex html
MultiMeasure-class html
MultiMeasure html
RNASeq html
U133A html
consensus-internal html
consensus-package html
fitConsensus html
plotMarginals html
plotMostDiscordant html
plotOneFit html
** building package indices
** installing vignettes
** testing if installed package can be loaded from temporary location
** testing if installed package can be loaded from final location
** testing if installed package keeps a record of temporary installation path
install for x64
* installing *source* package 'consensus' ...
** testing if installed package can be loaded
* MD5 sums
packaged installation of 'consensus' as consensus_1.6.1.zip
* DONE (consensus)