| Back to Multiple platform build/check report for BioC 3.11 |
|
This page was generated on 2020-10-17 11:56:21 -0400 (Sat, 17 Oct 2020).
| TO THE DEVELOPERS/MAINTAINERS OF THE compartmap PACKAGE: Please make sure to use the following settings in order to reproduce any error or warning you see on this page. |
| Package 354/1905 | Hostname | OS / Arch | INSTALL | BUILD | CHECK | BUILD BIN | ||||||
| compartmap 1.6.0 Benjamin Johnson
| malbec2 | Linux (Ubuntu 18.04.4 LTS) / x86_64 | OK | OK | WARNINGS | |||||||
| tokay2 | Windows Server 2012 R2 Standard / x64 | OK | OK | WARNINGS | [ OK ] | |||||||
| machv2 | macOS 10.14.6 Mojave / x86_64 | OK | OK | WARNINGS | OK |
| Package: compartmap |
| Version: 1.6.0 |
| Command: rm -rf compartmap.buildbin-libdir && mkdir compartmap.buildbin-libdir && C:\Users\biocbuild\bbs-3.11-bioc\R\bin\R.exe CMD INSTALL --merge-multiarch --build --library=compartmap.buildbin-libdir compartmap_1.6.0.tar.gz |
| StartedAt: 2020-10-17 10:10:53 -0400 (Sat, 17 Oct 2020) |
| EndedAt: 2020-10-17 10:12:23 -0400 (Sat, 17 Oct 2020) |
| EllapsedTime: 90.2 seconds |
| RetCode: 0 |
| Status: OK |
| PackageFile: compartmap_1.6.0.zip |
| PackageFileSize: 2.972 MiB |
##############################################################################
##############################################################################
###
### Running command:
###
### rm -rf compartmap.buildbin-libdir && mkdir compartmap.buildbin-libdir && C:\Users\biocbuild\bbs-3.11-bioc\R\bin\R.exe CMD INSTALL --merge-multiarch --build --library=compartmap.buildbin-libdir compartmap_1.6.0.tar.gz
###
##############################################################################
##############################################################################
install for i386
* installing *source* package 'compartmap' ...
** using staged installation
** R
** data
** inst
** byte-compile and prepare package for lazy loading
** help
*** installing help indices
converting help for package 'compartmap'
finding HTML links ... done
array.data.chr14 html
filtered.data.chr14 html
fisherZ html
getABSignal html
getATACABsignal html
getArrayABsignal html
getBinMatrix html
getCompartments html
getCorMatrix html
ifisherZ html
plotAB html
** building package indices
** installing vignettes
** testing if installed package can be loaded from temporary location
** testing if installed package can be loaded from final location
** testing if installed package keeps a record of temporary installation path
install for x64
* installing *source* package 'compartmap' ...
** testing if installed package can be loaded
* MD5 sums
packaged installation of 'compartmap' as compartmap_1.6.0.zip
* DONE (compartmap)