| Back to Multiple platform build/check report for BioC 3.11 |
|
This page was generated on 2020-10-17 11:56:22 -0400 (Sat, 17 Oct 2020).
| TO THE DEVELOPERS/MAINTAINERS OF THE compEpiTools PACKAGE: Please make sure to use the following settings in order to reproduce any error or warning you see on this page. |
| Package 357/1905 | Hostname | OS / Arch | INSTALL | BUILD | CHECK | BUILD BIN | ||||||
| compEpiTools 1.22.0 Kamal Kishore
| malbec2 | Linux (Ubuntu 18.04.4 LTS) / x86_64 | OK | OK | OK | |||||||
| tokay2 | Windows Server 2012 R2 Standard / x64 | OK | OK | OK | [ OK ] | |||||||
| machv2 | macOS 10.14.6 Mojave / x86_64 | OK | OK | OK | OK |
| Package: compEpiTools |
| Version: 1.22.0 |
| Command: rm -rf compEpiTools.buildbin-libdir && mkdir compEpiTools.buildbin-libdir && C:\Users\biocbuild\bbs-3.11-bioc\R\bin\R.exe CMD INSTALL --merge-multiarch --build --library=compEpiTools.buildbin-libdir compEpiTools_1.22.0.tar.gz |
| StartedAt: 2020-10-17 10:11:18 -0400 (Sat, 17 Oct 2020) |
| EndedAt: 2020-10-17 10:13:24 -0400 (Sat, 17 Oct 2020) |
| EllapsedTime: 125.1 seconds |
| RetCode: 0 |
| Status: OK |
| PackageFile: compEpiTools_1.22.0.zip |
| PackageFileSize: 2.42 MiB |
##############################################################################
##############################################################################
###
### Running command:
###
### rm -rf compEpiTools.buildbin-libdir && mkdir compEpiTools.buildbin-libdir && C:\Users\biocbuild\bbs-3.11-bioc\R\bin\R.exe CMD INSTALL --merge-multiarch --build --library=compEpiTools.buildbin-libdir compEpiTools_1.22.0.tar.gz
###
##############################################################################
##############################################################################
install for i386
* installing *source* package 'compEpiTools' ...
** using staged installation
** R
** inst
** byte-compile and prepare package for lazy loading
groupGOTerms: GOBPTerm, GOMFTerm, GOCCTerm environments built.
** help
*** installing help indices
converting help for package 'compEpiTools'
finding HTML links ... done
GR2fasta-methods html
GRanges2ucsc-methods html
GRangesInPromoters-methods html
GRannotate-methods html
GRannotateSimple html
GRbaseCoverage-methods html
GRcoverage-methods html
GRcoverageSummit-methods html
GRenrichment-methods html
GRmidpoint-methods html
GRsetwidth html
TSS html
compEpiTools-package html
countOverlapsInBins-methods html
distanceFromTSS-methods html
enhancers html
findLncRNA html
getPromoterClass-methods html
finding level-2 HTML links ... done
heatmapData html
heatmapPlot html
makeGtfFromDb html
matchEnhancers html
overlapOfGRanges-methods html
palette2d html
plotStallingIndex html
simplifyGOterms html
stallingIndex html
topGOres html
ucsc2GRanges html
unionMaxScore-methods html
** building package indices
** installing vignettes
** testing if installed package can be loaded from temporary location
groupGOTerms: GOBPTerm, GOMFTerm, GOCCTerm environments built.
** testing if installed package can be loaded from final location
groupGOTerms: GOBPTerm, GOMFTerm, GOCCTerm environments built.
** testing if installed package keeps a record of temporary installation path
install for x64
* installing *source* package 'compEpiTools' ...
** testing if installed package can be loaded
groupGOTerms: GOBPTerm, GOMFTerm, GOCCTerm environments built.
* MD5 sums
packaged installation of 'compEpiTools' as compEpiTools_1.22.0.zip
* DONE (compEpiTools)