| Back to Multiple platform build/check report for BioC 3.11 |
|
This page was generated on 2020-03-12 14:01:10 -0400 (Thu, 12 Mar 2020).
| Package 334/1838 | Hostname | OS / Arch | INSTALL | BUILD | CHECK | BUILD BIN | ||||||
| cobindR 1.25.0 Manuela Benary
| malbec2 | Linux (Ubuntu 18.04.4 LTS) / x86_64 | OK | OK | ERROR | |||||||
| tokay2 | Windows Server 2012 R2 Standard / x64 | OK | OK | ERROR | [ OK ] |
| Package: cobindR |
| Version: 1.25.0 |
| Command: rm -rf cobindR.buildbin-libdir && mkdir cobindR.buildbin-libdir && C:\Users\biocbuild\bbs-3.11-bioc\R\bin\R.exe CMD INSTALL --merge-multiarch --build --library=cobindR.buildbin-libdir cobindR_1.25.0.tar.gz |
| StartedAt: 2020-03-12 12:05:54 -0400 (Thu, 12 Mar 2020) |
| EndedAt: 2020-03-12 12:07:24 -0400 (Thu, 12 Mar 2020) |
| EllapsedTime: 89.6 seconds |
| RetCode: 0 |
| Status: OK |
| PackageFile: cobindR_1.25.0.zip |
| PackageFileSize: 1.495 MiB |
##############################################################################
##############################################################################
###
### Running command:
###
### rm -rf cobindR.buildbin-libdir && mkdir cobindR.buildbin-libdir && C:\Users\biocbuild\bbs-3.11-bioc\R\bin\R.exe CMD INSTALL --merge-multiarch --build --library=cobindR.buildbin-libdir cobindR_1.25.0.tar.gz
###
##############################################################################
##############################################################################
install for i386
* installing *source* package 'cobindR' ...
** using staged installation
** R
** inst
** byte-compile and prepare package for lazy loading
Creating a new generic function for 'sequence' in package 'cobindR'
Creating a new generic function for 'path' in package 'cobindR'
Creating a new generic function for 'path<-' in package 'cobindR'
Creating a generic function for 'write' from package 'base' in package 'cobindR'
Creating a generic function for 'write.fasta' from package 'seqinr' in package 'cobindR'
** help
*** installing help indices
converting help for package 'cobindR'
finding HTML links ... done
SeqObj-class html
bg_binding_sites html
finding level-2 HTML links ... done
bg_pairs html
bg_sequence_origin html
bg_sequence_source html
bg_sequence_type html
bg_sequences html
binding_sites html
cobindRConfiguration html
cobindr-class html
cobindr-internal html
cobindr-package html
comment html
configuration-class html
configuration html
downstream html
experiment_description html
fdrThreshold html
find.pairs html
get.bindingsite.ranges html
get.pairs html
get.significant.pairs html
id html
location html
mart html
max_distance html
name html
pValue html
pairs html
pairs_of_interest html
path html
pfm html
pfm_path html
plot.detrending html
plot.gc html
plot.pairdistance html
plot.pairdistribution html
plot.positionprofile html
plot.positions html
plot.positions.simple html
plot.tfbs.heatmap html
plot.tfbs.venndiagram html
plot.tfbslogo html
predicted2pwm html
pseudocount html
rtfbs html
search.gadem html
search.pwm html
seqObj html
sequence html
sequence_origin html
sequence_source html
sequence_type html
sequences html
species html
testCpG html
threshold html
uid html
upstream html
write.bindingsites html
write.bindingsites.table html
write.pairs html
write.sequences html
** building package indices
** installing vignettes
** testing if installed package can be loaded from temporary location
Warning: multiple methods tables found for 'path'
Warning: multiple methods tables found for 'path<-'
** testing if installed package can be loaded from final location
Warning: multiple methods tables found for 'path'
Warning: multiple methods tables found for 'path<-'
** testing if installed package keeps a record of temporary installation path
install for x64
* installing *source* package 'cobindR' ...
** testing if installed package can be loaded
Warning: multiple methods tables found for 'path'
Warning: multiple methods tables found for 'path<-'
* MD5 sums
packaged installation of 'cobindR' as cobindR_1.25.0.zip
* DONE (cobindR)