| Back to Multiple platform build/check report for BioC 3.11 |
|
This page was generated on 2020-10-17 11:58:16 -0400 (Sat, 17 Oct 2020).
| TO THE DEVELOPERS/MAINTAINERS OF THE cobindR PACKAGE: Please make sure to use the following settings in order to reproduce any error or warning you see on this page. |
| Package 341/1905 | Hostname | OS / Arch | INSTALL | BUILD | CHECK | BUILD BIN | ||||||
Manuela Benary
| malbec2 | Linux (Ubuntu 18.04.4 LTS) / x86_64 | ERROR | ERROR | skipped | |||||||
| tokay2 | Windows Server 2012 R2 Standard / x64 | ERROR | ERROR | skipped | skipped | |||||||
| machv2 | macOS 10.14.6 Mojave / x86_64 | ERROR | [ ERROR ] | skipped | skipped |
| Package: cobindR |
| Version: 1.26.0 |
| Command: /Library/Frameworks/R.framework/Versions/Current/Resources/bin/R CMD build --keep-empty-dirs --no-resave-data cobindR |
| StartedAt: 2020-10-16 18:23:41 -0400 (Fri, 16 Oct 2020) |
| EndedAt: 2020-10-16 18:23:46 -0400 (Fri, 16 Oct 2020) |
| EllapsedTime: 4.8 seconds |
| RetCode: 1 |
| Status: ERROR |
| PackageFile: None |
| PackageFileSize: NA |
##############################################################################
##############################################################################
###
### Running command:
###
### /Library/Frameworks/R.framework/Versions/Current/Resources/bin/R CMD build --keep-empty-dirs --no-resave-data cobindR
###
##############################################################################
##############################################################################
* checking for file ‘cobindR/DESCRIPTION’ ... OK
* preparing ‘cobindR’:
* checking DESCRIPTION meta-information ... OK
* installing the package to build vignettes
-----------------------------------
ERROR: dependency ‘rtfbs’ is not available for package ‘cobindR’
* removing ‘/private/tmp/Rtmp5le1cq/Rinst275167b00d5a/cobindR’
-----------------------------------
ERROR: package installation failed