| Back to Multiple platform build/check report for BioC 3.11 |
|
This page was generated on 2020-10-17 11:54:34 -0400 (Sat, 17 Oct 2020).
| TO THE DEVELOPERS/MAINTAINERS OF THE clustifyr PACKAGE: Please make sure to use the following settings in order to reproduce any error or warning you see on this page. |
| Package 323/1905 | Hostname | OS / Arch | INSTALL | BUILD | CHECK | BUILD BIN | ||||||
| clustifyr 1.0.0 Rui Fu
| malbec2 | Linux (Ubuntu 18.04.4 LTS) / x86_64 | OK | OK | [ OK ] | |||||||
| tokay2 | Windows Server 2012 R2 Standard / x64 | OK | OK | OK | OK | |||||||
| machv2 | macOS 10.14.6 Mojave / x86_64 | OK | OK | OK | OK |
| Package: clustifyr |
| Version: 1.0.0 |
| Command: /home/biocbuild/bbs-3.11-bioc/R/bin/R CMD check --install=check:clustifyr.install-out.txt --library=/home/biocbuild/bbs-3.11-bioc/R/library --no-vignettes --timings clustifyr_1.0.0.tar.gz |
| StartedAt: 2020-10-17 00:00:52 -0400 (Sat, 17 Oct 2020) |
| EndedAt: 2020-10-17 00:07:28 -0400 (Sat, 17 Oct 2020) |
| EllapsedTime: 396.3 seconds |
| RetCode: 0 |
| Status: OK |
| CheckDir: clustifyr.Rcheck |
| Warnings: 0 |
##############################################################################
##############################################################################
###
### Running command:
###
### /home/biocbuild/bbs-3.11-bioc/R/bin/R CMD check --install=check:clustifyr.install-out.txt --library=/home/biocbuild/bbs-3.11-bioc/R/library --no-vignettes --timings clustifyr_1.0.0.tar.gz
###
##############################################################################
##############################################################################
* using log directory ‘/home/biocbuild/bbs-3.11-bioc/meat/clustifyr.Rcheck’
* using R version 4.0.3 (2020-10-10)
* using platform: x86_64-pc-linux-gnu (64-bit)
* using session charset: UTF-8
* using option ‘--no-vignettes’
* checking for file ‘clustifyr/DESCRIPTION’ ... OK
* this is package ‘clustifyr’ version ‘1.0.0’
* package encoding: UTF-8
* checking package namespace information ... OK
* checking package dependencies ... OK
* checking if this is a source package ... OK
* checking if there is a namespace ... OK
* checking for hidden files and directories ... OK
* checking for portable file names ... OK
* checking for sufficient/correct file permissions ... OK
* checking whether package ‘clustifyr’ can be installed ... OK
* checking installed package size ... OK
* checking package directory ... OK
* checking ‘build’ directory ... OK
* checking DESCRIPTION meta-information ... OK
* checking top-level files ... OK
* checking for left-over files ... OK
* checking index information ... OK
* checking package subdirectories ... OK
* checking R files for non-ASCII characters ... OK
* checking R files for syntax errors ... OK
* checking whether the package can be loaded ... OK
* checking whether the package can be loaded with stated dependencies ... OK
* checking whether the package can be unloaded cleanly ... OK
* checking whether the namespace can be loaded with stated dependencies ... OK
* checking whether the namespace can be unloaded cleanly ... OK
* checking dependencies in R code ... OK
* checking S3 generic/method consistency ... OK
* checking replacement functions ... OK
* checking foreign function calls ... OK
* checking R code for possible problems ... OK
* checking Rd files ... OK
* checking Rd metadata ... OK
* checking Rd cross-references ... OK
* checking for missing documentation entries ... OK
* checking for code/documentation mismatches ... OK
* checking Rd \usage sections ... OK
* checking Rd contents ... OK
* checking for unstated dependencies in examples ... OK
* checking contents of ‘data’ directory ... OK
* checking data for non-ASCII characters ... OK
* checking data for ASCII and uncompressed saves ... OK
* checking files in ‘vignettes’ ... OK
* checking examples ... OK
Examples with CPU (user + system) or elapsed time > 5s
user system elapsed
overcluster_test 26.887 0.012 26.903
plot_pathway_gsea 5.410 0.004 5.417
calculate_pathway_gsea 5.061 0.092 5.162
* checking for unstated dependencies in ‘tests’ ... OK
* checking tests ...
Running ‘testthat.R’
OK
* checking for unstated dependencies in vignettes ... OK
* checking package vignettes in ‘inst/doc’ ... OK
* checking running R code from vignettes ... SKIPPED
* checking re-building of vignette outputs ... SKIPPED
* checking PDF version of manual ... OK
* DONE
Status: OK
clustifyr.Rcheck/00install.out
############################################################################## ############################################################################## ### ### Running command: ### ### /home/biocbuild/bbs-3.11-bioc/R/bin/R CMD INSTALL clustifyr ### ############################################################################## ############################################################################## * installing to library ‘/home/biocbuild/bbs-3.11-bioc/R/library’ * installing *source* package ‘clustifyr’ ... ** using staged installation ** R ** data *** moving datasets to lazyload DB ** inst ** byte-compile and prepare package for lazy loading ** help *** installing help indices *** copying figures ** building package indices ** installing vignettes ** testing if installed package can be loaded from temporary location ** testing if installed package can be loaded from final location ** testing if installed package keeps a record of temporary installation path * DONE (clustifyr)
clustifyr.Rcheck/tests/testthat.Rout
R version 4.0.3 (2020-10-10) -- "Bunny-Wunnies Freak Out"
Copyright (C) 2020 The R Foundation for Statistical Computing
Platform: x86_64-pc-linux-gnu (64-bit)
R is free software and comes with ABSOLUTELY NO WARRANTY.
You are welcome to redistribute it under certain conditions.
Type 'license()' or 'licence()' for distribution details.
R is a collaborative project with many contributors.
Type 'contributors()' for more information and
'citation()' on how to cite R or R packages in publications.
Type 'demo()' for some demos, 'help()' for on-line help, or
'help.start()' for an HTML browser interface to help.
Type 'q()' to quit R.
> library(testthat)
> library(clustifyr)
>
> test_check("clustifyr")
══ testthat results ═══════════════════════════════════════════════════════════
[ OK: 159 | SKIPPED: 0 | WARNINGS: 0 | FAILED: 0 ]
>
> proc.time()
user system elapsed
140.478 4.856 142.562
clustifyr.Rcheck/clustifyr-Ex.timings
| name | user | system | elapsed | |
| average_clusters | 0.153 | 0.004 | 0.156 | |
| binarize_expr | 0.054 | 0.004 | 0.059 | |
| calculate_pathway_gsea | 5.061 | 0.092 | 5.162 | |
| call_consensus | 0.253 | 0.008 | 0.261 | |
| call_to_metadata | 0.001 | 0.000 | 0.000 | |
| clustify | 0.251 | 0.012 | 0.263 | |
| clustify_lists | 0.187 | 0.004 | 0.190 | |
| clustify_nudge | 1.186 | 0.000 | 1.187 | |
| collapse_to_cluster | 2.164 | 0.020 | 2.184 | |
| compare_lists | 0.141 | 0.012 | 0.154 | |
| cor_to_call | 0.097 | 0.004 | 0.101 | |
| cor_to_call_rank | 0.079 | 0.000 | 0.079 | |
| cor_to_call_topn | 0.091 | 0.000 | 0.091 | |
| downsample_matrix | 0.750 | 0.008 | 0.758 | |
| feature_select_PCA | 0.011 | 0.004 | 0.014 | |
| file_marker_parse | 0.001 | 0.002 | 0.017 | |
| find_rank_bias | 0.134 | 0.001 | 0.136 | |
| gene_pct_markerm | 0.595 | 0.000 | 0.595 | |
| get_vargenes | 0.000 | 0.000 | 0.001 | |
| gmt_to_list | 0.176 | 0.016 | 0.191 | |
| insert_meta_object | 0 | 0 | 0 | |
| marker_select | 0.023 | 0.000 | 0.023 | |
| matrixize_markers | 0.031 | 0.000 | 0.031 | |
| object_data | 0.050 | 0.000 | 0.051 | |
| object_ref | 0.005 | 0.000 | 0.005 | |
| overcluster | 1.503 | 0.124 | 1.626 | |
| overcluster_test | 26.887 | 0.012 | 26.903 | |
| parse_loc_object | 0.001 | 0.001 | 0.001 | |
| plot_best_call | 0.666 | 0.003 | 0.669 | |
| plot_cor | 0.738 | 0.004 | 0.742 | |
| plot_cor_heatmap | 1.119 | 0.000 | 1.119 | |
| plot_dims | 0.399 | 0.000 | 0.400 | |
| plot_gene | 0.674 | 0.000 | 0.674 | |
| plot_pathway_gsea | 5.410 | 0.004 | 5.417 | |
| pos_neg_marker | 0.014 | 0.000 | 0.013 | |
| pos_neg_select | 0.074 | 0.000 | 0.074 | |
| ref_feature_select | 0.038 | 0.000 | 0.038 | |
| ref_marker_select | 0.218 | 0.000 | 0.218 | |
| reverse_marker_matrix | 0.005 | 0.000 | 0.005 | |
| run_gsea | 0.210 | 0.000 | 0.211 | |
| seurat_meta | 0.000 | 0.000 | 0.001 | |
| seurat_ref | 0.006 | 0.000 | 0.006 | |
| write_meta | 0.095 | 0.000 | 0.095 | |