| Back to Multiple platform build/check report for BioC 3.11 |
|
This page was generated on 2020-10-17 11:56:19 -0400 (Sat, 17 Oct 2020).
| TO THE DEVELOPERS/MAINTAINERS OF THE clusterSeq PACKAGE: Please make sure to use the following settings in order to reproduce any error or warning you see on this page. |
| Package 320/1905 | Hostname | OS / Arch | INSTALL | BUILD | CHECK | BUILD BIN | ||||||
| clusterSeq 1.12.0 Thomas J. Hardcastle
| malbec2 | Linux (Ubuntu 18.04.4 LTS) / x86_64 | OK | OK | OK | |||||||
| tokay2 | Windows Server 2012 R2 Standard / x64 | OK | OK | WARNINGS | [ OK ] | |||||||
| machv2 | macOS 10.14.6 Mojave / x86_64 | OK | OK | OK | OK |
| Package: clusterSeq |
| Version: 1.12.0 |
| Command: rm -rf clusterSeq.buildbin-libdir && mkdir clusterSeq.buildbin-libdir && C:\Users\biocbuild\bbs-3.11-bioc\R\bin\R.exe CMD INSTALL --merge-multiarch --build --library=clusterSeq.buildbin-libdir clusterSeq_1.12.0.tar.gz |
| StartedAt: 2020-10-17 10:08:21 -0400 (Sat, 17 Oct 2020) |
| EndedAt: 2020-10-17 10:09:12 -0400 (Sat, 17 Oct 2020) |
| EllapsedTime: 50.6 seconds |
| RetCode: 0 |
| Status: OK |
| PackageFile: clusterSeq_1.12.0.zip |
| PackageFileSize: 1.045 MiB |
##############################################################################
##############################################################################
###
### Running command:
###
### rm -rf clusterSeq.buildbin-libdir && mkdir clusterSeq.buildbin-libdir && C:\Users\biocbuild\bbs-3.11-bioc\R\bin\R.exe CMD INSTALL --merge-multiarch --build --library=clusterSeq.buildbin-libdir clusterSeq_1.12.0.tar.gz
###
##############################################################################
##############################################################################
install for i386
* installing *source* package 'clusterSeq' ...
** using staged installation
** R
** data
** inst
** byte-compile and prepare package for lazy loading
** help
*** installing help indices
converting help for package 'clusterSeq'
finding HTML links ... done
associatePosteriors html
Rd warning: C:/Users/biocbuild/bbs-3.11-bioc/tmpdir/RtmpED59tq/R.INSTALL1b1026b7fd3/clusterSeq/man/associatePosteriors.Rd:19: file link 'countData' in package 'baySeq' does not exist and so has been treated as a topic
Rd warning: C:/Users/biocbuild/bbs-3.11-bioc/tmpdir/RtmpED59tq/R.INSTALL1b1026b7fd3/clusterSeq/man/associatePosteriors.Rd:33: file link 'countData' in package 'baySeq' does not exist and so has been treated as a topic
cD.ratThymus-data html
Rd warning: C:/Users/biocbuild/bbs-3.11-bioc/tmpdir/RtmpED59tq/R.INSTALL1b1026b7fd3/clusterSeq/man/cD.ratThymus-data.Rd:9: file link 'countData' in package 'baySeq' does not exist and so has been treated as a topic
Rd warning: C:/Users/biocbuild/bbs-3.11-bioc/tmpdir/RtmpED59tq/R.INSTALL1b1026b7fd3/clusterSeq/man/cD.ratThymus-data.Rd:19: file link 'countData' in package 'baySeq' does not exist and so has been treated as a topic
Rd warning: C:/Users/biocbuild/bbs-3.11-bioc/tmpdir/RtmpED59tq/R.INSTALL1b1026b7fd3/clusterSeq/man/cD.ratThymus-data.Rd:17: file link 'countData' in package 'baySeq' does not exist and so has been treated as a topic
clusterSeq-package html
kCluster html
Rd warning: C:/Users/biocbuild/bbs-3.11-bioc/tmpdir/RtmpED59tq/R.INSTALL1b1026b7fd3/clusterSeq/man/kCluster.Rd:20: file link 'countData' in package 'baySeq' does not exist and so has been treated as a topic
Rd warning: C:/Users/biocbuild/bbs-3.11-bioc/tmpdir/RtmpED59tq/R.INSTALL1b1026b7fd3/clusterSeq/man/kCluster.Rd:70: file link 'countData' in package 'baySeq' does not exist and so has been treated as a topic
makeClusters html
makeClustersFF html
plotCluster html
ratThymus-data html
wallace html
** building package indices
** installing vignettes
** testing if installed package can be loaded from temporary location
** testing if installed package can be loaded from final location
** testing if installed package keeps a record of temporary installation path
install for x64
* installing *source* package 'clusterSeq' ...
** testing if installed package can be loaded
* MD5 sums
packaged installation of 'clusterSeq' as clusterSeq_1.12.0.zip
* DONE (clusterSeq)