| Back to Multiple platform build/check report for BioC 3.11 |
|
This page was generated on 2020-10-17 11:56:18 -0400 (Sat, 17 Oct 2020).
| TO THE DEVELOPERS/MAINTAINERS OF THE clst PACKAGE: Please make sure to use the following settings in order to reproduce any error or warning you see on this page. |
| Package 313/1905 | Hostname | OS / Arch | INSTALL | BUILD | CHECK | BUILD BIN | ||||||
| clst 1.36.0 Noah Hoffman
| malbec2 | Linux (Ubuntu 18.04.4 LTS) / x86_64 | OK | OK | WARNINGS | |||||||
| tokay2 | Windows Server 2012 R2 Standard / x64 | OK | OK | WARNINGS | [ OK ] | |||||||
| machv2 | macOS 10.14.6 Mojave / x86_64 | OK | OK | WARNINGS | OK |
| Package: clst |
| Version: 1.36.0 |
| Command: rm -rf clst.buildbin-libdir && mkdir clst.buildbin-libdir && C:\Users\biocbuild\bbs-3.11-bioc\R\bin\R.exe CMD INSTALL --merge-multiarch --build --library=clst.buildbin-libdir clst_1.36.0.tar.gz |
| StartedAt: 2020-10-17 10:07:49 -0400 (Sat, 17 Oct 2020) |
| EndedAt: 2020-10-17 10:08:17 -0400 (Sat, 17 Oct 2020) |
| EllapsedTime: 27.5 seconds |
| RetCode: 0 |
| Status: OK |
| PackageFile: clst_1.36.0.zip |
| PackageFileSize: 1.617 MiB |
##############################################################################
##############################################################################
###
### Running command:
###
### rm -rf clst.buildbin-libdir && mkdir clst.buildbin-libdir && C:\Users\biocbuild\bbs-3.11-bioc\R\bin\R.exe CMD INSTALL --merge-multiarch --build --library=clst.buildbin-libdir clst_1.36.0.tar.gz
###
##############################################################################
##############################################################################
install for i386
* installing *source* package 'clst' ...
** using staged installation
** R
** data
*** moving datasets to lazyload DB
** inst
** byte-compile and prepare package for lazy loading
** help
*** installing help indices
converting help for package 'clst'
finding HTML links ... done
actino html
bvseqs html
classify html
clst-package html
findThreshold html
plotDistances html
Rd warning: C:/Users/biocbuild/bbs-3.11-bioc/tmpdir/RtmpyGITZN/R.INSTALL19882d753379/clst/man/plotDistances.Rd:41: file link 'bwplot' in package 'lattice' does not exist and so has been treated as a topic
printClst html
scaleDistPlot html
strep html
** building package indices
** installing vignettes
** testing if installed package can be loaded from temporary location
** testing if installed package can be loaded from final location
** testing if installed package keeps a record of temporary installation path
install for x64
* installing *source* package 'clst' ...
** testing if installed package can be loaded
* MD5 sums
packaged installation of 'clst' as clst_1.36.0.zip
* DONE (clst)