| Back to Multiple platform build/check report for BioC 3.11 |
|
This page was generated on 2020-10-17 11:56:18 -0400 (Sat, 17 Oct 2020).
| TO THE DEVELOPERS/MAINTAINERS OF THE clippda PACKAGE: Please make sure to use the following settings in order to reproduce any error or warning you see on this page. |
| Package 307/1905 | Hostname | OS / Arch | INSTALL | BUILD | CHECK | BUILD BIN | ||||||
| clippda 1.38.0 Stephen Nyangoma
| malbec2 | Linux (Ubuntu 18.04.4 LTS) / x86_64 | OK | OK | WARNINGS | |||||||
| tokay2 | Windows Server 2012 R2 Standard / x64 | OK | OK | WARNINGS | [ OK ] | |||||||
| machv2 | macOS 10.14.6 Mojave / x86_64 | OK | OK | WARNINGS | OK |
| Package: clippda |
| Version: 1.38.0 |
| Command: rm -rf clippda.buildbin-libdir && mkdir clippda.buildbin-libdir && C:\Users\biocbuild\bbs-3.11-bioc\R\bin\R.exe CMD INSTALL --merge-multiarch --build --library=clippda.buildbin-libdir clippda_1.38.0.tar.gz |
| StartedAt: 2020-10-17 10:07:23 -0400 (Sat, 17 Oct 2020) |
| EndedAt: 2020-10-17 10:08:03 -0400 (Sat, 17 Oct 2020) |
| EllapsedTime: 39.9 seconds |
| RetCode: 0 |
| Status: OK |
| PackageFile: clippda_1.38.0.zip |
| PackageFileSize: 1.689 MiB |
##############################################################################
##############################################################################
###
### Running command:
###
### rm -rf clippda.buildbin-libdir && mkdir clippda.buildbin-libdir && C:\Users\biocbuild\bbs-3.11-bioc\R\bin\R.exe CMD INSTALL --merge-multiarch --build --library=clippda.buildbin-libdir clippda_1.38.0.tar.gz
###
##############################################################################
##############################################################################
install for i386
* installing *source* package 'clippda' ...
** using staged installation
** R
** data
** inst
** byte-compile and prepare package for lazy loading
** help
*** installing help indices
converting help for package 'clippda'
finding HTML links ... done
ZvaluescasesVcontrolsPlots html
ZvaluesfrommultinomPlots html
aclinicalProteomicsData-class html
aclinicalProteomicsData-methods html
betweensampleVariance-methods html
betweensampleVariance html
checkNo.replicates html
clippda-package html
f html
fisherInformation-methods html
fisherInformation html
liverRawData html
liver_pheno html
liverdata html
mostSimilarTwo html
negativeIntensitiesCorrection html
phenoDataFrame html
pheno_urine html
preProcRepeatedPeakData html
proteomicsExprsData-methods html
proteomicsExprsData html
proteomicspData-methods html
proteomicspData html
replicateCorrelations-methods html
replicateCorrelations html
sampleClusteredData html
sampleSize-methods html
sampleSize html
sampleSize3DscatterPlots html
sampleSizeContourPlots html
sampleSizeParameters-methods html
sampleSizeParameters html
sample_technicalVariance-methods html
sample_technicalVariance html
show-methods html
spectrumFilter html
ztwo html
** building package indices
** installing vignettes
** testing if installed package can be loaded from temporary location
** testing if installed package can be loaded from final location
** testing if installed package keeps a record of temporary installation path
install for x64
* installing *source* package 'clippda' ...
** testing if installed package can be loaded
* MD5 sums
packaged installation of 'clippda' as clippda_1.38.0.zip
* DONE (clippda)