| Back to Multiple platform build/check report for BioC 3.11 |
|
This page was generated on 2020-10-17 11:56:13 -0400 (Sat, 17 Oct 2020).
| TO THE DEVELOPERS/MAINTAINERS OF THE cellity PACKAGE: Please make sure to use the following settings in order to reproduce any error or warning you see on this page. |
| Package 250/1905 | Hostname | OS / Arch | INSTALL | BUILD | CHECK | BUILD BIN | ||||||
| cellity 1.16.0 Tomislav Ilicic
| malbec2 | Linux (Ubuntu 18.04.4 LTS) / x86_64 | OK | OK | OK | |||||||
| tokay2 | Windows Server 2012 R2 Standard / x64 | OK | OK | OK | [ OK ] | |||||||
| machv2 | macOS 10.14.6 Mojave / x86_64 | OK | OK | OK | OK |
| Package: cellity |
| Version: 1.16.0 |
| Command: rm -rf cellity.buildbin-libdir && mkdir cellity.buildbin-libdir && C:\Users\biocbuild\bbs-3.11-bioc\R\bin\R.exe CMD INSTALL --merge-multiarch --build --library=cellity.buildbin-libdir cellity_1.16.0.tar.gz |
| StartedAt: 2020-10-17 10:02:54 -0400 (Sat, 17 Oct 2020) |
| EndedAt: 2020-10-17 10:04:20 -0400 (Sat, 17 Oct 2020) |
| EllapsedTime: 86.3 seconds |
| RetCode: 0 |
| Status: OK |
| PackageFile: cellity_1.16.0.zip |
| PackageFileSize: 1.291 MiB |
##############################################################################
##############################################################################
###
### Running command:
###
### rm -rf cellity.buildbin-libdir && mkdir cellity.buildbin-libdir && C:\Users\biocbuild\bbs-3.11-bioc\R\bin\R.exe CMD INSTALL --merge-multiarch --build --library=cellity.buildbin-libdir cellity_1.16.0.tar.gz
###
##############################################################################
##############################################################################
install for i386
* installing *source* package 'cellity' ...
** using staged installation
** R
** data
*** moving datasets to lazyload DB
** inst
** byte-compile and prepare package for lazy loading
** help
*** installing help indices
converting help for package 'cellity'
finding HTML links ... done
assess_cell_quality_PCA html
assess_cell_quality_SVM html
cellity-package html
extra_human_genes html
extra_mouse_genes html
extract_features html
feature_generation html
feature_info html
mES1_features html
mES1_labels html
multiplot html
normalise_by_factor html
param_mES_all html
param_mES_common html
plot_pca html
sample_counts html
sample_stats html
simple_cap html
sum_prop html
training_mES_features html
training_mES_labels html
uni.plot html
** building package indices
** installing vignettes
** testing if installed package can be loaded from temporary location
** testing if installed package can be loaded from final location
** testing if installed package keeps a record of temporary installation path
install for x64
* installing *source* package 'cellity' ...
** testing if installed package can be loaded
* MD5 sums
packaged installation of 'cellity' as cellity_1.16.0.zip
* DONE (cellity)