| Back to Multiple platform build/check report for BioC 3.11 |
|
This page was generated on 2020-10-17 11:56:13 -0400 (Sat, 17 Oct 2020).
| TO THE DEVELOPERS/MAINTAINERS OF THE cellTree PACKAGE: Please make sure to use the following settings in order to reproduce any error or warning you see on this page. |
| Package 257/1905 | Hostname | OS / Arch | INSTALL | BUILD | CHECK | BUILD BIN | ||||||
| cellTree 1.18.0 David duVerle
| malbec2 | Linux (Ubuntu 18.04.4 LTS) / x86_64 | OK | OK | OK | |||||||
| tokay2 | Windows Server 2012 R2 Standard / x64 | [ OK ] | OK | TIMEOUT | OK | |||||||
| machv2 | macOS 10.14.6 Mojave / x86_64 | OK | OK | OK | OK |
| Package: cellTree |
| Version: 1.18.0 |
| Command: C:\cygwin\bin\curl.exe -O https://malbec2.bioconductor.org/BBS/3.11/bioc/src/contrib/cellTree_1.18.0.tar.gz && rm -rf cellTree.buildbin-libdir && mkdir cellTree.buildbin-libdir && C:\Users\biocbuild\bbs-3.11-bioc\R\bin\R.exe CMD INSTALL --merge-multiarch --build --library=cellTree.buildbin-libdir cellTree_1.18.0.tar.gz && C:\Users\biocbuild\bbs-3.11-bioc\R\bin\R.exe CMD INSTALL cellTree_1.18.0.zip && rm cellTree_1.18.0.tar.gz cellTree_1.18.0.zip |
| StartedAt: 2020-10-16 18:16:48 -0400 (Fri, 16 Oct 2020) |
| EndedAt: 2020-10-16 18:17:26 -0400 (Fri, 16 Oct 2020) |
| EllapsedTime: 38.5 seconds |
| RetCode: 0 |
| Status: OK |
##############################################################################
##############################################################################
###
### Running command:
###
### C:\cygwin\bin\curl.exe -O https://malbec2.bioconductor.org/BBS/3.11/bioc/src/contrib/cellTree_1.18.0.tar.gz && rm -rf cellTree.buildbin-libdir && mkdir cellTree.buildbin-libdir && C:\Users\biocbuild\bbs-3.11-bioc\R\bin\R.exe CMD INSTALL --merge-multiarch --build --library=cellTree.buildbin-libdir cellTree_1.18.0.tar.gz && C:\Users\biocbuild\bbs-3.11-bioc\R\bin\R.exe CMD INSTALL cellTree_1.18.0.zip && rm cellTree_1.18.0.tar.gz cellTree_1.18.0.zip
###
##############################################################################
##############################################################################
% Total % Received % Xferd Average Speed Time Time Time Current
Dload Upload Total Spent Left Speed
0 0 0 0 0 0 0 0 --:--:-- --:--:-- --:--:-- 0
100 499k 100 499k 0 0 7060k 0 --:--:-- --:--:-- --:--:-- 7929k
install for i386
* installing *source* package 'cellTree' ...
** using staged installation
** R
** data
*** moving datasets to lazyload DB
** inst
** byte-compile and prepare package for lazy loading
groupGOTerms: GOBPTerm, GOMFTerm, GOCCTerm environments built.
** help
*** installing help indices
converting help for package 'cellTree'
finding HTML links ... done
HSMM_lda_model html
cell.ordering.table html
Rd warning: C:/Users/biocbuild/bbs-3.11-bioc/tmpdir/RtmpSMV1Rl/R.INSTALL23441a23f64/cellTree/man/cell.ordering.table.Rd:10: file link 'igraph' in package 'igraph' does not exist and so has been treated as a topic
cellTree-package html
compute.backbone.tree html
Rd warning: C:/Users/biocbuild/bbs-3.11-bioc/tmpdir/RtmpSMV1Rl/R.INSTALL23441a23f64/cellTree/man/compute.backbone.tree.Rd:34: file link 'igraph' in package 'igraph' does not exist and so has been treated as a topic
compute.go.enrichment html
Rd warning: C:/Users/biocbuild/bbs-3.11-bioc/tmpdir/RtmpSMV1Rl/R.INSTALL23441a23f64/cellTree/man/compute.go.enrichment.Rd:30: file link 'igraph' in package 'igraph' does not exist and so has been treated as a topic
compute.lda html
Rd warning: C:/Users/biocbuild/bbs-3.11-bioc/tmpdir/RtmpSMV1Rl/R.INSTALL23441a23f64/cellTree/man/compute.lda.Rd:25: file link 'LDA-class' in package 'topicmodels' does not exist and so has been treated as a topic
Rd warning: C:/Users/biocbuild/bbs-3.11-bioc/tmpdir/RtmpSMV1Rl/R.INSTALL23441a23f64/cellTree/man/compute.lda.Rd:69: file link 'LDA' in package 'topicmodels' does not exist and so has been treated as a topic
Rd warning: C:/Users/biocbuild/bbs-3.11-bioc/tmpdir/RtmpSMV1Rl/R.INSTALL23441a23f64/cellTree/man/compute.lda.Rd:69: file link 'LDA_Gibbscontrol-class' in package 'topicmodels' does not exist and so has been treated as a topic
Rd warning: C:/Users/biocbuild/bbs-3.11-bioc/tmpdir/RtmpSMV1Rl/R.INSTALL23441a23f64/cellTree/man/compute.lda.Rd:69: file link 'CTM_VEMcontrol-class' in package 'topicmodels' does not exist and so has been treated as a topic
ct.plot.go.dag html
Rd warning: C:/Users/biocbuild/bbs-3.11-bioc/tmpdir/RtmpSMV1Rl/R.INSTALL23441a23f64/cellTree/man/ct.plot.go.dag.Rd:27: file link 'igraph' in package 'igraph' does not exist and so has been treated as a topic
ct.plot.grouping html
Rd warning: C:/Users/biocbuild/bbs-3.11-bioc/tmpdir/RtmpSMV1Rl/R.INSTALL23441a23f64/cellTree/man/ct.plot.grouping.Rd:12: file link 'igraph' in package 'igraph' does not exist and so has been treated as a topic
Rd warning: C:/Users/biocbuild/bbs-3.11-bioc/tmpdir/RtmpSMV1Rl/R.INSTALL23441a23f64/cellTree/man/ct.plot.grouping.Rd:31: file link 'igraph' in package 'igraph' does not exist and so has been treated as a topic
ct.plot.heatmap html
ct.plot.topics html
Rd warning: C:/Users/biocbuild/bbs-3.11-bioc/tmpdir/RtmpSMV1Rl/R.INSTALL23441a23f64/cellTree/man/ct.plot.topics.Rd:12: file link 'igraph' in package 'igraph' does not exist and so has been treated as a topic
Rd warning: C:/Users/biocbuild/bbs-3.11-bioc/tmpdir/RtmpSMV1Rl/R.INSTALL23441a23f64/cellTree/man/ct.plot.topics.Rd:27: file link 'igraph' in package 'igraph' does not exist and so has been treated as a topic
get.cell.dists html
go.results.to.latex html
** building package indices
** installing vignettes
** testing if installed package can be loaded from temporary location
groupGOTerms: GOBPTerm, GOMFTerm, GOCCTerm environments built.
** testing if installed package can be loaded from final location
groupGOTerms: GOBPTerm, GOMFTerm, GOCCTerm environments built.
** testing if installed package keeps a record of temporary installation path
install for x64
* installing *source* package 'cellTree' ...
** testing if installed package can be loaded
groupGOTerms: GOBPTerm, GOMFTerm, GOCCTerm environments built.
* MD5 sums
packaged installation of 'cellTree' as cellTree_1.18.0.zip
* DONE (cellTree)
* installing to library 'C:/Users/biocbuild/bbs-3.11-bioc/R/library'
package 'cellTree' successfully unpacked and MD5 sums checked