| Back to Multiple platform build/check report for BioC 3.11 |
|
This page was generated on 2020-10-17 11:56:12 -0400 (Sat, 17 Oct 2020).
| TO THE DEVELOPERS/MAINTAINERS OF THE cbaf PACKAGE: Please make sure to use the following settings in order to reproduce any error or warning you see on this page. |
| Package 238/1905 | Hostname | OS / Arch | INSTALL | BUILD | CHECK | BUILD BIN | ||||||
| cbaf 1.10.1 Arman Shahrisa
| malbec2 | Linux (Ubuntu 18.04.4 LTS) / x86_64 | OK | OK | OK | |||||||
| tokay2 | Windows Server 2012 R2 Standard / x64 | OK | OK | OK | [ OK ] | |||||||
| machv2 | macOS 10.14.6 Mojave / x86_64 | OK | OK | OK | OK |
| Package: cbaf |
| Version: 1.10.1 |
| Command: rm -rf cbaf.buildbin-libdir && mkdir cbaf.buildbin-libdir && C:\Users\biocbuild\bbs-3.11-bioc\R\bin\R.exe CMD INSTALL --merge-multiarch --build --library=cbaf.buildbin-libdir cbaf_1.10.1.tar.gz |
| StartedAt: 2020-10-17 10:02:07 -0400 (Sat, 17 Oct 2020) |
| EndedAt: 2020-10-17 10:02:54 -0400 (Sat, 17 Oct 2020) |
| EllapsedTime: 46.8 seconds |
| RetCode: 0 |
| Status: OK |
| PackageFile: cbaf_1.10.1.zip |
| PackageFileSize: 905.4 KiB |
##############################################################################
##############################################################################
###
### Running command:
###
### rm -rf cbaf.buildbin-libdir && mkdir cbaf.buildbin-libdir && C:\Users\biocbuild\bbs-3.11-bioc\R\bin\R.exe CMD INSTALL --merge-multiarch --build --library=cbaf.buildbin-libdir cbaf_1.10.1.tar.gz
###
##############################################################################
##############################################################################
install for i386
* installing *source* package 'cbaf' ...
** using staged installation
** R
** inst
** byte-compile and prepare package for lazy loading
** help
*** installing help indices
converting help for package 'cbaf'
finding HTML links ... done
automatedStatistics html
availableData html
cleanDatabase html
heatmapOutput html
obtainMultipleStudies html
obtainOneStudy html
processMultipleStudies html
processOneStudy html
xlsxOutput html
** building package indices
** installing vignettes
** testing if installed package can be loaded from temporary location
** testing if installed package can be loaded from final location
** testing if installed package keeps a record of temporary installation path
install for x64
* installing *source* package 'cbaf' ...
** testing if installed package can be loaded
* MD5 sums
packaged installation of 'cbaf' as cbaf_1.10.1.zip
* DONE (cbaf)