| Back to Multiple platform build/check report for BioC 3.11 |
|
This page was generated on 2020-10-17 11:54:31 -0400 (Sat, 17 Oct 2020).
| TO THE DEVELOPERS/MAINTAINERS OF THE cBioPortalData PACKAGE: Please make sure to use the following settings in order to reproduce any error or warning you see on this page. |
| Package 239/1905 | Hostname | OS / Arch | INSTALL | BUILD | CHECK | BUILD BIN | ||||||
| cBioPortalData 2.0.10 Marcel Ramos
| malbec2 | Linux (Ubuntu 18.04.4 LTS) / x86_64 | OK | [ OK ] | OK | |||||||
| tokay2 | Windows Server 2012 R2 Standard / x64 | OK | OK | OK | OK | |||||||
| machv2 | macOS 10.14.6 Mojave / x86_64 | OK | OK | OK | OK |
| Package: cBioPortalData |
| Version: 2.0.10 |
| Command: /home/biocbuild/bbs-3.11-bioc/R/bin/R CMD build --keep-empty-dirs --no-resave-data cBioPortalData |
| StartedAt: 2020-10-16 18:10:11 -0400 (Fri, 16 Oct 2020) |
| EndedAt: 2020-10-16 18:12:10 -0400 (Fri, 16 Oct 2020) |
| EllapsedTime: 118.6 seconds |
| RetCode: 0 |
| Status: OK |
| PackageFile: cBioPortalData_2.0.10.tar.gz |
| PackageFileSize: 502.4 KiB |
############################################################################## ############################################################################## ### ### Running command: ### ### /home/biocbuild/bbs-3.11-bioc/R/bin/R CMD build --keep-empty-dirs --no-resave-data cBioPortalData ### ############################################################################## ############################################################################## * checking for file ‘cBioPortalData/DESCRIPTION’ ... OK * preparing ‘cBioPortalData’: * checking DESCRIPTION meta-information ... OK * installing the package to build vignettes * creating vignettes ... OK * checking for LF line-endings in source and make files and shell scripts * checking for empty or unneeded directories * building ‘cBioPortalData_2.0.10.tar.gz’