| Back to Multiple platform build/check report for BioC 3.11 | 
 | 
This page was generated on 2020-10-17 11:56:10 -0400 (Sat, 17 Oct 2020).
| TO THE DEVELOPERS/MAINTAINERS OF THE biosigner PACKAGE: Please make sure to use the following settings in order to reproduce any error or warning you see on this page. | 
| Package 181/1905 | Hostname | OS / Arch | INSTALL | BUILD | CHECK | BUILD BIN | ||||||
| biosigner 1.16.0 Philippe Rinaudo 
 | malbec2 | Linux (Ubuntu 18.04.4 LTS) / x86_64 | OK | OK | WARNINGS |  | ||||||
| tokay2 | Windows Server 2012 R2 Standard / x64 | OK | OK | WARNINGS | [ OK ] |  | ||||||
| machv2 | macOS 10.14.6 Mojave / x86_64 | OK | OK | WARNINGS | OK |  | 
| Package: biosigner | 
| Version: 1.16.0 | 
| Command: rm -rf biosigner.buildbin-libdir && mkdir biosigner.buildbin-libdir && C:\Users\biocbuild\bbs-3.11-bioc\R\bin\R.exe CMD INSTALL --merge-multiarch --build --library=biosigner.buildbin-libdir biosigner_1.16.0.tar.gz | 
| StartedAt: 2020-10-17 09:57:32 -0400 (Sat, 17 Oct 2020) | 
| EndedAt: 2020-10-17 09:58:33 -0400 (Sat, 17 Oct 2020) | 
| EllapsedTime: 61.9 seconds | 
| RetCode: 0 | 
| Status: OK | 
| PackageFile: biosigner_1.16.0.zip | 
| PackageFileSize: 3.909 MiB | 
##############################################################################
##############################################################################
###
### Running command:
###
###   rm -rf biosigner.buildbin-libdir && mkdir biosigner.buildbin-libdir && C:\Users\biocbuild\bbs-3.11-bioc\R\bin\R.exe CMD INSTALL --merge-multiarch --build --library=biosigner.buildbin-libdir biosigner_1.16.0.tar.gz
###
##############################################################################
##############################################################################
install for i386
* installing *source* package 'biosigner' ...
** using staged installation
** R
** data
** inst
** byte-compile and prepare package for lazy loading
in method for 'biosign' with signature 'x="MultiDataSet"': no definition for class "MultiDataSet"
** help
*** installing help indices
  converting help for package 'biosigner'
    finding HTML links ... done
    biosign-class                           html  
    biosign                                 html  
    biosignMultiDataSet-class               html  
    biosigner-package                       html  
    diaplasma                               html  
    getAccuracyMN                           html  
    getEset                                 html  
    getMset                                 html  
    getSignatureLs                          html  
    plot                                    html  
    predict                                 html  
    show                                    html  
** building package indices
** installing vignettes
** testing if installed package can be loaded from temporary location
** testing if installed package can be loaded from final location
** testing if installed package keeps a record of temporary installation path
install for x64
* installing *source* package 'biosigner' ...
** testing if installed package can be loaded
* MD5 sums
packaged installation of 'biosigner' as biosigner_1.16.0.zip
* DONE (biosigner)