| Back to Multiple platform build/check report for BioC 3.11 |
|
This page was generated on 2020-10-17 11:56:09 -0400 (Sat, 17 Oct 2020).
| TO THE DEVELOPERS/MAINTAINERS OF THE bioDist PACKAGE: Please make sure to use the following settings in order to reproduce any error or warning you see on this page. |
| Package 171/1905 | Hostname | OS / Arch | INSTALL | BUILD | CHECK | BUILD BIN | ||||||
| bioDist 1.60.0 Bioconductor Package Maintainer
| malbec2 | Linux (Ubuntu 18.04.4 LTS) / x86_64 | OK | OK | OK | |||||||
| tokay2 | Windows Server 2012 R2 Standard / x64 | OK | OK | OK | [ OK ] | |||||||
| machv2 | macOS 10.14.6 Mojave / x86_64 | OK | OK | OK | OK |
| Package: bioDist |
| Version: 1.60.0 |
| Command: rm -rf bioDist.buildbin-libdir && mkdir bioDist.buildbin-libdir && C:\Users\biocbuild\bbs-3.11-bioc\R\bin\R.exe CMD INSTALL --merge-multiarch --build --library=bioDist.buildbin-libdir bioDist_1.60.0.tar.gz |
| StartedAt: 2020-10-17 09:56:58 -0400 (Sat, 17 Oct 2020) |
| EndedAt: 2020-10-17 09:57:45 -0400 (Sat, 17 Oct 2020) |
| EllapsedTime: 47.8 seconds |
| RetCode: 0 |
| Status: OK |
| PackageFile: bioDist_1.60.0.zip |
| PackageFileSize: 188.6 KiB |
##############################################################################
##############################################################################
###
### Running command:
###
### rm -rf bioDist.buildbin-libdir && mkdir bioDist.buildbin-libdir && C:\Users\biocbuild\bbs-3.11-bioc\R\bin\R.exe CMD INSTALL --merge-multiarch --build --library=bioDist.buildbin-libdir bioDist_1.60.0.tar.gz
###
##############################################################################
##############################################################################
install for i386
* installing *source* package 'bioDist' ...
** using staged installation
** R
** inst
** byte-compile and prepare package for lazy loading
** help
*** installing help indices
converting help for package 'bioDist'
finding HTML links ... done
KLD.matrix html
KLdist.matrix html
closest.top html
cor.dist html
euc html
man html
mutualInfo html
spearman.dist html
tau.dist html
** building package indices
** installing vignettes
** testing if installed package can be loaded from temporary location
** testing if installed package can be loaded from final location
** testing if installed package keeps a record of temporary installation path
install for x64
* installing *source* package 'bioDist' ...
** testing if installed package can be loaded
* MD5 sums
packaged installation of 'bioDist' as bioDist_1.60.0.zip
* DONE (bioDist)