| Back to Multiple platform build/check report for BioC 3.11 |
|
This page was generated on 2020-10-17 11:58:06 -0400 (Sat, 17 Oct 2020).
| TO THE DEVELOPERS/MAINTAINERS OF THE bioCancer PACKAGE: Please make sure to use the following settings in order to reproduce any error or warning you see on this page. |
| Package 152/1905 | Hostname | OS / Arch | INSTALL | BUILD | CHECK | BUILD BIN | ||||||
| bioCancer 1.16.0 Karim Mezhoud
| malbec2 | Linux (Ubuntu 18.04.4 LTS) / x86_64 | OK | OK | WARNINGS | |||||||
| tokay2 | Windows Server 2012 R2 Standard / x64 | OK | OK | WARNINGS | OK | |||||||
| machv2 | macOS 10.14.6 Mojave / x86_64 | OK | [ OK ] | WARNINGS | OK |
| Package: bioCancer |
| Version: 1.16.0 |
| Command: /Library/Frameworks/R.framework/Versions/Current/Resources/bin/R CMD build --keep-empty-dirs --no-resave-data bioCancer |
| StartedAt: 2020-10-16 17:56:07 -0400 (Fri, 16 Oct 2020) |
| EndedAt: 2020-10-16 17:57:02 -0400 (Fri, 16 Oct 2020) |
| EllapsedTime: 54.5 seconds |
| RetCode: 0 |
| Status: OK |
| PackageFile: bioCancer_1.16.0.tar.gz |
| PackageFileSize: 8.479 MiB |
############################################################################## ############################################################################## ### ### Running command: ### ### /Library/Frameworks/R.framework/Versions/Current/Resources/bin/R CMD build --keep-empty-dirs --no-resave-data bioCancer ### ############################################################################## ############################################################################## * checking for file ‘bioCancer/DESCRIPTION’ ... OK * preparing ‘bioCancer’: * checking DESCRIPTION meta-information ... OK * installing the package to build vignettes * creating vignettes ... OK * checking for LF line-endings in source and make files and shell scripts * checking for empty or unneeded directories * building ‘bioCancer_1.16.0.tar.gz’