Back to Multiple platform build/check report for BioC 3.11 |
|
This page was generated on 2020-10-17 11:58:06 -0400 (Sat, 17 Oct 2020).
TO THE DEVELOPERS/MAINTAINERS OF THE beadarray PACKAGE: Please make sure to use the following settings in order to reproduce any error or warning you see on this page. |
Package 130/1905 | Hostname | OS / Arch | INSTALL | BUILD | CHECK | BUILD BIN | ||||||
beadarray 2.38.0 Mark Dunning
| malbec2 | Linux (Ubuntu 18.04.4 LTS) / x86_64 | OK | OK | OK | |||||||
tokay2 | Windows Server 2012 R2 Standard / x64 | OK | OK | OK | OK | |||||||
machv2 | macOS 10.14.6 Mojave / x86_64 | OK | OK | [ OK ] | OK |
Package: beadarray |
Version: 2.38.0 |
Command: /Library/Frameworks/R.framework/Versions/Current/Resources/bin/R CMD check --install=check:beadarray.install-out.txt --library=/Library/Frameworks/R.framework/Versions/Current/Resources/library --no-vignettes --timings beadarray_2.38.0.tar.gz |
StartedAt: 2020-10-16 22:56:49 -0400 (Fri, 16 Oct 2020) |
EndedAt: 2020-10-16 23:06:16 -0400 (Fri, 16 Oct 2020) |
EllapsedTime: 567.3 seconds |
RetCode: 0 |
Status: OK |
CheckDir: beadarray.Rcheck |
Warnings: 0 |
############################################################################## ############################################################################## ### ### Running command: ### ### /Library/Frameworks/R.framework/Versions/Current/Resources/bin/R CMD check --install=check:beadarray.install-out.txt --library=/Library/Frameworks/R.framework/Versions/Current/Resources/library --no-vignettes --timings beadarray_2.38.0.tar.gz ### ############################################################################## ############################################################################## * using log directory ‘/Users/biocbuild/bbs-3.11-bioc/meat/beadarray.Rcheck’ * using R version 4.0.3 (2020-10-10) * using platform: x86_64-apple-darwin17.0 (64-bit) * using session charset: UTF-8 * using option ‘--no-vignettes’ * checking for file ‘beadarray/DESCRIPTION’ ... OK * this is package ‘beadarray’ version ‘2.38.0’ * checking package namespace information ... OK * checking package dependencies ... OK * checking if this is a source package ... OK * checking if there is a namespace ... OK * checking for hidden files and directories ... OK * checking for portable file names ... OK * checking for sufficient/correct file permissions ... OK * checking whether package ‘beadarray’ can be installed ... OK * checking installed package size ... OK * checking package directory ... OK * checking ‘build’ directory ... OK * checking DESCRIPTION meta-information ... OK * checking top-level files ... OK * checking for left-over files ... OK * checking index information ... OK * checking package subdirectories ... OK * checking R files for non-ASCII characters ... OK * checking R files for syntax errors ... OK * checking whether the package can be loaded ... OK * checking whether the package can be loaded with stated dependencies ... OK * checking whether the package can be unloaded cleanly ... OK * checking whether the namespace can be loaded with stated dependencies ... OK * checking whether the namespace can be unloaded cleanly ... OK * checking dependencies in R code ... NOTE Package in Depends field not imported from: ‘hexbin’ These packages need to be imported from (in the NAMESPACE file) for when this namespace is loaded but not attached. Unexported objects imported by ':::' calls: ‘BeadDataPackR:::combineFiles’ ‘BeadDataPackR:::readHeader’ ‘Biobase:::assayDataStorageMode’ See the note in ?`:::` about the use of this operator. * checking S3 generic/method consistency ... OK * checking replacement functions ... OK * checking foreign function calls ... NOTE Foreign function call to a different package: .Call("roundLocsFileValues", ..., PACKAGE = "BeadDataPackR") See chapter ‘System and foreign language interfaces’ in the ‘Writing R Extensions’ manual. * checking R code for possible problems ... NOTE combinedControlPlot: no visible binding for global variable ‘Negative’ createGEOMeta: no visible binding for global variable ‘metaTemplate’ expressionQCPipeline: no visible global function definition for ‘openPage’ expressionQCPipeline: no visible global function definition for ‘hwrite’ expressionQCPipeline: no visible global function definition for ‘hwriteImage’ expressionQCPipeline: no visible global function definition for ‘closePage’ getPlatformSigs: no visible global function definition for ‘lumiHumanIDMapping_dbconn’ getPlatformSigs: no visible global function definition for ‘dbListTables’ getPlatformSigs: no visible global function definition for ‘dbListFields’ getPlatformSigs: no visible global function definition for ‘dbGetQuery’ getPlatformSigs: no visible global function definition for ‘lumiMouseIDMapping_dbconn’ getPlatformSigs: no visible global function definition for ‘lumiRatIDMapping_dbconn’ imageplot: no visible binding for global variable ‘Var1’ imageplot: no visible binding for global variable ‘Var2’ imageplot: no visible binding for global variable ‘value’ makeReport: no visible binding for global variable ‘Nozzle.R1’ makeReport: no visible binding for global variable ‘ggbio’ makeReport: no visible global function definition for ‘newCustomReport’ makeReport: no visible global function definition for ‘newSection’ makeReport: no visible global function definition for ‘newTable’ makeReport: no visible global function definition for ‘newParagraph’ makeReport: no visible global function definition for ‘addTo’ makeReport: no visible global function definition for ‘autoplot’ makeReport: no visible global function definition for ‘plotIdeogram’ makeReport: no visible global function definition for ‘tracks’ makeReport: no visible global function definition for ‘newFigure’ makeReport: no visible binding for global variable ‘IMAGE.TYPE.RASTER’ makeReport: no visible binding for global variable ‘PROTECTION.PUBLIC’ makeReport: no visible binding for global variable ‘value’ makeReport: no visible global function definition for ‘writeReport’ maplots: no visible binding for global variable ‘value.1’ maplots: no visible binding for global variable ‘value’ normaliseIllumina: no visible global function definition for ‘lumiT’ normaliseIllumina: no visible global function definition for ‘normalize.qspline’ normaliseIllumina: no visible global function definition for ‘vsn2’ plotBeadLocations2: no visible global function definition for ‘qplot’ plotBeadLocations2: no visible global function definition for ‘opts’ plotBeadLocations2: no visible global function definition for ‘theme_blank’ plotProbe: no visible global function definition for ‘autoplot’ plotProbe: no visible binding for global variable ‘genesymbol’ plotProbe: no visible global function definition for ‘tracks’ plotProbe: no visible binding for global variable ‘PROBEQUALITY’ rankInvariantNormalise: no visible global function definition for ‘normalize.invariantset’ suggestAnnotation: no visible binding for global variable ‘platformSigs’ suggestAnnotation_Vector: no visible binding for global variable ‘platformSigs’ [,ExpressionSetIllumina-ANY: no visible global function definition for ‘assayDataEnvLock’ boxplot,ExpressionSetIllumina: no visible binding for global variable ‘Var2’ boxplot,ExpressionSetIllumina: no visible binding for global variable ‘value’ plotMA,ExpressionSetIllumina: no visible binding for global variable ‘value.1’ plotMA,ExpressionSetIllumina: no visible binding for global variable ‘value’ Undefined global functions or variables: IMAGE.TYPE.RASTER Negative Nozzle.R1 PROBEQUALITY PROTECTION.PUBLIC Var1 Var2 addTo assayDataEnvLock autoplot closePage dbGetQuery dbListFields dbListTables genesymbol ggbio hwrite hwriteImage lumiHumanIDMapping_dbconn lumiMouseIDMapping_dbconn lumiRatIDMapping_dbconn lumiT metaTemplate newCustomReport newFigure newParagraph newSection newTable normalize.invariantset normalize.qspline openPage opts platformSigs plotIdeogram qplot theme_blank tracks value value.1 vsn2 writeReport * checking Rd files ... OK * checking Rd metadata ... OK * checking Rd cross-references ... OK * checking for missing documentation entries ... OK * checking for code/documentation mismatches ... OK * checking Rd \usage sections ... OK * checking Rd contents ... OK * checking for unstated dependencies in examples ... OK * checking contents of ‘data’ directory ... OK * checking data for non-ASCII characters ... OK * checking data for ASCII and uncompressed saves ... OK * checking line endings in C/C++/Fortran sources/headers ... OK * checking compiled code ... NOTE Note: information on .o files is not available * checking sizes of PDF files under ‘inst/doc’ ... OK * checking files in ‘vignettes’ ... OK * checking examples ... OK Examples with CPU (user + system) or elapsed time > 5s user system elapsed squeezedVarOutlierMethod 58.073 0.752 59.086 summarize 31.441 1.195 32.804 limmaDE 28.192 0.162 28.383 normaliseIllumina 17.888 0.693 21.445 calculateOutlierStats 17.175 0.597 17.930 outlierplot 16.342 0.334 16.781 calculateDetection 15.701 0.740 16.478 controlProbeDetection 14.195 0.269 14.496 identifyControlBeads 12.798 0.128 12.940 makeQCTable 11.720 0.386 12.152 insertSectionData 11.304 0.462 11.778 poscontPlot 10.695 0.199 10.925 imageplot 8.886 0.242 9.233 annotationInterface 8.454 0.457 9.324 addFeatureData 8.410 0.272 8.706 showArrayMask 7.661 0.299 7.980 quickSummary 7.425 0.213 7.652 maplots 5.675 0.553 6.238 * checking for unstated dependencies in vignettes ... OK * checking package vignettes in ‘inst/doc’ ... OK * checking running R code from vignettes ... SKIPPED * checking re-building of vignette outputs ... SKIPPED * checking PDF version of manual ... OK * DONE Status: 4 NOTEs See ‘/Users/biocbuild/bbs-3.11-bioc/meat/beadarray.Rcheck/00check.log’ for details.
beadarray.Rcheck/00install.out
############################################################################## ############################################################################## ### ### Running command: ### ### /Library/Frameworks/R.framework/Versions/Current/Resources/bin/R CMD INSTALL beadarray ### ############################################################################## ############################################################################## * installing to library ‘/Library/Frameworks/R.framework/Versions/4.0/Resources/library’ * installing *source* package ‘beadarray’ ... ** using staged installation ** libs clang -mmacosx-version-min=10.13 -I"/Library/Frameworks/R.framework/Resources/include" -DNDEBUG -I/usr/local/include -fPIC -Wall -g -O2 -c BASH.c -o BASH.o clang -mmacosx-version-min=10.13 -I"/Library/Frameworks/R.framework/Resources/include" -DNDEBUG -I/usr/local/include -fPIC -Wall -g -O2 -c HULK.c -o HULK.o clang -mmacosx-version-min=10.13 -I"/Library/Frameworks/R.framework/Resources/include" -DNDEBUG -I/usr/local/include -fPIC -Wall -g -O2 -c determiningGridPositions.c -o determiningGridPositions.o clang -mmacosx-version-min=10.13 -I"/Library/Frameworks/R.framework/Resources/include" -DNDEBUG -I/usr/local/include -fPIC -Wall -g -O2 -c findAllOutliers.c -o findAllOutliers.o clang -mmacosx-version-min=10.13 -I"/Library/Frameworks/R.framework/Resources/include" -DNDEBUG -I/usr/local/include -fPIC -Wall -g -O2 -c imageProcessing.c -o imageProcessing.o clang -mmacosx-version-min=10.13 -dynamiclib -Wl,-headerpad_max_install_names -undefined dynamic_lookup -single_module -multiply_defined suppress -L/Library/Frameworks/R.framework/Resources/lib -L/usr/local/lib -o beadarray.so BASH.o HULK.o determiningGridPositions.o findAllOutliers.o imageProcessing.o -F/Library/Frameworks/R.framework/.. -framework R -Wl,-framework -Wl,CoreFoundation installing to /Library/Frameworks/R.framework/Versions/4.0/Resources/library/00LOCK-beadarray/00new/beadarray/libs ** R ** data *** moving datasets to lazyload DB ** inst ** byte-compile and prepare package for lazy loading ** help *** installing help indices ** building package indices ** installing vignettes ** testing if installed package can be loaded from temporary location ** checking absolute paths in shared objects and dynamic libraries ** testing if installed package can be loaded from final location ** testing if installed package keeps a record of temporary installation path * DONE (beadarray)
beadarray.Rcheck/beadarray-Ex.timings
name | user | system | elapsed | |
BASH | 0.000 | 0.001 | 0.001 | |
BASHCompact | 0.000 | 0.000 | 0.001 | |
BASHDiffuse | 0 | 0 | 0 | |
BASHExtended | 0.000 | 0.001 | 0.001 | |
GEO | 0.000 | 0.001 | 0.001 | |
GEOtemplate | 0.004 | 0.002 | 0.006 | |
HULK | 0.000 | 0.001 | 0.001 | |
addFeatureData | 8.410 | 0.272 | 8.706 | |
annotationInterface | 8.454 | 0.457 | 9.324 | |
backgroundCorrectSingleSection | 0.001 | 0.000 | 0.001 | |
beadarrayUsersGuide | 0.003 | 0.000 | 0.003 | |
boxplot | 4.638 | 0.213 | 4.983 | |
calculateDetection | 15.701 | 0.740 | 16.478 | |
calculateOutlierStats | 17.175 | 0.597 | 17.930 | |
class-beadLevelData | 3.758 | 0.153 | 3.917 | |
class-illuminaChannel | 0.003 | 0.001 | 0.005 | |
combine | 4.209 | 0.147 | 4.360 | |
controlProbeDetection | 14.195 | 0.269 | 14.496 | |
createTargetsFile | 0 | 0 | 0 | |
expressionQCPipeline | 0.031 | 0.001 | 0.032 | |
generateNeighbours | 0 | 0 | 0 | |
getBeadData | 3.799 | 0.116 | 3.919 | |
identifyControlBeads | 12.798 | 0.128 | 12.940 | |
illuminaOutlierMethod | 4.278 | 0.189 | 4.471 | |
imageplot | 8.886 | 0.242 | 9.233 | |
insertBeadData | 4.222 | 0.111 | 4.336 | |
insertSectionData | 11.304 | 0.462 | 11.778 | |
limmaDE | 28.192 | 0.162 | 28.383 | |
makeControlProfile | 0.460 | 0.009 | 0.471 | |
makeQCTable | 11.720 | 0.386 | 12.152 | |
maplots | 5.675 | 0.553 | 6.238 | |
medianNormalise | 1.981 | 0.042 | 2.028 | |
metrics | 2.886 | 0.161 | 3.054 | |
noOutlierMethod | 2.944 | 0.032 | 2.981 | |
normaliseIllumina | 17.888 | 0.693 | 21.445 | |
numBeads | 3.047 | 0.042 | 3.098 | |
outlierplot | 16.342 | 0.334 | 16.781 | |
plotBeadIntensities | 4.326 | 0.169 | 4.514 | |
plotBeadLocations | 3.165 | 0.090 | 3.270 | |
plotChipLayout | 0.000 | 0.001 | 0.000 | |
plotMAXY | 0.000 | 0.000 | 0.001 | |
poscontPlot | 10.695 | 0.199 | 10.925 | |
quickSummary | 7.425 | 0.213 | 7.652 | |
readBeadSummaryData | 0.000 | 0.000 | 0.001 | |
sectionNames | 3.174 | 0.059 | 3.238 | |
showArrayMask | 7.661 | 0.299 | 7.980 | |
squeezedVarOutlierMethod | 58.073 | 0.752 | 59.086 | |
summarize | 31.441 | 1.195 | 32.804 | |
transformationFunctions | 4.372 | 0.145 | 4.526 | |
weightsOutlierMethod | 0.001 | 0.000 | 0.001 | |