| Back to Multiple platform build/check report for BioC 3.11 |
|
This page was generated on 2020-10-17 11:56:07 -0400 (Sat, 17 Oct 2020).
| TO THE DEVELOPERS/MAINTAINERS OF THE basilisk PACKAGE: Please make sure to use the following settings in order to reproduce any error or warning you see on this page. |
| Package 117/1905 | Hostname | OS / Arch | INSTALL | BUILD | CHECK | BUILD BIN | ||||||
| basilisk 1.0.2 Aaron Lun
| malbec2 | Linux (Ubuntu 18.04.4 LTS) / x86_64 | OK | OK | OK | |||||||
| tokay2 | Windows Server 2012 R2 Standard / x64 | OK | OK | OK | [ OK ] | |||||||
| machv2 | macOS 10.14.6 Mojave / x86_64 | OK | OK | OK | OK |
| Package: basilisk |
| Version: 1.0.2 |
| Command: rm -rf basilisk.buildbin-libdir && mkdir basilisk.buildbin-libdir && C:\Users\biocbuild\bbs-3.11-bioc\R\bin\R.exe --arch x64 CMD INSTALL --no-multiarch --build --library=basilisk.buildbin-libdir basilisk_1.0.2.tar.gz |
| StartedAt: 2020-10-17 09:53:06 -0400 (Sat, 17 Oct 2020) |
| EndedAt: 2020-10-17 09:53:27 -0400 (Sat, 17 Oct 2020) |
| EllapsedTime: 21.1 seconds |
| RetCode: 0 |
| Status: OK |
| PackageFile: basilisk_1.0.2.zip |
| PackageFileSize: 307.2 KiB |
##############################################################################
##############################################################################
###
### Running command:
###
### rm -rf basilisk.buildbin-libdir && mkdir basilisk.buildbin-libdir && C:\Users\biocbuild\bbs-3.11-bioc\R\bin\R.exe --arch x64 CMD INSTALL --no-multiarch --build --library=basilisk.buildbin-libdir basilisk_1.0.2.tar.gz
###
##############################################################################
##############################################################################
* installing *source* package 'basilisk' ...
** using non-staged installation via StagedInstall field
** R
** inst
** byte-compile and prepare package for lazy loading
** help
*** installing help indices
converting help for package 'basilisk'
finding HTML links ... done
BasiliskEnvironment-class html
PyPiLink html
basiliskOptions html
basiliskStart html
configureBasiliskEnv html
findPersistentEnv html
listCorePackages html
setupBasiliskEnv html
useBasiliskEnv html
finding level-2 HTML links ... done
** building package indices
** installing vignettes
** testing if installed package can be loaded
* MD5 sums
packaged installation of 'basilisk' as basilisk_1.0.2.zip
* DONE (basilisk)