| Back to Multiple platform build/check report for BioC 3.11 | 
 | 
This page was generated on 2020-10-17 11:56:07 -0400 (Sat, 17 Oct 2020).
| TO THE DEVELOPERS/MAINTAINERS OF THE basecallQC PACKAGE: Please make sure to use the following settings in order to reproduce any error or warning you see on this page. | 
| Package 112/1905 | Hostname | OS / Arch | INSTALL | BUILD | CHECK | BUILD BIN | ||||||
| basecallQC 1.12.0 Thomas Carroll 
 | malbec2 | Linux (Ubuntu 18.04.4 LTS) / x86_64 | OK | OK | OK |  | ||||||
| tokay2 | Windows Server 2012 R2 Standard / x64 | OK | [ OK ] | OK | OK |  | ||||||
| machv2 | macOS 10.14.6 Mojave / x86_64 | OK | OK | OK | OK |  | 
| Package: basecallQC | 
| Version: 1.12.0 | 
| Command: chmod a+r basecallQC -R && C:\Users\biocbuild\bbs-3.11-bioc\R\bin\R.exe CMD build --keep-empty-dirs --no-resave-data basecallQC | 
| StartedAt: 2020-10-16 20:07:24 -0400 (Fri, 16 Oct 2020) | 
| EndedAt: 2020-10-16 20:08:41 -0400 (Fri, 16 Oct 2020) | 
| EllapsedTime: 76.5 seconds | 
| RetCode: 0 | 
| Status: OK | 
| PackageFile: basecallQC_1.12.0.tar.gz | 
| PackageFileSize: 1.384 MiB | 
############################################################################## ############################################################################## ### ### Running command: ### ### chmod a+r basecallQC -R && C:\Users\biocbuild\bbs-3.11-bioc\R\bin\R.exe CMD build --keep-empty-dirs --no-resave-data basecallQC ### ############################################################################## ############################################################################## * checking for file 'basecallQC/DESCRIPTION' ... OK * preparing 'basecallQC': * checking DESCRIPTION meta-information ... OK * installing the package to build vignettes * creating vignettes ... OK * checking for LF line-endings in source and make files and shell scripts * checking for empty or unneeded directories * building 'basecallQC_1.12.0.tar.gz'