| Back to Multiple platform build/check report for BioC 3.11 |
|
This page was generated on 2020-10-17 11:56:05 -0400 (Sat, 17 Oct 2020).
| TO THE DEVELOPERS/MAINTAINERS OF THE annotationTools PACKAGE: Please make sure to use the following settings in order to reproduce any error or warning you see on this page. |
| Package 67/1905 | Hostname | OS / Arch | INSTALL | BUILD | CHECK | BUILD BIN | ||||||
| annotationTools 1.62.0 Alexandre Kuhn
| malbec2 | Linux (Ubuntu 18.04.4 LTS) / x86_64 | OK | OK | OK | |||||||
| tokay2 | Windows Server 2012 R2 Standard / x64 | OK | OK | OK | [ OK ] | |||||||
| machv2 | macOS 10.14.6 Mojave / x86_64 | OK | OK | OK | OK |
| Package: annotationTools |
| Version: 1.62.0 |
| Command: rm -rf annotationTools.buildbin-libdir && mkdir annotationTools.buildbin-libdir && C:\Users\biocbuild\bbs-3.11-bioc\R\bin\R.exe CMD INSTALL --merge-multiarch --build --library=annotationTools.buildbin-libdir annotationTools_1.62.0.tar.gz |
| StartedAt: 2020-10-17 09:49:27 -0400 (Sat, 17 Oct 2020) |
| EndedAt: 2020-10-17 09:50:23 -0400 (Sat, 17 Oct 2020) |
| EllapsedTime: 56.6 seconds |
| RetCode: 0 |
| Status: OK |
| PackageFile: annotationTools_1.62.0.zip |
| PackageFileSize: 420.6 KiB |
##############################################################################
##############################################################################
###
### Running command:
###
### rm -rf annotationTools.buildbin-libdir && mkdir annotationTools.buildbin-libdir && C:\Users\biocbuild\bbs-3.11-bioc\R\bin\R.exe CMD INSTALL --merge-multiarch --build --library=annotationTools.buildbin-libdir annotationTools_1.62.0.tar.gz
###
##############################################################################
##############################################################################
install for i386
* installing *source* package 'annotationTools' ...
** using staged installation
** R
** data
** inst
** byte-compile and prepare package for lazy loading
** help
*** installing help indices
converting help for package 'annotationTools'
finding HTML links ... done
HG-U133_Plus_2_annot_part html
HG-U133_Plus_2_ortholog_part html
Mouse430_2_annot_part html
annot_HGU133A html
compactList html
gene_orthologs_part html
getANNOTATION html
getGENEID html
getGENEONTOLOGY html
getGENESYMBOL html
getGENETITLE html
getHOMOLOG html
getMULTIANNOTATION html
getOrthologousProbesets html
getPROBESET html
homologene_part html
listToCharacterVector html
ortho html
ps2ps html
table_human html
table_mouse html
** building package indices
** installing vignettes
** testing if installed package can be loaded from temporary location
** testing if installed package can be loaded from final location
** testing if installed package keeps a record of temporary installation path
install for x64
* installing *source* package 'annotationTools' ...
** testing if installed package can be loaded
* MD5 sums
packaged installation of 'annotationTools' as annotationTools_1.62.0.zip
* DONE (annotationTools)