| Back to Multiple platform build/check report for BioC 3.11 | 
 | 
This page was generated on 2020-10-17 11:58:02 -0400 (Sat, 17 Oct 2020).
| TO THE DEVELOPERS/MAINTAINERS OF THE amplican PACKAGE: Please make sure to use the following settings in order to reproduce any error or warning you see on this page. | 
| Package 51/1905 | Hostname | OS / Arch | INSTALL | BUILD | CHECK | BUILD BIN | ||||||
| amplican 1.10.1 Eivind Valen 
 | malbec2 | Linux (Ubuntu 18.04.4 LTS) / x86_64 | OK | OK | OK |  | ||||||
| tokay2 | Windows Server 2012 R2 Standard / x64 | OK | OK | OK | OK |  | ||||||
| machv2 | macOS 10.14.6 Mojave / x86_64 | OK | OK | [ OK ] | OK |  | 
| Package: amplican | 
| Version: 1.10.1 | 
| Command: /Library/Frameworks/R.framework/Versions/Current/Resources/bin/R CMD check --install=check:amplican.install-out.txt --library=/Library/Frameworks/R.framework/Versions/Current/Resources/library --no-vignettes --timings amplican_1.10.1.tar.gz | 
| StartedAt: 2020-10-16 22:34:46 -0400 (Fri, 16 Oct 2020) | 
| EndedAt: 2020-10-16 22:38:29 -0400 (Fri, 16 Oct 2020) | 
| EllapsedTime: 223.6 seconds | 
| RetCode: 0 | 
| Status: OK | 
| CheckDir: amplican.Rcheck | 
| Warnings: 0 | 
##############################################################################
##############################################################################
###
### Running command:
###
###   /Library/Frameworks/R.framework/Versions/Current/Resources/bin/R CMD check --install=check:amplican.install-out.txt --library=/Library/Frameworks/R.framework/Versions/Current/Resources/library --no-vignettes --timings amplican_1.10.1.tar.gz
###
##############################################################################
##############################################################################
* using log directory ‘/Users/biocbuild/bbs-3.11-bioc/meat/amplican.Rcheck’
* using R version 4.0.3 (2020-10-10)
* using platform: x86_64-apple-darwin17.0 (64-bit)
* using session charset: UTF-8
* using option ‘--no-vignettes’
* checking for file ‘amplican/DESCRIPTION’ ... OK
* checking extension type ... Package
* this is package ‘amplican’ version ‘1.10.1’
* package encoding: UTF-8
* checking package namespace information ... OK
* checking package dependencies ... OK
* checking if this is a source package ... OK
* checking if there is a namespace ... OK
* checking for hidden files and directories ... OK
* checking for portable file names ... OK
* checking for sufficient/correct file permissions ... OK
* checking whether package ‘amplican’ can be installed ... OK
* checking installed package size ... OK
* checking package directory ... OK
* checking ‘build’ directory ... OK
* checking DESCRIPTION meta-information ... OK
* checking top-level files ... OK
* checking for left-over files ... OK
* checking index information ... OK
* checking package subdirectories ... OK
* checking R files for non-ASCII characters ... OK
* checking R files for syntax errors ... OK
* checking whether the package can be loaded ... OK
* checking whether the package can be loaded with stated dependencies ... OK
* checking whether the package can be unloaded cleanly ... OK
* checking whether the namespace can be loaded with stated dependencies ... OK
* checking whether the namespace can be unloaded cleanly ... OK
* checking dependencies in R code ... OK
* checking S3 generic/method consistency ... OK
* checking replacement functions ... OK
* checking foreign function calls ... OK
* checking R code for possible problems ... OK
* checking Rd files ... OK
* checking Rd metadata ... OK
* checking Rd cross-references ... OK
* checking for missing documentation entries ... OK
* checking for code/documentation mismatches ... OK
* checking Rd \usage sections ... OK
* checking Rd contents ... OK
* checking for unstated dependencies in examples ... OK
* checking line endings in C/C++/Fortran sources/headers ... OK
* checking compiled code ... NOTE
Note: information on .o files is not available
* checking files in ‘vignettes’ ... OK
* checking examples ... OK
Examples with CPU (user + system) or elapsed time > 5s
                  user system elapsed
amplicanAlign    9.758  0.916  10.684
amplicanPipeline 8.813  0.468   9.289
* checking for unstated dependencies in ‘tests’ ... OK
* checking tests ...
  Running ‘testthat.R’
 OK
* checking for unstated dependencies in vignettes ... OK
* checking package vignettes in ‘inst/doc’ ... OK
* checking running R code from vignettes ... SKIPPED
* checking re-building of vignette outputs ... SKIPPED
* checking PDF version of manual ... OK
* DONE
Status: 1 NOTE
See
  ‘/Users/biocbuild/bbs-3.11-bioc/meat/amplican.Rcheck/00check.log’
for details.
amplican.Rcheck/00install.out
############################################################################## ############################################################################## ### ### Running command: ### ### /Library/Frameworks/R.framework/Versions/Current/Resources/bin/R CMD INSTALL amplican ### ############################################################################## ############################################################################## * installing to library ‘/Library/Frameworks/R.framework/Versions/4.0/Resources/library’ * installing *source* package ‘amplican’ ... ** using staged installation ** libs clang++ -mmacosx-version-min=10.13 -std=gnu++11 -I"/Library/Frameworks/R.framework/Resources/include" -DNDEBUG -I'/Library/Frameworks/R.framework/Versions/4.0/Resources/library/Rcpp/include' -I/usr/local/include -fPIC -Wall -g -O2 -c RcppExports.cpp -o RcppExports.o clang++ -mmacosx-version-min=10.13 -std=gnu++11 -I"/Library/Frameworks/R.framework/Resources/include" -DNDEBUG -I'/Library/Frameworks/R.framework/Versions/4.0/Resources/library/Rcpp/include' -I/usr/local/include -fPIC -Wall -g -O2 -c bezier.cpp -o bezier.o clang++ -mmacosx-version-min=10.13 -std=gnu++11 -dynamiclib -Wl,-headerpad_max_install_names -undefined dynamic_lookup -single_module -multiply_defined suppress -L/Library/Frameworks/R.framework/Resources/lib -L/usr/local/lib -o amplican.so RcppExports.o bezier.o -F/Library/Frameworks/R.framework/.. -framework R -Wl,-framework -Wl,CoreFoundation installing to /Library/Frameworks/R.framework/Versions/4.0/Resources/library/00LOCK-amplican/00new/amplican/libs ** R ** inst ** byte-compile and prepare package for lazy loading ** help *** installing help indices ** building package indices ** installing vignettes ** testing if installed package can be loaded from temporary location ** checking absolute paths in shared objects and dynamic libraries ** testing if installed package can be loaded from final location ** testing if installed package keeps a record of temporary installation path * DONE (amplican)
amplican.Rcheck/tests/testthat.Rout
R version 4.0.3 (2020-10-10) -- "Bunny-Wunnies Freak Out"
Copyright (C) 2020 The R Foundation for Statistical Computing
Platform: x86_64-apple-darwin17.0 (64-bit)
R is free software and comes with ABSOLUTELY NO WARRANTY.
You are welcome to redistribute it under certain conditions.
Type 'license()' or 'licence()' for distribution details.
R is a collaborative project with many contributors.
Type 'contributors()' for more information and
'citation()' on how to cite R or R packages in publications.
Type 'demo()' for some demos, 'help()' for on-line help, or
'help.start()' for an HTML browser interface to help.
Type 'q()' to quit R.
> library(testthat)
> library(amplican)
Loading required package: BiocGenerics
Loading required package: parallel
Attaching package: 'BiocGenerics'
The following objects are masked from 'package:parallel':
    clusterApply, clusterApplyLB, clusterCall, clusterEvalQ,
    clusterExport, clusterMap, parApply, parCapply, parLapply,
    parLapplyLB, parRapply, parSapply, parSapplyLB
The following objects are masked from 'package:stats':
    IQR, mad, sd, var, xtabs
The following objects are masked from 'package:base':
    Filter, Find, Map, Position, Reduce, anyDuplicated, append,
    as.data.frame, basename, cbind, colnames, dirname, do.call,
    duplicated, eval, evalq, get, grep, grepl, intersect, is.unsorted,
    lapply, mapply, match, mget, order, paste, pmax, pmax.int, pmin,
    pmin.int, rank, rbind, rownames, sapply, setdiff, sort, table,
    tapply, union, unique, unsplit, which, which.max, which.min
Loading required package: Biostrings
Loading required package: S4Vectors
Loading required package: stats4
Attaching package: 'S4Vectors'
The following object is masked from 'package:base':
    expand.grid
Loading required package: IRanges
Loading required package: XVector
Attaching package: 'Biostrings'
The following object is masked from 'package:base':
    strsplit
Loading required package: data.table
Attaching package: 'data.table'
The following object is masked from 'package:IRanges':
    shift
The following objects are masked from 'package:S4Vectors':
    first, second
Pease consider supporting this software by citing:
Labun et al. 2019
Accurate analysis of genuine CRISPR editing events with ampliCan.
Genome Res. 2019 Mar 8
doi: 10.1101/gr.244293.118
Without appreciation scientific software is usually abandoned and eventually deprecated, but you can easily support authors by citations.
> 
> test_check("amplican")
══ testthat results  ═══════════════════════════════════════════════════════════
[ OK: 56 | SKIPPED: 0 | WARNINGS: 3 | FAILED: 0 ]
> 
> proc.time()
   user  system elapsed 
 36.026   2.029  38.103 
amplican.Rcheck/amplican-Ex.timings
| name | user | system | elapsed | |
| AlignmentsExperimentSet-class | 2.296 | 0.107 | 2.405 | |
| amplicanAlign | 9.758 | 0.916 | 10.684 | |
| amplicanConsensus | 0.126 | 0.015 | 0.172 | |
| amplicanFilter | 0.042 | 0.013 | 0.055 | |
| amplicanMap | 0.430 | 0.004 | 0.434 | |
| amplicanNormalize | 0.066 | 0.003 | 0.068 | |
| amplicanOverlap | 0.031 | 0.002 | 0.032 | |
| amplicanPipeline | 8.813 | 0.468 | 9.289 | |
| amplicanReport | 0.019 | 0.025 | 0.042 | |
| amplicanSummarize | 0.029 | 0.005 | 0.034 | |
| amplican_print_reads | 0.445 | 0.014 | 0.460 | |
| assignedCount | 0.069 | 0.002 | 0.072 | |
| barcodeData-set | 0.043 | 0.001 | 0.044 | |
| barcodeData | 0.044 | 0.001 | 0.044 | |
| comb_along | 0.046 | 0.008 | 0.054 | |
| experimentData-set | 0.045 | 0.001 | 0.046 | |
| experimentData | 0.048 | 0.002 | 0.050 | |
| extractEvents | 4.189 | 0.036 | 4.227 | |
| findEOP | 0.004 | 0.002 | 0.005 | |
| findLQR | 0.006 | 0.001 | 0.008 | |
| findPD | 0.006 | 0.002 | 0.008 | |
| fwdReads-set | 0.025 | 0.001 | 0.026 | |
| fwdReads | 0.678 | 0.003 | 0.681 | |
| fwdReadsType-set | 0.042 | 0.001 | 0.043 | |
| fwdReadsType | 0.038 | 0.000 | 0.039 | |
| geom_bezier | 0.470 | 0.008 | 0.479 | |
| lookupAlignment | 0.450 | 0.002 | 0.452 | |
| metaplot_deletions | 0.293 | 0.003 | 0.296 | |
| metaplot_insertions | 0.321 | 0.003 | 0.323 | |
| metaplot_mismatches | 0.294 | 0.003 | 0.298 | |
| plot_cuts | 0.364 | 0.002 | 0.366 | |
| plot_deletions | 0.317 | 0.003 | 0.322 | |
| plot_height | 0.001 | 0.000 | 0.001 | |
| plot_heterogeneity | 0.401 | 0.004 | 0.406 | |
| plot_insertions | 0.534 | 0.005 | 0.541 | |
| plot_mismatches | 0.606 | 0.003 | 0.610 | |
| plot_variants | 0.901 | 0.004 | 0.907 | |
| readCounts-set | 0.045 | 0.001 | 0.046 | |
| readCounts | 0.039 | 0.002 | 0.041 | |
| rveReads-set | 0.046 | 0.001 | 0.047 | |
| rveReads | 0.627 | 0.002 | 0.630 | |
| rveReadsType-set | 0.047 | 0.000 | 0.048 | |
| rveReadsType | 0.040 | 0.001 | 0.042 | |
| unassignedCount | 0.044 | 0.001 | 0.044 | |
| unassignedData-set | 0.041 | 0.001 | 0.042 | |
| unassignedData | 0.041 | 0.001 | 0.042 | |
| writeAlignments | 0.074 | 0.001 | 0.075 | |