| Back to Multiple platform build/check report for BioC 3.11 |
|
This page was generated on 2020-10-17 11:56:03 -0400 (Sat, 17 Oct 2020).
| TO THE DEVELOPERS/MAINTAINERS OF THE affylmGUI PACKAGE: Please make sure to use the following settings in order to reproduce any error or warning you see on this page. |
| Package 31/1905 | Hostname | OS / Arch | INSTALL | BUILD | CHECK | BUILD BIN | ||||||
| affylmGUI 1.62.0 Gordon Smyth
| malbec2 | Linux (Ubuntu 18.04.4 LTS) / x86_64 | OK | OK | OK | |||||||
| tokay2 | Windows Server 2012 R2 Standard / x64 | OK | OK | OK | [ OK ] | |||||||
| machv2 | macOS 10.14.6 Mojave / x86_64 | OK | OK | OK | OK |
| Package: affylmGUI |
| Version: 1.62.0 |
| Command: rm -rf affylmGUI.buildbin-libdir && mkdir affylmGUI.buildbin-libdir && C:\Users\biocbuild\bbs-3.11-bioc\R\bin\R.exe CMD INSTALL --merge-multiarch --build --library=affylmGUI.buildbin-libdir affylmGUI_1.62.0.tar.gz |
| StartedAt: 2020-10-17 09:46:20 -0400 (Sat, 17 Oct 2020) |
| EndedAt: 2020-10-17 09:47:33 -0400 (Sat, 17 Oct 2020) |
| EllapsedTime: 72.8 seconds |
| RetCode: 0 |
| Status: OK |
| PackageFile: affylmGUI_1.62.0.zip |
| PackageFileSize: 2.101 MiB |
##############################################################################
##############################################################################
###
### Running command:
###
### rm -rf affylmGUI.buildbin-libdir && mkdir affylmGUI.buildbin-libdir && C:\Users\biocbuild\bbs-3.11-bioc\R\bin\R.exe CMD INSTALL --merge-multiarch --build --library=affylmGUI.buildbin-libdir affylmGUI_1.62.0.tar.gz
###
##############################################################################
##############################################################################
install for i386
* installing *source* package 'affylmGUI' ...
** using staged installation
** R
** inst
** byte-compile and prepare package for lazy loading
** help
*** installing help indices
converting help for package 'affylmGUI'
finding HTML links ... done
affylmGU-package html
finding level-2 HTML links ... done
affylmGUI html
internal html
** building package indices
** installing vignettes
** testing if installed package can be loaded from temporary location
** testing if installed package can be loaded from final location
** testing if installed package keeps a record of temporary installation path
install for x64
* installing *source* package 'affylmGUI' ...
** testing if installed package can be loaded
* MD5 sums
packaged installation of 'affylmGUI' as affylmGUI_1.62.0.zip
* DONE (affylmGUI)