| Back to Multiple platform build/check report for BioC 3.11 |
|
This page was generated on 2020-10-17 11:58:01 -0400 (Sat, 17 Oct 2020).
| TO THE DEVELOPERS/MAINTAINERS OF THE affycomp PACKAGE: Please make sure to use the following settings in order to reproduce any error or warning you see on this page. |
| Package 24/1905 | Hostname | OS / Arch | INSTALL | BUILD | CHECK | BUILD BIN | ||||||
| affycomp 1.64.0 Rafael A. Irizarry
| malbec2 | Linux (Ubuntu 18.04.4 LTS) / x86_64 | OK | OK | OK | |||||||
| tokay2 | Windows Server 2012 R2 Standard / x64 | OK | OK | WARNINGS | OK | |||||||
| machv2 | macOS 10.14.6 Mojave / x86_64 | OK | OK | OK | [ OK ] |
| Package: affycomp |
| Version: 1.64.0 |
| Command: rm -rf affycomp.buildbin-libdir && mkdir affycomp.buildbin-libdir && /Users/biocbuild/BBS/utils/build-universal.sh affycomp_1.64.0.tar.gz /Library/Frameworks/R.framework/Versions/Current/Resources/bin/R affycomp.buildbin-libdir |
| StartedAt: 2020-10-17 06:33:23 -0400 (Sat, 17 Oct 2020) |
| EndedAt: 2020-10-17 06:34:03 -0400 (Sat, 17 Oct 2020) |
| EllapsedTime: 40.4 seconds |
| RetCode: 0 |
| Status: OK |
| PackageFile: affycomp_1.64.0.tgz |
| PackageFileSize: 7.994 MiB |
############################################################################## ############################################################################## ### ### Running command: ### ### rm -rf affycomp.buildbin-libdir && mkdir affycomp.buildbin-libdir && /Users/biocbuild/BBS/utils/build-universal.sh affycomp_1.64.0.tar.gz /Library/Frameworks/R.framework/Versions/Current/Resources/bin/R affycomp.buildbin-libdir ### ############################################################################## ############################################################################## >>>>>>> >>>>>>> INSTALLATION WITH 'R CMD INSTALL --preclean --no-multiarch --library=affycomp.buildbin-libdir affycomp_1.64.0.tar.gz' >>>>>>> * installing *source* package ‘affycomp’ ... ** using staged installation ** R ** data ** inst ** byte-compile and prepare package for lazy loading ** help *** installing help indices ** building package indices ** installing vignettes ** testing if installed package can be loaded from temporary location ** testing if installed package can be loaded from final location ** testing if installed package keeps a record of temporary installation path * DONE (affycomp)