| Back to Multiple platform build/check report for BioC 3.11 |
|
This page was generated on 2020-10-17 11:58:01 -0400 (Sat, 17 Oct 2020).
| TO THE DEVELOPERS/MAINTAINERS OF THE affxparser PACKAGE: Please make sure to use the following settings in order to reproduce any error or warning you see on this page. |
| Package 22/1905 | Hostname | OS / Arch | INSTALL | BUILD | CHECK | BUILD BIN | ||||||
| affxparser 1.60.0 Kasper Daniel Hansen
| malbec2 | Linux (Ubuntu 18.04.4 LTS) / x86_64 | OK | OK | WARNINGS | |||||||
| tokay2 | Windows Server 2012 R2 Standard / x64 | OK | OK | WARNINGS | OK | |||||||
| machv2 | macOS 10.14.6 Mojave / x86_64 | OK | [ OK ] | WARNINGS | OK |
| Package: affxparser |
| Version: 1.60.0 |
| Command: /Library/Frameworks/R.framework/Versions/Current/Resources/bin/R CMD build --keep-empty-dirs --no-resave-data affxparser |
| StartedAt: 2020-10-16 17:40:05 -0400 (Fri, 16 Oct 2020) |
| EndedAt: 2020-10-16 17:40:08 -0400 (Fri, 16 Oct 2020) |
| EllapsedTime: 3.3 seconds |
| RetCode: 0 |
| Status: OK |
| PackageFile: affxparser_1.60.0.tar.gz |
| PackageFileSize: 794.3 KiB |
############################################################################## ############################################################################## ### ### Running command: ### ### /Library/Frameworks/R.framework/Versions/Current/Resources/bin/R CMD build --keep-empty-dirs --no-resave-data affxparser ### ############################################################################## ############################################################################## * checking for file ‘affxparser/DESCRIPTION’ ... OK * preparing ‘affxparser’: * checking DESCRIPTION meta-information ... OK * cleaning src * running ‘cleanup’ * checking for LF line-endings in source and make files and shell scripts * checking for empty or unneeded directories * building ‘affxparser_1.60.0.tar.gz’ Warning in utils::tar(filepath, pkgname, compression = compression, compression_level = 9L, : storing paths of more than 100 bytes is not portable: ‘affxparser/src/fusion_sdk/calvin_files/writers/src/CalvinCHPQuantificationDetectionFileBufferWriter.cpp’ Warning in utils::tar(filepath, pkgname, compression = compression, compression_level = 9L, : storing paths of more than 100 bytes is not portable: ‘affxparser/src/fusion_sdk/calvin_files/writers/src/CalvinCHPQuantificationDetectionFileBufferWriter.h’