| Back to Multiple platform build/check report for BioC 3.11 |
|
This page was generated on 2020-10-17 11:54:20 -0400 (Sat, 17 Oct 2020).
| TO THE DEVELOPERS/MAINTAINERS OF THE adSplit PACKAGE: Please make sure to use the following settings in order to reproduce any error or warning you see on this page. |
| Package 20/1905 | Hostname | OS / Arch | INSTALL | BUILD | CHECK | BUILD BIN | ||||||
| adSplit 1.58.0 Claudio Lottaz
| malbec2 | Linux (Ubuntu 18.04.4 LTS) / x86_64 | [ OK ] | OK | WARNINGS | |||||||
| tokay2 | Windows Server 2012 R2 Standard / x64 | OK | OK | WARNINGS | OK | |||||||
| machv2 | macOS 10.14.6 Mojave / x86_64 | OK | OK | WARNINGS | OK |
| Package: adSplit |
| Version: 1.58.0 |
| Command: /home/biocbuild/bbs-3.11-bioc/R/bin/R CMD INSTALL adSplit |
| StartedAt: 2020-10-16 16:11:59 -0400 (Fri, 16 Oct 2020) |
| EndedAt: 2020-10-16 16:12:13 -0400 (Fri, 16 Oct 2020) |
| EllapsedTime: 13.9 seconds |
| RetCode: 0 |
| Status: OK |
##############################################################################
##############################################################################
###
### Running command:
###
### /home/biocbuild/bbs-3.11-bioc/R/bin/R CMD INSTALL adSplit
###
##############################################################################
##############################################################################
* installing to library ‘/home/biocbuild/bbs-3.11-bioc/R/library’
* installing *source* package ‘adSplit’ ...
** using staged installation
** libs
g++ -std=gnu++11 -I"/home/biocbuild/bbs-3.11-bioc/R/include" -DNDEBUG -I/usr/local/include -fpic -g -O2 -Wall -c adSplit.cpp -o adSplit.o
adSplit.cpp: In function ‘double tscore(double*, int, int, split&, isis_pars&)’:
adSplit.cpp:256:77: warning: ISO C++ forbids converting a string constant to ‘char*’ [-Wwrite-strings]
throw Tomato(__LINE__, "tscore: internal error, shame on the programmer");
^
adSplit.cpp: In function ‘void isis(char**, double*, int*, int*, int*, int*, int*, double*, int*)’:
adSplit.cpp:469:67: warning: ISO C++ forbids converting a string constant to ‘char*’ [-Wwrite-strings]
throw Tomato(__LINE__, "isis() called with unknown function");
^
g++ -std=gnu++11 -shared -L/home/biocbuild/bbs-3.11-bioc/R/lib -L/usr/local/lib -o adSplit.so adSplit.o -L/home/biocbuild/bbs-3.11-bioc/R/lib -lR
installing to /home/biocbuild/bbs-3.11-bioc/R/library/00LOCK-adSplit/00new/adSplit/libs
** R
** data
** byte-compile and prepare package for lazy loading
** help
*** installing help indices
** building package indices
** installing vignettes
** testing if installed package can be loaded from temporary location
** checking absolute paths in shared objects and dynamic libraries
** testing if installed package can be loaded from final location
** testing if installed package keeps a record of temporary installation path
* DONE (adSplit)