| Back to Multiple platform build/check report for BioC 3.11 |
|
This page was generated on 2020-10-17 11:56:03 -0400 (Sat, 17 Oct 2020).
| TO THE DEVELOPERS/MAINTAINERS OF THE aCGH PACKAGE: Please make sure to use the following settings in order to reproduce any error or warning you see on this page. |
| Package 13/1905 | Hostname | OS / Arch | INSTALL | BUILD | CHECK | BUILD BIN | ||||||
| aCGH 1.66.0 Peter Dimitrov
| malbec2 | Linux (Ubuntu 18.04.4 LTS) / x86_64 | OK | OK | OK | |||||||
| tokay2 | Windows Server 2012 R2 Standard / x64 | OK | OK | OK | [ OK ] | |||||||
| machv2 | macOS 10.14.6 Mojave / x86_64 | OK | OK | OK | OK |
| Package: aCGH |
| Version: 1.66.0 |
| Command: rm -rf aCGH.buildbin-libdir && mkdir aCGH.buildbin-libdir && C:\Users\biocbuild\bbs-3.11-bioc\R\bin\R.exe CMD INSTALL --merge-multiarch --build --library=aCGH.buildbin-libdir aCGH_1.66.0.tar.gz |
| StartedAt: 2020-10-17 09:44:40 -0400 (Sat, 17 Oct 2020) |
| EndedAt: 2020-10-17 09:47:19 -0400 (Sat, 17 Oct 2020) |
| EllapsedTime: 159.5 seconds |
| RetCode: 0 |
| Status: OK |
| PackageFile: aCGH_1.66.0.zip |
| PackageFileSize: 2.587 MiB |
##############################################################################
##############################################################################
###
### Running command:
###
### rm -rf aCGH.buildbin-libdir && mkdir aCGH.buildbin-libdir && C:\Users\biocbuild\bbs-3.11-bioc\R\bin\R.exe CMD INSTALL --merge-multiarch --build --library=aCGH.buildbin-libdir aCGH_1.66.0.tar.gz
###
##############################################################################
##############################################################################
install for i386
* installing *source* package 'aCGH' ...
** using staged installation
** libs
"C:/rtools40/mingw32/bin/"g++ -std=gnu++11 -I"C:/Users/BIOCBU~1/BBS-3~1.11-/R/include" -DNDEBUG -DUSEDOUBLE -g3 -I"C:/extsoft/include" -O2 -Wall -mfpmath=sse -msse2 -mstackrealign -c hmm.cpp -o hmm.o
C:/rtools40/mingw32/bin/g++ -std=gnu++11 -shared -s -static-libgcc -o aCGH.dll tmp.def hmm.o -lm -LC:/extsoft/lib/i386 -LC:/extsoft/lib -LC:/Users/BIOCBU~1/BBS-3~1.11-/R/bin/i386 -lR
installing to C:/Users/biocbuild/bbs-3.11-bioc/meat/aCGH.buildbin-libdir/00LOCK-aCGH/00new/aCGH/libs/i386
** R
** data
** demo
** inst
** byte-compile and prepare package for lazy loading
** help
*** installing help indices
converting help for package 'aCGH'
finding HTML links ... done
aCGH html
aCGH.process html
aCGH.read.Sprocs html
aCGH.test html
clusterGenome html
colorectal html
computeSD.func html
fga.func html
find.genomic.events html
find.hmm.states html
findAber.func html
findAmplif.func html
findOutliers.func html
findTrans.func html
gainLoss html
heatmap html
human.chrom.info.Jul03 html
human.chrom.info.May04 html
impute.HMM html
impute.lowess html
mergeFunc html
mergeLevels html
plotFreqStat html
plotGenome html
plotHmmStates html
plotSummaryProfile html
states.hmm.func html
summarize.clones html
threshold.func html
** building package indices
** installing vignettes
** testing if installed package can be loaded from temporary location
** testing if installed package can be loaded from final location
** testing if installed package keeps a record of temporary installation path
install for x64
* installing *source* package 'aCGH' ...
** libs
"C:/rtools40/mingw64/bin/"g++ -std=gnu++11 -I"C:/Users/BIOCBU~1/BBS-3~1.11-/R/include" -DNDEBUG -DUSEDOUBLE -g3 -I"C:/extsoft/include" -O2 -Wall -mfpmath=sse -msse2 -mstackrealign -c hmm.cpp -o hmm.o
C:/rtools40/mingw64/bin/g++ -std=gnu++11 -shared -s -static-libgcc -o aCGH.dll tmp.def hmm.o -lm -LC:/extsoft/lib/x64 -LC:/extsoft/lib -LC:/Users/BIOCBU~1/BBS-3~1.11-/R/bin/x64 -lR
installing to C:/Users/biocbuild/bbs-3.11-bioc/meat/aCGH.buildbin-libdir/aCGH/libs/x64
** testing if installed package can be loaded
* MD5 sums
packaged installation of 'aCGH' as aCGH_1.66.0.zip
* DONE (aCGH)