| Back to Multiple platform build/check report for BioC 3.11 |
|
This page was generated on 2020-10-17 11:59:54 -0400 (Sat, 17 Oct 2020).
| TO THE DEVELOPERS/MAINTAINERS OF THE YAPSA PACKAGE: Please make sure to use the following settings in order to reproduce any error or warning you see on this page. |
| Package 1900/1905 | Hostname | OS / Arch | INSTALL | BUILD | CHECK | BUILD BIN | ||||||
| YAPSA 1.14.0 Daniel Huebschmann
| malbec2 | Linux (Ubuntu 18.04.4 LTS) / x86_64 | OK | OK | OK | |||||||
| tokay2 | Windows Server 2012 R2 Standard / x64 | OK | OK | WARNINGS | NA | |||||||
| machv2 | macOS 10.14.6 Mojave / x86_64 | OK | [ OK ] | OK | OK |
| Package: YAPSA |
| Version: 1.14.0 |
| Command: /Library/Frameworks/R.framework/Versions/Current/Resources/bin/R CMD build --keep-empty-dirs --no-resave-data YAPSA |
| StartedAt: 2020-10-16 21:50:20 -0400 (Fri, 16 Oct 2020) |
| EndedAt: 2020-10-16 21:55:01 -0400 (Fri, 16 Oct 2020) |
| EllapsedTime: 281.1 seconds |
| RetCode: 0 |
| Status: OK |
| PackageFile: YAPSA_1.14.0.tar.gz |
| PackageFileSize: 2.832 MiB |
############################################################################## ############################################################################## ### ### Running command: ### ### /Library/Frameworks/R.framework/Versions/Current/Resources/bin/R CMD build --keep-empty-dirs --no-resave-data YAPSA ### ############################################################################## ############################################################################## * checking for file ‘YAPSA/DESCRIPTION’ ... OK * preparing ‘YAPSA’: * checking DESCRIPTION meta-information ... OK * installing the package to build vignettes * creating vignettes ... OK * checking for LF line-endings in source and make files and shell scripts * checking for empty or unneeded directories * looking to see if a ‘data/datalist’ file should be added * building ‘YAPSA_1.14.0.tar.gz’