| Back to Multiple platform build/check report for BioC 3.11 |
|
This page was generated on 2020-10-17 11:59:53 -0400 (Sat, 17 Oct 2020).
| TO THE DEVELOPERS/MAINTAINERS OF THE XCIR PACKAGE: Please make sure to use the following settings in order to reproduce any error or warning you see on this page. |
| Package 1891/1905 | Hostname | OS / Arch | INSTALL | BUILD | CHECK | BUILD BIN | ||||||
| XCIR 1.2.0 Renan Sauteraud
| malbec2 | Linux (Ubuntu 18.04.4 LTS) / x86_64 | OK | OK | OK | |||||||
| tokay2 | Windows Server 2012 R2 Standard / x64 | OK | OK | OK | NA | |||||||
| machv2 | macOS 10.14.6 Mojave / x86_64 | OK | OK | [ OK ] | OK |
| Package: XCIR |
| Version: 1.2.0 |
| Command: /Library/Frameworks/R.framework/Versions/Current/Resources/bin/R CMD check --install=check:XCIR.install-out.txt --library=/Library/Frameworks/R.framework/Versions/Current/Resources/library --no-vignettes --timings XCIR_1.2.0.tar.gz |
| StartedAt: 2020-10-17 06:19:19 -0400 (Sat, 17 Oct 2020) |
| EndedAt: 2020-10-17 06:26:33 -0400 (Sat, 17 Oct 2020) |
| EllapsedTime: 434.5 seconds |
| RetCode: 0 |
| Status: OK |
| CheckDir: XCIR.Rcheck |
| Warnings: 0 |
##############################################################################
##############################################################################
###
### Running command:
###
### /Library/Frameworks/R.framework/Versions/Current/Resources/bin/R CMD check --install=check:XCIR.install-out.txt --library=/Library/Frameworks/R.framework/Versions/Current/Resources/library --no-vignettes --timings XCIR_1.2.0.tar.gz
###
##############################################################################
##############################################################################
* using log directory ‘/Users/biocbuild/bbs-3.11-bioc/meat/XCIR.Rcheck’
* using R version 4.0.3 (2020-10-10)
* using platform: x86_64-apple-darwin17.0 (64-bit)
* using session charset: UTF-8
* using option ‘--no-vignettes’
* checking for file ‘XCIR/DESCRIPTION’ ... OK
* checking extension type ... Package
* this is package ‘XCIR’ version ‘1.2.0’
* checking package namespace information ... OK
* checking package dependencies ... OK
* checking if this is a source package ... OK
* checking if there is a namespace ... OK
* checking for hidden files and directories ... OK
* checking for portable file names ... OK
* checking for sufficient/correct file permissions ... OK
* checking whether package ‘XCIR’ can be installed ... OK
* checking installed package size ... OK
* checking package directory ... OK
* checking ‘build’ directory ... OK
* checking DESCRIPTION meta-information ... OK
* checking top-level files ... OK
* checking for left-over files ... OK
* checking index information ... OK
* checking package subdirectories ... OK
* checking R files for non-ASCII characters ... OK
* checking R files for syntax errors ... OK
* checking whether the package can be loaded ... OK
* checking whether the package can be loaded with stated dependencies ... OK
* checking whether the package can be unloaded cleanly ... OK
* checking whether the namespace can be loaded with stated dependencies ... OK
* checking whether the namespace can be unloaded cleanly ... OK
* checking dependencies in R code ... OK
* checking S3 generic/method consistency ... OK
* checking replacement functions ... OK
* checking foreign function calls ... OK
* checking R code for possible problems ... OK
* checking Rd files ... OK
* checking Rd metadata ... OK
* checking Rd cross-references ... OK
* checking for missing documentation entries ... OK
* checking for code/documentation mismatches ... OK
* checking Rd \usage sections ... OK
* checking Rd contents ... OK
* checking for unstated dependencies in examples ... OK
* checking files in ‘vignettes’ ... OK
* checking examples ... OK
Examples with CPU (user + system) or elapsed time > 5s
user system elapsed
betaBinomXI 9.168 0.270 9.441
getXCIstate 8.993 0.270 9.265
plotQC 8.396 0.253 8.649
sample_clean 8.315 0.148 8.464
addAnno 4.635 0.095 8.077
mart_genes 4.543 0.051 11.181
annotateX 3.457 0.042 6.646
readVCF4 3.446 0.051 6.761
getGenicDP 3.410 0.029 7.017
readRNASNPs 3.400 0.024 6.863
* checking for unstated dependencies in vignettes ... OK
* checking package vignettes in ‘inst/doc’ ... OK
* checking running R code from vignettes ... SKIPPED
* checking re-building of vignette outputs ... SKIPPED
* checking PDF version of manual ... OK
* DONE
Status: OK
XCIR.Rcheck/00install.out
############################################################################## ############################################################################## ### ### Running command: ### ### /Library/Frameworks/R.framework/Versions/Current/Resources/bin/R CMD INSTALL XCIR ### ############################################################################## ############################################################################## * installing to library ‘/Library/Frameworks/R.framework/Versions/4.0/Resources/library’ * installing *source* package ‘XCIR’ ... ** using staged installation ** R ** inst ** byte-compile and prepare package for lazy loading ** help *** installing help indices ** building package indices ** installing vignettes ** testing if installed package can be loaded from temporary location ** testing if installed package can be loaded from final location ** testing if installed package keeps a record of temporary installation path * DONE (XCIR)
XCIR.Rcheck/XCIR-Ex.timings
| name | user | system | elapsed | |
| BetaConversion | 0.001 | 0.000 | 0.001 | |
| addAnno | 4.635 | 0.095 | 8.077 | |
| annotateX | 3.457 | 0.042 | 6.646 | |
| betaBinomXI | 9.168 | 0.270 | 9.441 | |
| consensusXCI | 0.052 | 0.008 | 0.061 | |
| getGenicDP | 3.410 | 0.029 | 7.017 | |
| getXCIstate | 8.993 | 0.270 | 9.265 | |
| mart_genes | 4.543 | 0.051 | 11.181 | |
| plotQC | 8.396 | 0.253 | 8.649 | |
| readRNASNPs | 3.400 | 0.024 | 6.863 | |
| readVCF4 | 3.446 | 0.051 | 6.761 | |
| readXCI | 0.001 | 0.000 | 0.003 | |
| sample_clean | 8.315 | 0.148 | 8.464 | |