| Back to Multiple platform build/check report for BioC 3.11 |
|
This page was generated on 2020-10-16 11:59:08 -0400 (Fri, 16 Oct 2020).
| TO THE DEVELOPERS/MAINTAINERS OF THE VariantExperiment PACKAGE: Please make sure to use the following settings in order to reproduce any error or warning you see on this page. |
| Package 1865/1905 | Hostname | OS / Arch | INSTALL | BUILD | CHECK | BUILD BIN | ||||||
| VariantExperiment 1.2.0 Qian Liu
| malbec2 | Linux (Ubuntu 18.04.4 LTS) / x86_64 | OK | OK | OK | |||||||
| tokay2 | Windows Server 2012 R2 Standard / x64 | OK | OK | OK | [ OK ] | |||||||
| machv2 | macOS 10.14.6 Mojave / x86_64 | OK | OK | OK | OK |
| Package: VariantExperiment |
| Version: 1.2.0 |
| Command: rm -rf VariantExperiment.buildbin-libdir && mkdir VariantExperiment.buildbin-libdir && C:\Users\biocbuild\bbs-3.11-bioc\R\bin\R.exe CMD INSTALL --merge-multiarch --build --library=VariantExperiment.buildbin-libdir VariantExperiment_1.2.0.tar.gz |
| StartedAt: 2020-10-16 11:33:12 -0400 (Fri, 16 Oct 2020) |
| EndedAt: 2020-10-16 11:33:52 -0400 (Fri, 16 Oct 2020) |
| EllapsedTime: 39.5 seconds |
| RetCode: 0 |
| Status: OK |
| PackageFile: VariantExperiment_1.2.0.zip |
| PackageFileSize: 751.6 KiB |
##############################################################################
##############################################################################
###
### Running command:
###
### rm -rf VariantExperiment.buildbin-libdir && mkdir VariantExperiment.buildbin-libdir && C:\Users\biocbuild\bbs-3.11-bioc\R\bin\R.exe CMD INSTALL --merge-multiarch --build --library=VariantExperiment.buildbin-libdir VariantExperiment_1.2.0.tar.gz
###
##############################################################################
##############################################################################
install for i386
* installing *source* package 'VariantExperiment' ...
** using staged installation
** R
** inst
** byte-compile and prepare package for lazy loading
Creating a new generic function for 'seqAlleleFreq' in package 'VariantExperiment'
Creating a new generic function for 'seqAlleleCount' in package 'VariantExperiment'
Creating a new generic function for 'seqMissing' in package 'VariantExperiment'
** help
*** installing help indices
converting help for package 'VariantExperiment'
finding HTML links ... done
VariantExperiment-class html
VariantExperiment-methods html
VariantExperiment-package html
loadVariantExperiment html
makeVariantExperimentFromGDS html
makeVariantExperimentFromVCF html
saveVariantExperiment html
** building package indices
** installing vignettes
** testing if installed package can be loaded from temporary location
** testing if installed package can be loaded from final location
** testing if installed package keeps a record of temporary installation path
install for x64
* installing *source* package 'VariantExperiment' ...
** testing if installed package can be loaded
* MD5 sums
packaged installation of 'VariantExperiment' as VariantExperiment_1.2.0.zip
* DONE (VariantExperiment)