| Back to Multiple platform build/check report for BioC 3.11 |
|
This page was generated on 2020-10-16 11:59:07 -0400 (Fri, 16 Oct 2020).
| TO THE DEVELOPERS/MAINTAINERS OF THE Ularcirc PACKAGE: Please make sure to use the following settings in order to reproduce any error or warning you see on this page. |
| Package 1855/1905 | Hostname | OS / Arch | INSTALL | BUILD | CHECK | BUILD BIN | ||||||
| Ularcirc 1.6.0 David Humphreys
| malbec2 | Linux (Ubuntu 18.04.4 LTS) / x86_64 | OK | OK | OK | |||||||
| tokay2 | Windows Server 2012 R2 Standard / x64 | OK | OK | OK | [ OK ] | |||||||
| machv2 | macOS 10.14.6 Mojave / x86_64 | OK | OK | OK | OK |
| Package: Ularcirc |
| Version: 1.6.0 |
| Command: rm -rf Ularcirc.buildbin-libdir && mkdir Ularcirc.buildbin-libdir && C:\Users\biocbuild\bbs-3.11-bioc\R\bin\R.exe CMD INSTALL --merge-multiarch --build --library=Ularcirc.buildbin-libdir Ularcirc_1.6.0.tar.gz |
| StartedAt: 2020-10-16 11:32:34 -0400 (Fri, 16 Oct 2020) |
| EndedAt: 2020-10-16 11:33:29 -0400 (Fri, 16 Oct 2020) |
| EllapsedTime: 54.6 seconds |
| RetCode: 0 |
| Status: OK |
| PackageFile: Ularcirc_1.6.0.zip |
| PackageFileSize: 4.786 MiB |
##############################################################################
##############################################################################
###
### Running command:
###
### rm -rf Ularcirc.buildbin-libdir && mkdir Ularcirc.buildbin-libdir && C:\Users\biocbuild\bbs-3.11-bioc\R\bin\R.exe CMD INSTALL --merge-multiarch --build --library=Ularcirc.buildbin-libdir Ularcirc_1.6.0.tar.gz
###
##############################################################################
##############################################################################
install for i386
* installing *source* package 'Ularcirc' ...
** using staged installation
** R
** inst
** byte-compile and prepare package for lazy loading
** help
*** installing help indices
converting help for package 'Ularcirc'
finding HTML links ... done
Compatible_Annotation_DBs html
Ularcirc html
bsj_fastq_generate html
bsj_to_circRNA_sequence html
** building package indices
** installing vignettes
** testing if installed package can be loaded from temporary location
** testing if installed package can be loaded from final location
** testing if installed package keeps a record of temporary installation path
install for x64
* installing *source* package 'Ularcirc' ...
** testing if installed package can be loaded
* MD5 sums
packaged installation of 'Ularcirc' as Ularcirc_1.6.0.zip
* DONE (Ularcirc)