| Back to Multiple platform build/check report for BioC 3.11 |
|
This page was generated on 2020-10-16 11:59:05 -0400 (Fri, 16 Oct 2020).
| TO THE DEVELOPERS/MAINTAINERS OF THE TreeSummarizedExperiment PACKAGE: Please make sure to use the following settings in order to reproduce any error or warning you see on this page. |
| Package 1830/1905 | Hostname | OS / Arch | INSTALL | BUILD | CHECK | BUILD BIN | ||||||
| TreeSummarizedExperiment 1.4.8 Ruizhu Huang
| malbec2 | Linux (Ubuntu 18.04.4 LTS) / x86_64 | OK | OK | OK | |||||||
| tokay2 | Windows Server 2012 R2 Standard / x64 | OK | OK | OK | [ OK ] | |||||||
| machv2 | macOS 10.14.6 Mojave / x86_64 | OK | OK | OK | OK |
| Package: TreeSummarizedExperiment |
| Version: 1.4.8 |
| Command: rm -rf TreeSummarizedExperiment.buildbin-libdir && mkdir TreeSummarizedExperiment.buildbin-libdir && C:\Users\biocbuild\bbs-3.11-bioc\R\bin\R.exe CMD INSTALL --merge-multiarch --build --library=TreeSummarizedExperiment.buildbin-libdir TreeSummarizedExperiment_1.4.8.tar.gz |
| StartedAt: 2020-10-16 11:31:02 -0400 (Fri, 16 Oct 2020) |
| EndedAt: 2020-10-16 11:31:50 -0400 (Fri, 16 Oct 2020) |
| EllapsedTime: 48.3 seconds |
| RetCode: 0 |
| Status: OK |
| PackageFile: TreeSummarizedExperiment_1.4.8.zip |
| PackageFileSize: 902.8 KiB |
##############################################################################
##############################################################################
###
### Running command:
###
### rm -rf TreeSummarizedExperiment.buildbin-libdir && mkdir TreeSummarizedExperiment.buildbin-libdir && C:\Users\biocbuild\bbs-3.11-bioc\R\bin\R.exe CMD INSTALL --merge-multiarch --build --library=TreeSummarizedExperiment.buildbin-libdir TreeSummarizedExperiment_1.4.8.tar.gz
###
##############################################################################
##############################################################################
install for i386
* installing *source* package 'TreeSummarizedExperiment' ...
** using staged installation
** R
** data
*** moving datasets to lazyload DB
** inst
** byte-compile and prepare package for lazy loading
** help
*** installing help indices
converting help for package 'TreeSummarizedExperiment'
finding HTML links ... done
LinkDataFrame-class html
LinkDataFrame-constructor html
TreeSummarizedExperiment-accessor html
TreeSummarizedExperiment-class html
TreeSummarizedExperiment-constructor html
finding level-2 HTML links ... done
addLabel html
aggValue html
asLeaf html
changeTree html
convertNode html
countLeaf html
countNode html
detectLoop html
distNode html
dot-checkLDF html
dot-checkTSE html
findAncestor html
findChild html
findDescendant html
findSibling html
isLeaf html
matTree html
phylo html
printNode html
resolveLoop html
shareNode html
showNode html
signalNode html
tinyTree html
toTree html
trackNode html
unionLeaf html
** building package indices
** installing vignettes
** testing if installed package can be loaded from temporary location
** testing if installed package can be loaded from final location
** testing if installed package keeps a record of temporary installation path
install for x64
* installing *source* package 'TreeSummarizedExperiment' ...
** testing if installed package can be loaded
* MD5 sums
packaged installation of 'TreeSummarizedExperiment' as TreeSummarizedExperiment_1.4.8.zip
* DONE (TreeSummarizedExperiment)