| Back to Multiple platform build/check report for BioC 3.11 |
|
This page was generated on 2020-10-16 11:59:03 -0400 (Fri, 16 Oct 2020).
| TO THE DEVELOPERS/MAINTAINERS OF THE TimeSeriesExperiment PACKAGE: Please make sure to use the following settings in order to reproduce any error or warning you see on this page. |
| Package 1803/1905 | Hostname | OS / Arch | INSTALL | BUILD | CHECK | BUILD BIN | ||||||
| TimeSeriesExperiment 1.6.0 Lan Huong Nguyen
| malbec2 | Linux (Ubuntu 18.04.4 LTS) / x86_64 | OK | OK | WARNINGS | |||||||
| tokay2 | Windows Server 2012 R2 Standard / x64 | OK | OK | WARNINGS | [ OK ] | |||||||
| machv2 | macOS 10.14.6 Mojave / x86_64 | OK | OK | WARNINGS | OK |
| Package: TimeSeriesExperiment |
| Version: 1.6.0 |
| Command: rm -rf TimeSeriesExperiment.buildbin-libdir && mkdir TimeSeriesExperiment.buildbin-libdir && C:\Users\biocbuild\bbs-3.11-bioc\R\bin\R.exe CMD INSTALL --merge-multiarch --build --library=TimeSeriesExperiment.buildbin-libdir TimeSeriesExperiment_1.6.0.tar.gz |
| StartedAt: 2020-10-16 11:29:19 -0400 (Fri, 16 Oct 2020) |
| EndedAt: 2020-10-16 11:30:07 -0400 (Fri, 16 Oct 2020) |
| EllapsedTime: 48.4 seconds |
| RetCode: 0 |
| Status: OK |
| PackageFile: TimeSeriesExperiment_1.6.0.zip |
| PackageFileSize: 835.3 KiB |
##############################################################################
##############################################################################
###
### Running command:
###
### rm -rf TimeSeriesExperiment.buildbin-libdir && mkdir TimeSeriesExperiment.buildbin-libdir && C:\Users\biocbuild\bbs-3.11-bioc\R\bin\R.exe CMD INSTALL --merge-multiarch --build --library=TimeSeriesExperiment.buildbin-libdir TimeSeriesExperiment_1.6.0.tar.gz
###
##############################################################################
##############################################################################
install for i386
* installing *source* package 'TimeSeriesExperiment' ...
** using staged installation
** R
** data
** inst
** byte-compile and prepare package for lazy loading
** help
*** installing help indices
converting help for package 'TimeSeriesExperiment'
finding HTML links ... done
TimeSeriesExperiment html
finding level-2 HTML links ... done
addLags html
assignClusterDynamic html
assignClusterStatic html
clusterAssignment html
clusterData html
clusterTimeSeries html
colData html
collapseReplicates html
collapsed-data html
dataToTimeSeries html
differentialExpression html
dimensionReduction html
dot-addLagsToTimeSeries html
dot-imputeData html
endoderm_small html
filterFeatures html
groups html
makeTimeSeries html
makeTimeSeriesExperimentFromExpressionSet
html
makeTimeSeriesExperimentFromSummarizedExperiment
html
meltMatrix html
normalizeData html
pathwayEnrichment html
pipe html
plotEnrichment html
plotHeatmap html
plotSamplePCA html
plotTimeSeries html
plotTimeSeriesClusters html
plotTimeSeriesPCA html
replicates html
rowData html
row_and_colnames html
runPCA html
show-methods html
timeSeries html
timepointDE html
timepoints html
trajectoryDE html
varianceStabilization html
** building package indices
** installing vignettes
** testing if installed package can be loaded from temporary location
** testing if installed package can be loaded from final location
** testing if installed package keeps a record of temporary installation path
install for x64
* installing *source* package 'TimeSeriesExperiment' ...
** testing if installed package can be loaded
* MD5 sums
packaged installation of 'TimeSeriesExperiment' as TimeSeriesExperiment_1.6.0.zip
* DONE (TimeSeriesExperiment)