| Back to Multiple platform build/check report for BioC 3.11 |
|
This page was generated on 2020-10-16 11:59:01 -0400 (Fri, 16 Oct 2020).
| TO THE DEVELOPERS/MAINTAINERS OF THE TargetSearch PACKAGE: Please make sure to use the following settings in order to reproduce any error or warning you see on this page. |
| Package 1780/1905 | Hostname | OS / Arch | INSTALL | BUILD | CHECK | BUILD BIN | ||||||
| TargetSearch 1.44.0 Alvaro Cuadros-Inostroza
| malbec2 | Linux (Ubuntu 18.04.4 LTS) / x86_64 | OK | OK | OK | |||||||
| tokay2 | Windows Server 2012 R2 Standard / x64 | OK | OK | OK | [ OK ] | |||||||
| machv2 | macOS 10.14.6 Mojave / x86_64 | OK | OK | OK | OK |
| Package: TargetSearch |
| Version: 1.44.0 |
| Command: rm -rf TargetSearch.buildbin-libdir && mkdir TargetSearch.buildbin-libdir && C:\Users\biocbuild\bbs-3.11-bioc\R\bin\R.exe CMD INSTALL --merge-multiarch --build --library=TargetSearch.buildbin-libdir TargetSearch_1.44.0.tar.gz |
| StartedAt: 2020-10-16 11:27:51 -0400 (Fri, 16 Oct 2020) |
| EndedAt: 2020-10-16 11:28:38 -0400 (Fri, 16 Oct 2020) |
| EllapsedTime: 47.0 seconds |
| RetCode: 0 |
| Status: OK |
| PackageFile: TargetSearch_1.44.0.zip |
| PackageFileSize: 1.118 MiB |
##############################################################################
##############################################################################
###
### Running command:
###
### rm -rf TargetSearch.buildbin-libdir && mkdir TargetSearch.buildbin-libdir && C:\Users\biocbuild\bbs-3.11-bioc\R\bin\R.exe CMD INSTALL --merge-multiarch --build --library=TargetSearch.buildbin-libdir TargetSearch_1.44.0.tar.gz
###
##############################################################################
##############################################################################
install for i386
* installing *source* package 'TargetSearch' ...
** using staged installation
** libs
"C:/rtools40/mingw32/bin/"gcc -I"C:/Users/BIOCBU~1/BBS-3~1.11-/R/include" -DNDEBUG -I"C:/extsoft/include" -O2 -Wall -std=gnu99 -mfpmath=sse -msse2 -mstackrealign -c Rinit.c -o Rinit.o
"C:/rtools40/mingw32/bin/"gcc -I"C:/Users/BIOCBU~1/BBS-3~1.11-/R/include" -DNDEBUG -I"C:/extsoft/include" -O2 -Wall -std=gnu99 -mfpmath=sse -msse2 -mstackrealign -c baseline.c -o baseline.o
"C:/rtools40/mingw32/bin/"gcc -I"C:/Users/BIOCBU~1/BBS-3~1.11-/R/include" -DNDEBUG -I"C:/extsoft/include" -O2 -Wall -std=gnu99 -mfpmath=sse -msse2 -mstackrealign -c detection.c -o detection.o
"C:/rtools40/mingw32/bin/"gcc -I"C:/Users/BIOCBU~1/BBS-3~1.11-/R/include" -DNDEBUG -I"C:/extsoft/include" -O2 -Wall -std=gnu99 -mfpmath=sse -msse2 -mstackrealign -c file.c -o file.o
"C:/rtools40/mingw32/bin/"gcc -I"C:/Users/BIOCBU~1/BBS-3~1.11-/R/include" -DNDEBUG -I"C:/extsoft/include" -O2 -Wall -std=gnu99 -mfpmath=sse -msse2 -mstackrealign -c find_peaks.c -o find_peaks.o
"C:/rtools40/mingw32/bin/"gcc -I"C:/Users/BIOCBU~1/BBS-3~1.11-/R/include" -DNDEBUG -I"C:/extsoft/include" -O2 -Wall -std=gnu99 -mfpmath=sse -msse2 -mstackrealign -c getLine.c -o getLine.o
"C:/rtools40/mingw32/bin/"gcc -I"C:/Users/BIOCBU~1/BBS-3~1.11-/R/include" -DNDEBUG -I"C:/extsoft/include" -O2 -Wall -std=gnu99 -mfpmath=sse -msse2 -mstackrealign -c hpf.c -o hpf.o
"C:/rtools40/mingw32/bin/"gcc -I"C:/Users/BIOCBU~1/BBS-3~1.11-/R/include" -DNDEBUG -I"C:/extsoft/include" -O2 -Wall -std=gnu99 -mfpmath=sse -msse2 -mstackrealign -c matrix.c -o matrix.o
"C:/rtools40/mingw32/bin/"gcc -I"C:/Users/BIOCBU~1/BBS-3~1.11-/R/include" -DNDEBUG -I"C:/extsoft/include" -O2 -Wall -std=gnu99 -mfpmath=sse -msse2 -mstackrealign -c ncdf.c -o ncdf.o
"C:/rtools40/mingw32/bin/"gcc -I"C:/Users/BIOCBU~1/BBS-3~1.11-/R/include" -DNDEBUG -I"C:/extsoft/include" -O2 -Wall -std=gnu99 -mfpmath=sse -msse2 -mstackrealign -c peak.c -o peak.o
"C:/rtools40/mingw32/bin/"gcc -I"C:/Users/BIOCBU~1/BBS-3~1.11-/R/include" -DNDEBUG -I"C:/extsoft/include" -O2 -Wall -std=gnu99 -mfpmath=sse -msse2 -mstackrealign -c utils.c -o utils.o
C:/rtools40/mingw32/bin/gcc -shared -s -static-libgcc -o TargetSearch.dll tmp.def Rinit.o baseline.o detection.o file.o find_peaks.o getLine.o hpf.o matrix.o ncdf.o peak.o utils.o -LC:/extsoft/lib/i386 -LC:/extsoft/lib -LC:/Users/BIOCBU~1/BBS-3~1.11-/R/bin/i386 -lR
installing to C:/Users/biocbuild/bbs-3.11-bioc/meat/TargetSearch.buildbin-libdir/00LOCK-TargetSearch/00new/TargetSearch/libs/i386
** R
** data
** inst
** byte-compile and prepare package for lazy loading
** help
*** installing help indices
converting help for package 'TargetSearch'
finding HTML links ... done
FAMEoutliers html
FindAllPeaks html
FindPeaks html
ImportFameSettings html
ImportLibrary html
ImportSamples html
NetCDFPeakFinding html
Profile html
ProfileCleanUp html
RIcorrect html
TSExample html
TargetSearch-defunct html
TargetSearch-package html
Write.Results html
baseline html
baselineCorrection html
baselineCorrectionQuant html
checkRimLim html
file html
fixRI html
medianRILib html
ncdf4Convert-method html
ncdf4_convert html
ncdf4_convert_from_path html
ncdf4_data_extract html
ncdf4_update_ri html
peakCDFextraction html
peakFind html
plotFAME html
plotPeak html
plotPeakRI html
plotPeakSimple html
plotRIdev html
plotSpectra html
quantMatrix html
ri2rt html
riMatrix html
rt2ri html
sampleRI html
tsLib-class html
tsMSdata-class html
tsProfile-class html
tsRim-class html
tsSample-class html
tsUpdate-method html
updateRI html
writeLibText html
writeMSP html
** building package indices
** installing vignettes
** testing if installed package can be loaded from temporary location
** testing if installed package can be loaded from final location
** testing if installed package keeps a record of temporary installation path
install for x64
* installing *source* package 'TargetSearch' ...
** libs
"C:/rtools40/mingw64/bin/"gcc -I"C:/Users/BIOCBU~1/BBS-3~1.11-/R/include" -DNDEBUG -I"C:/extsoft/include" -O2 -Wall -std=gnu99 -mfpmath=sse -msse2 -mstackrealign -c Rinit.c -o Rinit.o
"C:/rtools40/mingw64/bin/"gcc -I"C:/Users/BIOCBU~1/BBS-3~1.11-/R/include" -DNDEBUG -I"C:/extsoft/include" -O2 -Wall -std=gnu99 -mfpmath=sse -msse2 -mstackrealign -c baseline.c -o baseline.o
"C:/rtools40/mingw64/bin/"gcc -I"C:/Users/BIOCBU~1/BBS-3~1.11-/R/include" -DNDEBUG -I"C:/extsoft/include" -O2 -Wall -std=gnu99 -mfpmath=sse -msse2 -mstackrealign -c detection.c -o detection.o
"C:/rtools40/mingw64/bin/"gcc -I"C:/Users/BIOCBU~1/BBS-3~1.11-/R/include" -DNDEBUG -I"C:/extsoft/include" -O2 -Wall -std=gnu99 -mfpmath=sse -msse2 -mstackrealign -c file.c -o file.o
"C:/rtools40/mingw64/bin/"gcc -I"C:/Users/BIOCBU~1/BBS-3~1.11-/R/include" -DNDEBUG -I"C:/extsoft/include" -O2 -Wall -std=gnu99 -mfpmath=sse -msse2 -mstackrealign -c find_peaks.c -o find_peaks.o
"C:/rtools40/mingw64/bin/"gcc -I"C:/Users/BIOCBU~1/BBS-3~1.11-/R/include" -DNDEBUG -I"C:/extsoft/include" -O2 -Wall -std=gnu99 -mfpmath=sse -msse2 -mstackrealign -c getLine.c -o getLine.o
"C:/rtools40/mingw64/bin/"gcc -I"C:/Users/BIOCBU~1/BBS-3~1.11-/R/include" -DNDEBUG -I"C:/extsoft/include" -O2 -Wall -std=gnu99 -mfpmath=sse -msse2 -mstackrealign -c hpf.c -o hpf.o
"C:/rtools40/mingw64/bin/"gcc -I"C:/Users/BIOCBU~1/BBS-3~1.11-/R/include" -DNDEBUG -I"C:/extsoft/include" -O2 -Wall -std=gnu99 -mfpmath=sse -msse2 -mstackrealign -c matrix.c -o matrix.o
"C:/rtools40/mingw64/bin/"gcc -I"C:/Users/BIOCBU~1/BBS-3~1.11-/R/include" -DNDEBUG -I"C:/extsoft/include" -O2 -Wall -std=gnu99 -mfpmath=sse -msse2 -mstackrealign -c ncdf.c -o ncdf.o
"C:/rtools40/mingw64/bin/"gcc -I"C:/Users/BIOCBU~1/BBS-3~1.11-/R/include" -DNDEBUG -I"C:/extsoft/include" -O2 -Wall -std=gnu99 -mfpmath=sse -msse2 -mstackrealign -c peak.c -o peak.o
"C:/rtools40/mingw64/bin/"gcc -I"C:/Users/BIOCBU~1/BBS-3~1.11-/R/include" -DNDEBUG -I"C:/extsoft/include" -O2 -Wall -std=gnu99 -mfpmath=sse -msse2 -mstackrealign -c utils.c -o utils.o
C:/rtools40/mingw64/bin/gcc -shared -s -static-libgcc -o TargetSearch.dll tmp.def Rinit.o baseline.o detection.o file.o find_peaks.o getLine.o hpf.o matrix.o ncdf.o peak.o utils.o -LC:/extsoft/lib/x64 -LC:/extsoft/lib -LC:/Users/BIOCBU~1/BBS-3~1.11-/R/bin/x64 -lR
installing to C:/Users/biocbuild/bbs-3.11-bioc/meat/TargetSearch.buildbin-libdir/TargetSearch/libs/x64
** testing if installed package can be loaded
* MD5 sums
packaged installation of 'TargetSearch' as TargetSearch_1.44.0.zip
* DONE (TargetSearch)