| Back to Multiple platform build/check report for BioC 3.11 |
|
This page was generated on 2020-10-16 11:59:01 -0400 (Fri, 16 Oct 2020).
| TO THE DEVELOPERS/MAINTAINERS OF THE TarSeqQC PACKAGE: Please make sure to use the following settings in order to reproduce any error or warning you see on this page. |
| Package 1781/1905 | Hostname | OS / Arch | INSTALL | BUILD | CHECK | BUILD BIN | ||||||
| TarSeqQC 1.18.0 Gabriela Merino
| malbec2 | Linux (Ubuntu 18.04.4 LTS) / x86_64 | OK | OK | OK | |||||||
| tokay2 | Windows Server 2012 R2 Standard / x64 | OK | OK | TIMEOUT | [ OK ] | |||||||
| machv2 | macOS 10.14.6 Mojave / x86_64 | OK | OK | OK | OK |
| Package: TarSeqQC |
| Version: 1.18.0 |
| Command: rm -rf TarSeqQC.buildbin-libdir && mkdir TarSeqQC.buildbin-libdir && C:\Users\biocbuild\bbs-3.11-bioc\R\bin\R.exe CMD INSTALL --merge-multiarch --build --library=TarSeqQC.buildbin-libdir TarSeqQC_1.18.0.tar.gz |
| StartedAt: 2020-10-16 11:27:55 -0400 (Fri, 16 Oct 2020) |
| EndedAt: 2020-10-16 11:28:51 -0400 (Fri, 16 Oct 2020) |
| EllapsedTime: 56.2 seconds |
| RetCode: 0 |
| Status: OK |
| PackageFile: TarSeqQC_1.18.0.zip |
| PackageFileSize: 2.659 MiB |
##############################################################################
##############################################################################
###
### Running command:
###
### rm -rf TarSeqQC.buildbin-libdir && mkdir TarSeqQC.buildbin-libdir && C:\Users\biocbuild\bbs-3.11-bioc\R\bin\R.exe CMD INSTALL --merge-multiarch --build --library=TarSeqQC.buildbin-libdir TarSeqQC_1.18.0.tar.gz
###
##############################################################################
##############################################################################
install for i386
* installing *source* package 'TarSeqQC' ...
** using staged installation
** R
** data
** inst
** byte-compile and prepare package for lazy loading
** help
*** installing help indices
converting help for package 'TarSeqQC'
finding HTML links ... done
TEList html
TarSeqQC-package html
TargetExperiment-biasExploration html
TargetExperiment-buildFeaturePanel html
TargetExperiment-buildReport html
TargetExperiment-class html
TargetExperiment-constructor html
TargetExperiment-getters html
TargetExperiment-initialize html
TargetExperiment-plot html
TargetExperiment-plotAttrExpl html
TargetExperiment-plotAttrPerform html
TargetExperiment-plotFeatPerform html
TargetExperiment-plotFeature html
TargetExperiment-plotGeneAttrPerFeat html
TargetExperiment-plotMetaDataExpl html
TargetExperiment-plotNtdPercentage html
TargetExperiment-plotRegion html
TargetExperiment-print html
TargetExperiment-readFrequencies html
TargetExperiment-setters html
TargetExperiment-show html
TargetExperiment-statistics html
TargetExperiment-summarizePanel html
TargetExperimentList-class html
TargetExperimentList-constructor html
TargetExperimentList-initialize html
TargetExperimentList-plotGlobalAttrExpl
html
TargetExperimentList-plotPoolPerformance
html
ampliPanel html
ampliPanel2 html
checkBedFasta html
myCounts html
object html
pileupCounts html
plotInOutFeatures html
** building package indices
** installing vignettes
** testing if installed package can be loaded from temporary location
** testing if installed package can be loaded from final location
** testing if installed package keeps a record of temporary installation path
install for x64
* installing *source* package 'TarSeqQC' ...
** testing if installed package can be loaded
* MD5 sums
packaged installation of 'TarSeqQC' as TarSeqQC_1.18.0.zip
* DONE (TarSeqQC)