| Back to Multiple platform build/check report for BioC 3.11 | 
  | 
This page was generated on 2020-10-17 11:59:50 -0400 (Sat, 17 Oct 2020).
| TO THE DEVELOPERS/MAINTAINERS OF THE TVTB PACKAGE: Please make sure to use the following settings in order to reproduce any error or warning you see on this page. | 
| Package 1847/1905 | Hostname | OS / Arch | INSTALL | BUILD | CHECK | BUILD BIN | ||||||
| TVTB 1.14.0 Kevin Rue-Albrecht 
  | malbec2 | Linux (Ubuntu 18.04.4 LTS) / x86_64 | OK | OK | OK | |||||||
| tokay2 | Windows Server 2012 R2 Standard / x64 | ...NOT SUPPORTED... | ||||||||||
| machv2 | macOS 10.14.6 Mojave / x86_64 | OK | OK | OK | [ OK ] | |||||||
| Package: TVTB | 
| Version: 1.14.0 | 
| Command: rm -rf TVTB.buildbin-libdir && mkdir TVTB.buildbin-libdir && /Users/biocbuild/BBS/utils/build-universal.sh TVTB_1.14.0.tar.gz /Library/Frameworks/R.framework/Versions/Current/Resources/bin/R TVTB.buildbin-libdir | 
| StartedAt: 2020-10-17 08:09:18 -0400 (Sat, 17 Oct 2020) | 
| EndedAt: 2020-10-17 08:10:29 -0400 (Sat, 17 Oct 2020) | 
| EllapsedTime: 71.1 seconds | 
| RetCode: 0 | 
| Status: OK | 
| PackageFile: TVTB_1.14.0.tgz | 
| PackageFileSize: 2.539 MiB | 
############################################################################## ############################################################################## ### ### Running command: ### ### rm -rf TVTB.buildbin-libdir && mkdir TVTB.buildbin-libdir && /Users/biocbuild/BBS/utils/build-universal.sh TVTB_1.14.0.tar.gz /Library/Frameworks/R.framework/Versions/Current/Resources/bin/R TVTB.buildbin-libdir ### ############################################################################## ############################################################################## >>>>>>> >>>>>>> INSTALLATION WITH 'R CMD INSTALL --preclean --no-multiarch --library=TVTB.buildbin-libdir TVTB_1.14.0.tar.gz' >>>>>>> * installing *source* package ‘TVTB’ ... ** using staged installation ** R ** inst ** byte-compile and prepare package for lazy loading ** help *** installing help indices ** building package indices ** installing vignettes ** testing if installed package can be loaded from temporary location ** testing if installed package can be loaded from final location ** testing if installed package keeps a record of temporary installation path * DONE (TVTB)