Back to Multiple platform build/check report for BioC 3.11
ABCDEFGHIJKLMNOPQRS[T]UVWXYZ

BUILD BIN report for TNBC.CMS on tokay2

This page was generated on 2020-10-16 11:59:03 -0400 (Fri, 16 Oct 2020).

TO THE DEVELOPERS/MAINTAINERS OF THE TNBC.CMS PACKAGE: Please make sure to use the following settings in order to reproduce any error or warning you see on this page.
Package 1809/1905HostnameOS / ArchINSTALLBUILDCHECKBUILD BIN
TNBC.CMS 1.4.0
Doyeong Yu
Snapshot Date: 2020-10-15 14:40:03 -0400 (Thu, 15 Oct 2020)
URL: https://git.bioconductor.org/packages/TNBC.CMS
Branch: RELEASE_3_11
Last Commit: 26c3d01
Last Changed Date: 2020-04-27 15:25:18 -0400 (Mon, 27 Apr 2020)
malbec2 Linux (Ubuntu 18.04.4 LTS) / x86_64  OK  OK  OK UNNEEDED, same version exists in internal repository
tokay2 Windows Server 2012 R2 Standard / x64  OK  OK  OK [ OK ]UNNEEDED, same version exists in internal repository
machv2 macOS 10.14.6 Mojave / x86_64  OK  OK  OK  OK UNNEEDED, same version exists in internal repository

Summary

Package: TNBC.CMS
Version: 1.4.0
Command: rm -rf TNBC.CMS.buildbin-libdir && mkdir TNBC.CMS.buildbin-libdir && C:\Users\biocbuild\bbs-3.11-bioc\R\bin\R.exe CMD INSTALL --merge-multiarch --build --library=TNBC.CMS.buildbin-libdir TNBC.CMS_1.4.0.tar.gz
StartedAt: 2020-10-16 11:29:43 -0400 (Fri, 16 Oct 2020)
EndedAt: 2020-10-16 11:30:34 -0400 (Fri, 16 Oct 2020)
EllapsedTime: 51.2 seconds
RetCode: 0
Status:  OK  
PackageFile: TNBC.CMS_1.4.0.zip
PackageFileSize: 3.113 MiB

Command output

##############################################################################
##############################################################################
###
### Running command:
###
###   rm -rf TNBC.CMS.buildbin-libdir && mkdir TNBC.CMS.buildbin-libdir && C:\Users\biocbuild\bbs-3.11-bioc\R\bin\R.exe CMD INSTALL --merge-multiarch --build --library=TNBC.CMS.buildbin-libdir TNBC.CMS_1.4.0.tar.gz
###
##############################################################################
##############################################################################



install for i386

* installing *source* package 'TNBC.CMS' ...
** using staged installation
** R
** data
** inst
** byte-compile and prepare package for lazy loading
** help
*** installing help indices
  converting help for package 'TNBC.CMS'
    finding HTML links ... done
    GSE25055                                html  
    computeDS                               html  
    computeESTIMATEscore                    html  
    computeGES                              html  
    computexCellScore                       html  
    performGSVA                             html  
    plotHR                                  html  
    plotKM                                  html  
    predictCMS                              html  
** building package indices
** installing vignettes
** testing if installed package can be loaded from temporary location
** testing if installed package can be loaded from final location
** testing if installed package keeps a record of temporary installation path

install for x64

* installing *source* package 'TNBC.CMS' ...
** testing if installed package can be loaded
* MD5 sums
packaged installation of 'TNBC.CMS' as TNBC.CMS_1.4.0.zip
* DONE (TNBC.CMS)