| Back to Multiple platform build/check report for BioC 3.11 |
|
This page was generated on 2020-10-17 11:57:55 -0400 (Sat, 17 Oct 2020).
| TO THE DEVELOPERS/MAINTAINERS OF THE TEQC PACKAGE: Please make sure to use the following settings in order to reproduce any error or warning you see on this page. |
| Package 1790/1905 | Hostname | OS / Arch | INSTALL | BUILD | CHECK | BUILD BIN | ||||||
| TEQC 4.10.0 Manuela Hummel
| malbec2 | Linux (Ubuntu 18.04.4 LTS) / x86_64 | OK | OK | OK | |||||||
| tokay2 | Windows Server 2012 R2 Standard / x64 | OK | [ OK ] | OK | NA | |||||||
| machv2 | macOS 10.14.6 Mojave / x86_64 | OK | ERROR | skipped | skipped |
| Package: TEQC |
| Version: 4.10.0 |
| Command: chmod a+r TEQC -R && C:\Users\biocbuild\bbs-3.11-bioc\R\bin\R.exe CMD build --keep-empty-dirs --no-resave-data TEQC |
| StartedAt: 2020-10-17 00:57:34 -0400 (Sat, 17 Oct 2020) |
| EndedAt: 2020-10-17 00:58:19 -0400 (Sat, 17 Oct 2020) |
| EllapsedTime: 44.1 seconds |
| RetCode: 0 |
| Status: OK |
| PackageFile: TEQC_4.10.0.tar.gz |
| PackageFileSize: 561 KiB |
############################################################################## ############################################################################## ### ### Running command: ### ### chmod a+r TEQC -R && C:\Users\biocbuild\bbs-3.11-bioc\R\bin\R.exe CMD build --keep-empty-dirs --no-resave-data TEQC ### ############################################################################## ############################################################################## * checking for file 'TEQC/DESCRIPTION' ... OK * preparing 'TEQC': * checking DESCRIPTION meta-information ... OK * installing the package to build vignettes * creating vignettes ... OK * checking for LF line-endings in source and make files and shell scripts * checking for empty or unneeded directories * building 'TEQC_4.10.0.tar.gz'