| Back to Multiple platform build/check report for BioC 3.11 |
|
This page was generated on 2020-10-17 11:55:55 -0400 (Sat, 17 Oct 2020).
| TO THE DEVELOPERS/MAINTAINERS OF THE TCGAutils PACKAGE: Please make sure to use the following settings in order to reproduce any error or warning you see on this page. |
| Package 1786/1905 | Hostname | OS / Arch | INSTALL | BUILD | CHECK | BUILD BIN | ||||||
| TCGAutils 1.8.1 Marcel Ramos
| malbec2 | Linux (Ubuntu 18.04.4 LTS) / x86_64 | OK | OK | [ OK ] | |||||||
| tokay2 | Windows Server 2012 R2 Standard / x64 | OK | OK | OK | NA | |||||||
| machv2 | macOS 10.14.6 Mojave / x86_64 | OK | OK | OK | OK |
| Package: TCGAutils |
| Version: 1.8.1 |
| Command: /home/biocbuild/bbs-3.11-bioc/R/bin/R CMD check --install=check:TCGAutils.install-out.txt --library=/home/biocbuild/bbs-3.11-bioc/R/library --no-vignettes --timings TCGAutils_1.8.1.tar.gz |
| StartedAt: 2020-10-17 06:00:03 -0400 (Sat, 17 Oct 2020) |
| EndedAt: 2020-10-17 06:08:42 -0400 (Sat, 17 Oct 2020) |
| EllapsedTime: 518.7 seconds |
| RetCode: 0 |
| Status: OK |
| CheckDir: TCGAutils.Rcheck |
| Warnings: 0 |
##############################################################################
##############################################################################
###
### Running command:
###
### /home/biocbuild/bbs-3.11-bioc/R/bin/R CMD check --install=check:TCGAutils.install-out.txt --library=/home/biocbuild/bbs-3.11-bioc/R/library --no-vignettes --timings TCGAutils_1.8.1.tar.gz
###
##############################################################################
##############################################################################
* using log directory ‘/home/biocbuild/bbs-3.11-bioc/meat/TCGAutils.Rcheck’
* using R version 4.0.3 (2020-10-10)
* using platform: x86_64-pc-linux-gnu (64-bit)
* using session charset: UTF-8
* using option ‘--no-vignettes’
* checking for file ‘TCGAutils/DESCRIPTION’ ... OK
* this is package ‘TCGAutils’ version ‘1.8.1’
* package encoding: UTF-8
* checking package namespace information ... OK
* checking package dependencies ... OK
* checking if this is a source package ... OK
* checking if there is a namespace ... OK
* checking for hidden files and directories ... OK
* checking for portable file names ... OK
* checking for sufficient/correct file permissions ... OK
* checking whether package ‘TCGAutils’ can be installed ... OK
* checking installed package size ... OK
* checking package directory ... OK
* checking ‘build’ directory ... OK
* checking DESCRIPTION meta-information ... OK
* checking top-level files ... OK
* checking for left-over files ... OK
* checking index information ... OK
* checking package subdirectories ... OK
* checking R files for non-ASCII characters ... OK
* checking R files for syntax errors ... OK
* checking whether the package can be loaded ... OK
* checking whether the package can be loaded with stated dependencies ... OK
* checking whether the package can be unloaded cleanly ... OK
* checking whether the namespace can be loaded with stated dependencies ... OK
* checking whether the namespace can be unloaded cleanly ... OK
* checking dependencies in R code ... NOTE
Unexported objects imported by ':::' calls:
‘BiocGenerics:::replaceSlots’ ‘GenomicRanges:::.normarg_field’
See the note in ?`:::` about the use of this operator.
* checking S3 generic/method consistency ... OK
* checking replacement functions ... OK
* checking foreign function calls ... OK
* checking R code for possible problems ... OK
* checking Rd files ... OK
* checking Rd metadata ... OK
* checking Rd cross-references ... OK
* checking for missing documentation entries ... OK
* checking for code/documentation mismatches ... OK
* checking Rd \usage sections ... OK
* checking Rd contents ... OK
* checking for unstated dependencies in examples ... OK
* checking contents of ‘data’ directory ... OK
* checking data for non-ASCII characters ... OK
* checking data for ASCII and uncompressed saves ... OK
* checking files in ‘vignettes’ ... OK
* checking examples ... OK
Examples with CPU (user + system) or elapsed time > 5s
user system elapsed
simplifyTCGA 45.763 0.736 47.332
TCGAprimaryTumors 25.246 0.564 26.984
trimColData 22.663 0.243 23.760
makeSummarizedExperimentFromGISTIC 19.119 2.837 21.338
imputeAssay 20.623 0.232 21.610
oncoPrintTCGA 18.671 0.456 20.434
curatedTCGAData-helpers 18.028 0.205 18.964
* checking for unstated dependencies in ‘tests’ ... OK
* checking tests ...
Running ‘testthat.R’
OK
* checking for unstated dependencies in vignettes ... OK
* checking package vignettes in ‘inst/doc’ ... OK
* checking running R code from vignettes ... SKIPPED
* checking re-building of vignette outputs ... SKIPPED
* checking PDF version of manual ... OK
* DONE
Status: 1 NOTE
See
‘/home/biocbuild/bbs-3.11-bioc/meat/TCGAutils.Rcheck/00check.log’
for details.
TCGAutils.Rcheck/00install.out
############################################################################## ############################################################################## ### ### Running command: ### ### /home/biocbuild/bbs-3.11-bioc/R/bin/R CMD INSTALL TCGAutils ### ############################################################################## ############################################################################## * installing to library ‘/home/biocbuild/bbs-3.11-bioc/R/library’ * installing *source* package ‘TCGAutils’ ... ** using staged installation ** R ** data *** moving datasets to lazyload DB ** inst ** byte-compile and prepare package for lazy loading ** help *** installing help indices ** building package indices ** installing vignettes ** testing if installed package can be loaded from temporary location ** testing if installed package can be loaded from final location ** testing if installed package keeps a record of temporary installation path * DONE (TCGAutils)
TCGAutils.Rcheck/tests/testthat.Rout
R version 4.0.3 (2020-10-10) -- "Bunny-Wunnies Freak Out"
Copyright (C) 2020 The R Foundation for Statistical Computing
Platform: x86_64-pc-linux-gnu (64-bit)
R is free software and comes with ABSOLUTELY NO WARRANTY.
You are welcome to redistribute it under certain conditions.
Type 'license()' or 'licence()' for distribution details.
R is a collaborative project with many contributors.
Type 'contributors()' for more information and
'citation()' on how to cite R or R packages in publications.
Type 'demo()' for some demos, 'help()' for on-line help, or
'help.start()' for an HTML browser interface to help.
Type 'q()' to quit R.
> library(testthat)
>
> library(TCGAutils)
>
> test_check("TCGAutils")
══ testthat results ═══════════════════════════════════════════════════════════
[ OK: 44 | SKIPPED: 0 | WARNINGS: 0 | FAILED: 0 ]
>
> proc.time()
user system elapsed
16.273 0.473 21.468
TCGAutils.Rcheck/TCGAutils-Ex.timings
| name | user | system | elapsed | |
| ID-translation | 1.098 | 0.064 | 3.105 | |
| TCGAbarcode | 0.001 | 0.000 | 0.002 | |
| TCGAbiospec | 0.032 | 0.004 | 0.046 | |
| TCGAprimaryTumors | 25.246 | 0.564 | 26.984 | |
| TCGAsampleSelect | 0.008 | 0.000 | 0.008 | |
| builds | 0.024 | 0.000 | 0.024 | |
| curatedTCGAData-helpers | 18.028 | 0.205 | 18.964 | |
| findGRangesCols | 0.003 | 0.000 | 0.003 | |
| generateMap | 0.033 | 0.000 | 0.033 | |
| getFileName | 0.070 | 0.000 | 0.141 | |
| imputeAssay | 20.623 | 0.232 | 21.610 | |
| makeGRangesListFromCopyNumber | 0.672 | 0.012 | 1.587 | |
| makeGRangesListFromExonFiles | 0.335 | 0.000 | 0.345 | |
| makeSummarizedExperimentFromGISTIC | 19.119 | 2.837 | 21.338 | |
| mergeColData | 0.550 | 0.000 | 0.551 | |
| oncoPrintTCGA | 18.671 | 0.456 | 20.434 | |
| simplifyTCGA | 45.763 | 0.736 | 47.332 | |
| trimColData | 22.663 | 0.243 | 23.760 | |