| Back to Multiple platform build/check report for BioC 3.11 |
|
This page was generated on 2020-10-17 11:55:54 -0400 (Sat, 17 Oct 2020).
| TO THE DEVELOPERS/MAINTAINERS OF THE TBSignatureProfiler PACKAGE: Please make sure to use the following settings in order to reproduce any error or warning you see on this page. |
| Package 1782/1905 | Hostname | OS / Arch | INSTALL | BUILD | CHECK | BUILD BIN | ||||||
| TBSignatureProfiler 1.0.0 David Jenkins
| malbec2 | Linux (Ubuntu 18.04.4 LTS) / x86_64 | OK | OK | [ OK ] | |||||||
| tokay2 | Windows Server 2012 R2 Standard / x64 | OK | OK | OK | NA | |||||||
| machv2 | macOS 10.14.6 Mojave / x86_64 | OK | OK | OK | OK |
| Package: TBSignatureProfiler |
| Version: 1.0.0 |
| Command: /home/biocbuild/bbs-3.11-bioc/R/bin/R CMD check --install=check:TBSignatureProfiler.install-out.txt --library=/home/biocbuild/bbs-3.11-bioc/R/library --no-vignettes --timings TBSignatureProfiler_1.0.0.tar.gz |
| StartedAt: 2020-10-17 05:59:13 -0400 (Sat, 17 Oct 2020) |
| EndedAt: 2020-10-17 06:02:30 -0400 (Sat, 17 Oct 2020) |
| EllapsedTime: 197.3 seconds |
| RetCode: 0 |
| Status: OK |
| CheckDir: TBSignatureProfiler.Rcheck |
| Warnings: 0 |
##############################################################################
##############################################################################
###
### Running command:
###
### /home/biocbuild/bbs-3.11-bioc/R/bin/R CMD check --install=check:TBSignatureProfiler.install-out.txt --library=/home/biocbuild/bbs-3.11-bioc/R/library --no-vignettes --timings TBSignatureProfiler_1.0.0.tar.gz
###
##############################################################################
##############################################################################
* using log directory ‘/home/biocbuild/bbs-3.11-bioc/meat/TBSignatureProfiler.Rcheck’
* using R version 4.0.3 (2020-10-10)
* using platform: x86_64-pc-linux-gnu (64-bit)
* using session charset: UTF-8
* using option ‘--no-vignettes’
* checking for file ‘TBSignatureProfiler/DESCRIPTION’ ... OK
* this is package ‘TBSignatureProfiler’ version ‘1.0.0’
* package encoding: UTF-8
* checking package namespace information ... OK
* checking package dependencies ... OK
* checking if this is a source package ... OK
* checking if there is a namespace ... OK
* checking for hidden files and directories ... OK
* checking for portable file names ... OK
* checking for sufficient/correct file permissions ... OK
* checking whether package ‘TBSignatureProfiler’ can be installed ... OK
* checking installed package size ... OK
* checking package directory ... OK
* checking ‘build’ directory ... OK
* checking DESCRIPTION meta-information ... OK
* checking top-level files ... OK
* checking for left-over files ... OK
* checking index information ... OK
* checking package subdirectories ... OK
* checking R files for non-ASCII characters ... OK
* checking R files for syntax errors ... OK
* checking whether the package can be loaded ... OK
* checking whether the package can be loaded with stated dependencies ... OK
* checking whether the package can be unloaded cleanly ... OK
* checking whether the namespace can be loaded with stated dependencies ... OK
* checking whether the namespace can be unloaded cleanly ... OK
* checking dependencies in R code ... OK
* checking S3 generic/method consistency ... OK
* checking replacement functions ... OK
* checking foreign function calls ... OK
* checking R code for possible problems ... OK
* checking Rd files ... OK
* checking Rd metadata ... OK
* checking Rd cross-references ... OK
* checking for missing documentation entries ... OK
* checking for code/documentation mismatches ... OK
* checking Rd \usage sections ... OK
* checking Rd contents ... OK
* checking for unstated dependencies in examples ... OK
* checking contents of ‘data’ directory ... OK
* checking data for non-ASCII characters ... OK
* checking data for ASCII and uncompressed saves ... OK
* checking files in ‘vignettes’ ... OK
* checking examples ... OK
Examples with CPU (user + system) or elapsed time > 5s
user system elapsed
bootstrapAUC 7.439 0.140 7.579
SignatureQuantitative 6.012 0.096 6.108
compareAlgs 5.763 0.104 5.867
signatureROCplot_CI 5.826 0.004 5.830
* checking for unstated dependencies in ‘tests’ ... OK
* checking tests ...
Running ‘spelling.R’
Running ‘testthat.R’
OK
* checking for unstated dependencies in vignettes ... OK
* checking package vignettes in ‘inst/doc’ ... OK
* checking running R code from vignettes ... SKIPPED
* checking re-building of vignette outputs ... SKIPPED
* checking PDF version of manual ... OK
* DONE
Status: OK
TBSignatureProfiler.Rcheck/00install.out
############################################################################## ############################################################################## ### ### Running command: ### ### /home/biocbuild/bbs-3.11-bioc/R/bin/R CMD INSTALL TBSignatureProfiler ### ############################################################################## ############################################################################## * installing to library ‘/home/biocbuild/bbs-3.11-bioc/R/library’ * installing *source* package ‘TBSignatureProfiler’ ... ** using staged installation ** R ** data *** moving datasets to lazyload DB ** inst ** byte-compile and prepare package for lazy loading ** help *** installing help indices ** building package indices ** installing vignettes ** testing if installed package can be loaded from temporary location ** testing if installed package can be loaded from final location ** testing if installed package keeps a record of temporary installation path * DONE (TBSignatureProfiler)
TBSignatureProfiler.Rcheck/tests/spelling.Rout
R version 4.0.3 (2020-10-10) -- "Bunny-Wunnies Freak Out"
Copyright (C) 2020 The R Foundation for Statistical Computing
Platform: x86_64-pc-linux-gnu (64-bit)
R is free software and comes with ABSOLUTELY NO WARRANTY.
You are welcome to redistribute it under certain conditions.
Type 'license()' or 'licence()' for distribution details.
R is a collaborative project with many contributors.
Type 'contributors()' for more information and
'citation()' on how to cite R or R packages in publications.
Type 'demo()' for some demos, 'help()' for on-line help, or
'help.start()' for an HTML browser interface to help.
Type 'q()' to quit R.
> if (requireNamespace("spelling", quietly = TRUE))
+ spelling::spell_check_test(vignettes = TRUE, error = FALSE,
+ skip_on_cran = TRUE)
NULL
>
> proc.time()
user system elapsed
0.235 0.043 0.263
TBSignatureProfiler.Rcheck/tests/testthat.Rout
R version 4.0.3 (2020-10-10) -- "Bunny-Wunnies Freak Out"
Copyright (C) 2020 The R Foundation for Statistical Computing
Platform: x86_64-pc-linux-gnu (64-bit)
R is free software and comes with ABSOLUTELY NO WARRANTY.
You are welcome to redistribute it under certain conditions.
Type 'license()' or 'licence()' for distribution details.
R is a collaborative project with many contributors.
Type 'contributors()' for more information and
'citation()' on how to cite R or R packages in publications.
Type 'demo()' for some demos, 'help()' for on-line help, or
'help.start()' for an HTML browser interface to help.
Type 'q()' to quit R.
> library(testthat)
> library(TBSignatureProfiler)
>
> test_check("TBSignatureProfiler")
Estimating ssGSEA scores for 1 gene sets.
|
| | 0%
|
|======= | 10%
|
|============== | 20%
|
|===================== | 30%
|
|============================ | 40%
|
|=================================== | 50%
|
|========================================== | 60%
|
|================================================= | 70%
|
|======================================================== | 80%
|
|=============================================================== | 90%
|
|======================================================================| 100%
Estimating ssGSEA scores for 1 gene sets.
|
| | 0%
|
|======= | 10%
|
|============== | 20%
|
|===================== | 30%
|
|============================ | 40%
|
|=================================== | 50%
|
|========================================== | 60%
|
|================================================= | 70%
|
|======================================================== | 80%
|
|=============================================================== | 90%
|
|======================================================================| 100%
|
| | 0%
|
|======================================================================| 100%
|
| | 0%
|
|======================================================================| 100%
|
| | 0%
|
|======================================================================| 100%
|
| | 0%
|
|======================================================================| 100%
|
| | 0%
|
|======================================================================| 100%
|
| | 0%
|
|======================================================================| 100%
|
| | 0%
|
|======================================================================| 100%
|
| | 0%
|
|======================================================================| 100%
|
| | 0%
|
|=================================== | 50%
|
|======================================================================| 100%
|
| | 0%
|
|=================================== | 50%
|
|======================================================================| 100%
Estimating ssGSEA scores for 1 gene sets.
|
| | 0%
|
|======= | 10%
|
|============== | 20%
|
|===================== | 30%
|
|============================ | 40%
|
|=================================== | 50%
|
|========================================== | 60%
|
|================================================= | 70%
|
|======================================================== | 80%
|
|=============================================================== | 90%
|
|======================================================================| 100%
Estimating ssGSEA scores for 1 gene sets.
|
| | 0%
|
|======= | 10%
|
|============== | 20%
|
|===================== | 30%
|
|============================ | 40%
|
|=================================== | 50%
|
|========================================== | 60%
|
|================================================= | 70%
|
|======================================================== | 80%
|
|=============================================================== | 90%
|
|======================================================================| 100%
Estimating GSVA scores for 1 gene sets.
Estimating ECDFs with Gaussian kernels
|
| | 0%
|
|======================================================================| 100%
Estimating ssGSEA scores for 1 gene sets.
|
| | 0%
|
|======= | 10%
|
|============== | 20%
|
|===================== | 30%
|
|============================ | 40%
|
|=================================== | 50%
|
|========================================== | 60%
|
|================================================= | 70%
|
|======================================================== | 80%
|
|=============================================================== | 90%
|
|======================================================================| 100%
================================================================================
Estimating PLAGE scores for 1 gene sets.
|
| | 0%
|
|======================================================================| 100%
Estimating combined z-scores for 1 gene sets.
|
| | 0%
|
|======= | 10%
|
|============== | 20%
|
|===================== | 30%
|
|============================ | 40%
|
|=================================== | 50%
|
|========================================== | 60%
|
|================================================= | 70%
|
|======================================================== | 80%
|
|=============================================================== | 90%
|
|======================================================================| 100%
Estimating GSVA scores for 1 gene sets.
Estimating ECDFs with Gaussian kernels
|
| | 0%
|
|======================================================================| 100%
Estimating GSVA scores for 1 gene sets.
Estimating ECDFs with Gaussian kernels
|
| | 0%
|
|======================================================================| 100%
Estimating GSVA scores for 1 gene sets.
Estimating ECDFs with Gaussian kernels
|
| | 0%
|
|======================================================================| 100%
Estimating GSVA scores for 1 gene sets.
Estimating ECDFs with Gaussian kernels
|
| | 0%
|
|======================================================================| 100%
Estimating ssGSEA scores for 1 gene sets.
|
| | 0%
|
|======= | 10%
|
|============== | 20%
|
|===================== | 30%
|
|============================ | 40%
|
|=================================== | 50%
|
|========================================== | 60%
|
|================================================= | 70%
|
|======================================================== | 80%
|
|=============================================================== | 90%
|
|======================================================================| 100%
================================================================================
Estimating GSVA scores for 1 gene sets.
Estimating ECDFs with Gaussian kernels
|
| | 0%
|
|======================================================================| 100%
Estimating ssGSEA scores for 1 gene sets.
|
| | 0%
|
|======= | 10%
|
|============== | 20%
|
|===================== | 30%
|
|============================ | 40%
|
|=================================== | 50%
|
|========================================== | 60%
|
|================================================= | 70%
|
|======================================================== | 80%
|
|=============================================================== | 90%
|
|======================================================================| 100%
================================================================================
Estimating GSVA scores for 1 gene sets.
Estimating ECDFs with Gaussian kernels
|
| | 0%
|
|======================================================================| 100%
Estimating ssGSEA scores for 1 gene sets.
|
| | 0%
|
|======= | 10%
|
|============== | 20%
|
|===================== | 30%
|
|============================ | 40%
|
|=================================== | 50%
|
|========================================== | 60%
|
|================================================= | 70%
|
|======================================================== | 80%
|
|=============================================================== | 90%
|
|======================================================================| 100%
================================================================================
Estimating GSVA scores for 1 gene sets.
Estimating ECDFs with Gaussian kernels
|
| | 0%
|
|======================================================================| 100%
Estimating ssGSEA scores for 1 gene sets.
|
| | 0%
|
|======= | 10%
|
|============== | 20%
|
|===================== | 30%
|
|============================ | 40%
|
|=================================== | 50%
|
|========================================== | 60%
|
|================================================= | 70%
|
|======================================================== | 80%
|
|=============================================================== | 90%
|
|======================================================================| 100%
================================================================================
Estimating PLAGE scores for 1 gene sets.
|
| | 0%
|
|======================================================================| 100%
Estimating combined z-scores for 1 gene sets.
|
| | 0%
|
|======= | 10%
|
|============== | 20%
|
|===================== | 30%
|
|============================ | 40%
|
|=================================== | 50%
|
|========================================== | 60%
|
|================================================= | 70%
|
|======================================================== | 80%
|
|=============================================================== | 90%
|
|======================================================================| 100%
Estimating GSVA scores for 1 gene sets.
Estimating ECDFs with Gaussian kernels
|
| | 0%
|
|======================================================================| 100%
Estimating GSVA scores for 1 gene sets.
Estimating ECDFs with Gaussian kernels
|
| | 0%
|
|======================================================================| 100%
Estimating GSVA scores for 1 gene sets.
Estimating ECDFs with Gaussian kernels
|
| | 0%
|
|======================================================================| 100%
Estimating GSVA scores for 1 gene sets.
Estimating ECDFs with Gaussian kernels
|
| | 0%
|
|======================================================================| 100%
Estimating ssGSEA scores for 1 gene sets.
|
| | 0%
|
|======= | 10%
|
|============== | 20%
|
|===================== | 30%
|
|============================ | 40%
|
|=================================== | 50%
|
|========================================== | 60%
|
|================================================= | 70%
|
|======================================================== | 80%
|
|=============================================================== | 90%
|
|======================================================================| 100%
Estimating GSVA scores for 1 gene sets.
Estimating ECDFs with Gaussian kernels
|
| | 0%
|
|======================================================================| 100%
Estimating ssGSEA scores for 1 gene sets.
|
| | 0%
|
|======= | 10%
|
|============== | 20%
|
|===================== | 30%
|
|============================ | 40%
|
|=================================== | 50%
|
|========================================== | 60%
|
|================================================= | 70%
|
|======================================================== | 80%
|
|=============================================================== | 90%
|
|======================================================================| 100%
Estimating ssGSEA scores for 1 gene sets.
|
| | 0%
|
|======= | 10%
|
|============== | 20%
|
|===================== | 30%
|
|============================ | 40%
|
|=================================== | 50%
|
|========================================== | 60%
|
|================================================= | 70%
|
|======================================================== | 80%
|
|=============================================================== | 90%
|
|======================================================================| 100%
================================================================================
Estimating ssGSEA scores for 1 gene sets.
|
| | 0%
|
|======= | 10%
|
|============== | 20%
|
|===================== | 30%
|
|============================ | 40%
|
|=================================== | 50%
|
|========================================== | 60%
|
|================================================= | 70%
|
|======================================================== | 80%
|
|=============================================================== | 90%
|
|======================================================================| 100%
================================================================================
Estimating GSVA scores for 1 gene sets.
Estimating ECDFs with Gaussian kernels
|
| | 0%
|
|======================================================================| 100%
Estimating combined z-scores for 1 gene sets.
|
| | 0%
|
|======= | 10%
|
|============== | 20%
|
|===================== | 30%
|
|============================ | 40%
|
|=================================== | 50%
|
|========================================== | 60%
|
|================================================= | 70%
|
|======================================================== | 80%
|
|=============================================================== | 90%
|
|======================================================================| 100%
Estimating ssGSEA scores for 1 gene sets.
|
| | 0%
|
|======= | 10%
|
|============== | 20%
|
|===================== | 30%
|
|============================ | 40%
|
|=================================== | 50%
|
|========================================== | 60%
|
|================================================= | 70%
|
|======================================================== | 80%
|
|=============================================================== | 90%
|
|======================================================================| 100%
Estimating combined z-scores for 1 gene sets.
|
| | 0%
|
|======= | 10%
|
|============== | 20%
|
|===================== | 30%
|
|============================ | 40%
|
|=================================== | 50%
|
|========================================== | 60%
|
|================================================= | 70%
|
|======================================================== | 80%
|
|=============================================================== | 90%
|
|======================================================================| 100%
Estimating combined z-scores for 1 gene sets.
|
| | 0%
|
|======= | 10%
|
|============== | 20%
|
|===================== | 30%
|
|============================ | 40%
|
|=================================== | 50%
|
|========================================== | 60%
|
|================================================= | 70%
|
|======================================================== | 80%
|
|=============================================================== | 90%
|
|======================================================================| 100%
================================================================================
Estimating GSVA scores for 1 gene sets.
Estimating ECDFs with Gaussian kernels
|
| | 0%
|
|======================================================================| 100%
Estimating PLAGE scores for 1 gene sets.
|
| | 0%
|
|======================================================================| 100%
Estimating ssGSEA scores for 1 gene sets.
|
| | 0%
|
|======= | 10%
|
|============== | 20%
|
|===================== | 30%
|
|============================ | 40%
|
|=================================== | 50%
|
|========================================== | 60%
|
|================================================= | 70%
|
|======================================================== | 80%
|
|=============================================================== | 90%
|
|======================================================================| 100%
Estimating PLAGE scores for 1 gene sets.
|
| | 0%
|
|======================================================================| 100%
Estimating PLAGE scores for 1 gene sets.
|
| | 0%
|
|======================================================================| 100%
================================================================================
Estimating PLAGE scores for 1 gene sets.
|
| | 0%
|
|======================================================================| 100%
Estimating combined z-scores for 1 gene sets.
|
| | 0%
|
|======= | 10%
|
|============== | 20%
|
|===================== | 30%
|
|============================ | 40%
|
|=================================== | 50%
|
|========================================== | 60%
|
|================================================= | 70%
|
|======================================================== | 80%
|
|=============================================================== | 90%
|
|======================================================================| 100%
================================================================================
Estimating GSVA scores for 1 gene sets.
Estimating ECDFs with Gaussian kernels
|
| | 0%
|
|======================================================================| 100%
Estimating GSVA scores for 1 gene sets.
Estimating ECDFs with Gaussian kernels
|
| | 0%
|
|======================================================================| 100%
Estimating ssGSEA scores for 1 gene sets.
|
| | 0%
|
|======= | 10%
|
|============== | 20%
|
|===================== | 30%
|
|============================ | 40%
|
|=================================== | 50%
|
|========================================== | 60%
|
|================================================= | 70%
|
|======================================================== | 80%
|
|=============================================================== | 90%
|
|======================================================================| 100%
Estimating ssGSEA scores for 1 gene sets.
|
| | 0%
|
|======= | 10%
|
|============== | 20%
|
|===================== | 30%
|
|============================ | 40%
|
|=================================== | 50%
|
|========================================== | 60%
|
|================================================= | 70%
|
|======================================================== | 80%
|
|=============================================================== | 90%
|
|======================================================================| 100%
================================================================================
================================================================================
Estimating PLAGE scores for 1 gene sets.
|
| | 0%
|
|======================================================================| 100%
Estimating PLAGE scores for 1 gene sets.
|
| | 0%
|
|======================================================================| 100%
Estimating combined z-scores for 1 gene sets.
|
| | 0%
|
|======= | 10%
|
|============== | 20%
|
|===================== | 30%
|
|============================ | 40%
|
|=================================== | 50%
|
|========================================== | 60%
|
|================================================= | 70%
|
|======================================================== | 80%
|
|=============================================================== | 90%
|
|======================================================================| 100%
Estimating combined z-scores for 1 gene sets.
|
| | 0%
|
|======= | 10%
|
|============== | 20%
|
|===================== | 30%
|
|============================ | 40%
|
|=================================== | 50%
|
|========================================== | 60%
|
|================================================= | 70%
|
|======================================================== | 80%
|
|=============================================================== | 90%
|
|======================================================================| 100%
Estimating GSVA scores for 1 gene sets.
Estimating ECDFs with Gaussian kernels
|
| | 0%
|
|======================================================================| 100%
================================================================================
Estimating GSVA scores for 1 gene sets.
Estimating ECDFs with Gaussian kernels
|
| | 0%
|
|======================================================================| 100%
================================================================================
Estimating GSVA scores for 1 gene sets.
Estimating ECDFs with Gaussian kernels
|
| | 0%
|
|======================================================================| 100%
Estimating GSVA scores for 1 gene sets.
Estimating ECDFs with Gaussian kernels
|
| | 0%
|
|======================================================================| 100%
══ testthat results ═══════════════════════════════════════════════════════════
[ OK: 130 | SKIPPED: 1 | WARNINGS: 4 | FAILED: 0 ]
>
> proc.time()
user system elapsed
57.830 0.589 58.479
TBSignatureProfiler.Rcheck/TBSignatureProfiler-Ex.timings
| name | user | system | elapsed | |
| SignatureQuantitative | 6.012 | 0.096 | 6.108 | |
| TBSPapp | 0 | 0 | 0 | |
| TB_hiv | 0.002 | 0.000 | 0.002 | |
| TB_indian | 0.001 | 0.000 | 0.001 | |
| TBcommon | 0.001 | 0.000 | 0.001 | |
| TBsignatures | 0.001 | 0.000 | 0.001 | |
| bootstrapAUC | 7.439 | 0.140 | 7.579 | |
| common_sigAnnotData | 0.001 | 0.000 | 0.001 | |
| compareAlgs | 5.763 | 0.104 | 5.867 | |
| compareBoxplots | 0.663 | 0.016 | 0.679 | |
| deseq2_norm_rle | 1.15 | 0.00 | 1.15 | |
| distinctColors | 0.001 | 0.000 | 0.001 | |
| mkAssay | 1.899 | 0.016 | 1.915 | |
| plotQuantitative | 2.454 | 0.000 | 2.454 | |
| runTBsigProfiler | 0.090 | 0.004 | 0.095 | |
| sigAnnotData | 0.002 | 0.000 | 0.001 | |
| signatureBoxplot | 0.556 | 0.004 | 0.560 | |
| signatureGeneHeatmap | 4.557 | 0.000 | 4.561 | |
| signatureHeatmap | 0.577 | 0.000 | 0.577 | |
| signatureROCplot | 0.454 | 0.004 | 0.458 | |
| signatureROCplot_CI | 5.826 | 0.004 | 5.830 | |
| tableAUC | 0.444 | 0.012 | 0.456 | |