| Back to Multiple platform build/check report for BioC 3.11 |
|
This page was generated on 2020-10-14 11:59:15 -0400 (Wed, 14 Oct 2020).
| TO THE DEVELOPERS/MAINTAINERS OF THE SpectralTAD PACKAGE: Please make sure to use the following settings in order to reproduce any error or warning you see on this page. |
| Package 1708/1905 | Hostname | OS / Arch | INSTALL | BUILD | CHECK | BUILD BIN | ||||||
| SpectralTAD 1.4.0 Kellen Cresswell
| malbec2 | Linux (Ubuntu 18.04.4 LTS) / x86_64 | ERROR | ERROR | skipped | |||||||
| tokay2 | Windows Server 2012 R2 Standard / x64 | OK | OK | WARNINGS | NA | |||||||
| machv2 | macOS 10.14.6 Mojave / x86_64 | OK | OK | WARNINGS | [ OK ] |
| Package: SpectralTAD |
| Version: 1.4.0 |
| Command: rm -rf SpectralTAD.buildbin-libdir && mkdir SpectralTAD.buildbin-libdir && /Users/biocbuild/BBS/utils/build-universal.sh SpectralTAD_1.4.0.tar.gz /Library/Frameworks/R.framework/Versions/Current/Resources/bin/R SpectralTAD.buildbin-libdir |
| StartedAt: 2020-10-14 08:09:24 -0400 (Wed, 14 Oct 2020) |
| EndedAt: 2020-10-14 08:09:50 -0400 (Wed, 14 Oct 2020) |
| EllapsedTime: 25.4 seconds |
| RetCode: 0 |
| Status: OK |
| PackageFile: SpectralTAD_1.4.0.tgz |
| PackageFileSize: 1.472 MiB |
############################################################################## ############################################################################## ### ### Running command: ### ### rm -rf SpectralTAD.buildbin-libdir && mkdir SpectralTAD.buildbin-libdir && /Users/biocbuild/BBS/utils/build-universal.sh SpectralTAD_1.4.0.tar.gz /Library/Frameworks/R.framework/Versions/Current/Resources/bin/R SpectralTAD.buildbin-libdir ### ############################################################################## ############################################################################## >>>>>>> >>>>>>> INSTALLATION WITH 'R CMD INSTALL --preclean --no-multiarch --library=SpectralTAD.buildbin-libdir SpectralTAD_1.4.0.tar.gz' >>>>>>> * installing *source* package ‘SpectralTAD’ ... ** using staged installation ** R ** data ** inst ** byte-compile and prepare package for lazy loading ** help *** installing help indices ** building package indices ** installing vignettes ** testing if installed package can be loaded from temporary location ** testing if installed package can be loaded from final location ** testing if installed package keeps a record of temporary installation path * DONE (SpectralTAD)