| Back to Multiple platform build/check report for BioC 3.11 |
|
This page was generated on 2020-10-16 11:58:56 -0400 (Fri, 16 Oct 2020).
| TO THE DEVELOPERS/MAINTAINERS OF THE SparseSignatures PACKAGE: Please make sure to use the following settings in order to reproduce any error or warning you see on this page. |
| Package 1704/1905 | Hostname | OS / Arch | INSTALL | BUILD | CHECK | BUILD BIN | ||||||
| SparseSignatures 1.8.0 Luca De Sano
| malbec2 | Linux (Ubuntu 18.04.4 LTS) / x86_64 | OK | OK | OK | |||||||
| tokay2 | Windows Server 2012 R2 Standard / x64 | OK | OK | OK | [ OK ] | |||||||
| machv2 | macOS 10.14.6 Mojave / x86_64 | OK | OK | OK | OK |
| Package: SparseSignatures |
| Version: 1.8.0 |
| Command: rm -rf SparseSignatures.buildbin-libdir && mkdir SparseSignatures.buildbin-libdir && C:\Users\biocbuild\bbs-3.11-bioc\R\bin\R.exe CMD INSTALL --merge-multiarch --build --library=SparseSignatures.buildbin-libdir SparseSignatures_1.8.0.tar.gz |
| StartedAt: 2020-10-16 11:22:59 -0400 (Fri, 16 Oct 2020) |
| EndedAt: 2020-10-16 11:23:45 -0400 (Fri, 16 Oct 2020) |
| EllapsedTime: 46.0 seconds |
| RetCode: 0 |
| Status: OK |
| PackageFile: SparseSignatures_1.8.0.zip |
| PackageFileSize: 1.077 MiB |
##############################################################################
##############################################################################
###
### Running command:
###
### rm -rf SparseSignatures.buildbin-libdir && mkdir SparseSignatures.buildbin-libdir && C:\Users\biocbuild\bbs-3.11-bioc\R\bin\R.exe CMD INSTALL --merge-multiarch --build --library=SparseSignatures.buildbin-libdir SparseSignatures_1.8.0.tar.gz
###
##############################################################################
##############################################################################
install for i386
* installing *source* package 'SparseSignatures' ...
** using staged installation
** R
** data
*** moving datasets to lazyload DB
** inst
** byte-compile and prepare package for lazy loading
** help
*** installing help indices
converting help for package 'SparseSignatures'
finding HTML links ... done
as.alpha html
as.alpha.in.range html
as.beta html
as.beta.in.range html
as.loglik.progression html
as.loglik.progression.in.range html
as.mean.squared.error html
as.starting.beta html
as.starting.beta.in.range html
background html
cv_example html
evaluate.lambda.range html
import.counts.data html
lambda_range_example html
mutation_categories html
nmf.LassoCV html
nmf.LassoK html
nmf_LassoK_example html
patient.plot html
patients html
signatures.plot html
ssm560_reduced html
starting.betas.estimation html
starting_betas_example html
** building package indices
** installing vignettes
** testing if installed package can be loaded from temporary location
** testing if installed package can be loaded from final location
** testing if installed package keeps a record of temporary installation path
install for x64
* installing *source* package 'SparseSignatures' ...
** testing if installed package can be loaded
* MD5 sums
packaged installation of 'SparseSignatures' as SparseSignatures_1.8.0.zip
* DONE (SparseSignatures)