| Back to Multiple platform build/check report for BioC 3.11 |
|
This page was generated on 2020-10-16 11:58:55 -0400 (Fri, 16 Oct 2020).
| TO THE DEVELOPERS/MAINTAINERS OF THE SomaticSignatures PACKAGE: Please make sure to use the following settings in order to reproduce any error or warning you see on this page. |
| Package 1698/1905 | Hostname | OS / Arch | INSTALL | BUILD | CHECK | BUILD BIN | ||||||
| SomaticSignatures 2.24.0 Julian Gehring
| malbec2 | Linux (Ubuntu 18.04.4 LTS) / x86_64 | OK | OK | OK | |||||||
| tokay2 | Windows Server 2012 R2 Standard / x64 | OK | OK | WARNINGS | [ OK ] | |||||||
| machv2 | macOS 10.14.6 Mojave / x86_64 | OK | OK | OK | OK |
| Package: SomaticSignatures |
| Version: 2.24.0 |
| Command: rm -rf SomaticSignatures.buildbin-libdir && mkdir SomaticSignatures.buildbin-libdir && C:\Users\biocbuild\bbs-3.11-bioc\R\bin\R.exe CMD INSTALL --merge-multiarch --build --library=SomaticSignatures.buildbin-libdir SomaticSignatures_2.24.0.tar.gz |
| StartedAt: 2020-10-16 11:22:39 -0400 (Fri, 16 Oct 2020) |
| EndedAt: 2020-10-16 11:24:45 -0400 (Fri, 16 Oct 2020) |
| EllapsedTime: 125.8 seconds |
| RetCode: 0 |
| Status: OK |
| PackageFile: SomaticSignatures_2.24.0.zip |
| PackageFileSize: 1.419 MiB |
##############################################################################
##############################################################################
###
### Running command:
###
### rm -rf SomaticSignatures.buildbin-libdir && mkdir SomaticSignatures.buildbin-libdir && C:\Users\biocbuild\bbs-3.11-bioc\R\bin\R.exe CMD INSTALL --merge-multiarch --build --library=SomaticSignatures.buildbin-libdir SomaticSignatures_2.24.0.tar.gz
###
##############################################################################
##############################################################################
install for i386
* installing *source* package 'SomaticSignatures' ...
** using staged installation
** R
** data
** inst
** byte-compile and prepare package for lazy loading
** help
*** installing help indices
converting help for package 'SomaticSignatures'
finding HTML links ... done
MutationalSignatures-class html
SomaticSignatures-package html
cluster-spetrum html
decomposition-functions html
Rd warning: C:/Users/biocbuild/bbs-3.11-bioc/tmpdir/RtmpILJmXR/R.INSTALL2d74190c7e6b/SomaticSignatures/man/decomposition-functions.Rd:75: file link 'NMF' in package 'NMF' does not exist and so has been treated as a topic
gc html
granges-utils html
finding level-2 HTML links ... done
hs-chrs html
kmers-data html
kmers html
motif-functions html
mutation-context html
mutation-distribution html
mutational-normalization html
mutational-plots html
mutational-signatures html
mutect html
number-signatures html
Rd warning: C:/Users/biocbuild/bbs-3.11-bioc/tmpdir/RtmpILJmXR/R.INSTALL2d74190c7e6b/SomaticSignatures/man/number-signatures.Rd:98: file link 'evar' in package 'NMF' does not exist and so has been treated as a topic
sca-data html
signature-plot-functions html
signatures21-data html
utils html
** building package indices
** installing vignettes
** testing if installed package can be loaded from temporary location
** testing if installed package can be loaded from final location
** testing if installed package keeps a record of temporary installation path
install for x64
* installing *source* package 'SomaticSignatures' ...
** testing if installed package can be loaded
* MD5 sums
packaged installation of 'SomaticSignatures' as SomaticSignatures_2.24.0.zip
* DONE (SomaticSignatures)