| Back to Multiple platform build/check report for BioC 3.11 |
|
This page was generated on 2020-10-16 11:58:53 -0400 (Fri, 16 Oct 2020).
| TO THE DEVELOPERS/MAINTAINERS OF THE SingleCellSignalR PACKAGE: Please make sure to use the following settings in order to reproduce any error or warning you see on this page. |
| Package 1672/1905 | Hostname | OS / Arch | INSTALL | BUILD | CHECK | BUILD BIN | ||||||
| SingleCellSignalR 1.0.0 Jacques Colinge
| malbec2 | Linux (Ubuntu 18.04.4 LTS) / x86_64 | OK | OK | OK | |||||||
| tokay2 | Windows Server 2012 R2 Standard / x64 | OK | OK | OK | [ OK ] | |||||||
| machv2 | macOS 10.14.6 Mojave / x86_64 | OK | OK | OK | OK |
| Package: SingleCellSignalR |
| Version: 1.0.0 |
| Command: rm -rf SingleCellSignalR.buildbin-libdir && mkdir SingleCellSignalR.buildbin-libdir && C:\Users\biocbuild\bbs-3.11-bioc\R\bin\R.exe CMD INSTALL --merge-multiarch --build --library=SingleCellSignalR.buildbin-libdir SingleCellSignalR_1.0.0.tar.gz |
| StartedAt: 2020-10-16 11:20:59 -0400 (Fri, 16 Oct 2020) |
| EndedAt: 2020-10-16 11:21:59 -0400 (Fri, 16 Oct 2020) |
| EllapsedTime: 60.1 seconds |
| RetCode: 0 |
| Status: OK |
| PackageFile: SingleCellSignalR_1.0.0.zip |
| PackageFileSize: 5.86 MiB |
##############################################################################
##############################################################################
###
### Running command:
###
### rm -rf SingleCellSignalR.buildbin-libdir && mkdir SingleCellSignalR.buildbin-libdir && C:\Users\biocbuild\bbs-3.11-bioc\R\bin\R.exe CMD INSTALL --merge-multiarch --build --library=SingleCellSignalR.buildbin-libdir SingleCellSignalR_1.0.0.tar.gz
###
##############################################################################
##############################################################################
install for i386
* installing *source* package 'SingleCellSignalR' ...
** using staged installation
** R
** data
*** moving datasets to lazyload DB
** inst
** byte-compile and prepare package for lazy loading
** help
*** installing help indices
converting help for package 'SingleCellSignalR'
finding HTML links ... done
LRdb html
LRscore html
PwC_ReactomeKEGG html
cell_classifier html
cell_signaling html
cluster_analysis html
clustering html
data_prepare html
example_dataset html
expression_plot html
expression_plot_2 html
inter_network html
intra_network html
markers html
markers_default html
mm2Hs html
mv_interactions html
simplify_interactions html
visualize_interactions html
** building package indices
** installing vignettes
** testing if installed package can be loaded from temporary location
** testing if installed package can be loaded from final location
** testing if installed package keeps a record of temporary installation path
install for x64
* installing *source* package 'SingleCellSignalR' ...
** testing if installed package can be loaded
* MD5 sums
packaged installation of 'SingleCellSignalR' as SingleCellSignalR_1.0.0.zip
* DONE (SingleCellSignalR)