| Back to Multiple platform build/check report for BioC 3.11 |
|
This page was generated on 2020-10-16 11:58:53 -0400 (Fri, 16 Oct 2020).
| TO THE DEVELOPERS/MAINTAINERS OF THE SingleCellExperiment PACKAGE: Please make sure to use the following settings in order to reproduce any error or warning you see on this page. |
| Package 1671/1905 | Hostname | OS / Arch | INSTALL | BUILD | CHECK | BUILD BIN | ||||||
| SingleCellExperiment 1.10.1 Davide Risso
| malbec2 | Linux (Ubuntu 18.04.4 LTS) / x86_64 | OK | OK | OK | |||||||
| tokay2 | Windows Server 2012 R2 Standard / x64 | OK | OK | WARNINGS | [ OK ] | |||||||
| machv2 | macOS 10.14.6 Mojave / x86_64 | OK | OK | OK | OK |
| Package: SingleCellExperiment |
| Version: 1.10.1 |
| Command: rm -rf SingleCellExperiment.buildbin-libdir && mkdir SingleCellExperiment.buildbin-libdir && C:\Users\biocbuild\bbs-3.11-bioc\R\bin\R.exe CMD INSTALL --merge-multiarch --build --library=SingleCellExperiment.buildbin-libdir SingleCellExperiment_1.10.1.tar.gz |
| StartedAt: 2020-10-16 11:20:55 -0400 (Fri, 16 Oct 2020) |
| EndedAt: 2020-10-16 11:21:39 -0400 (Fri, 16 Oct 2020) |
| EllapsedTime: 43.9 seconds |
| RetCode: 0 |
| Status: OK |
| PackageFile: SingleCellExperiment_1.10.1.zip |
| PackageFileSize: 1.501 MiB |
##############################################################################
##############################################################################
###
### Running command:
###
### rm -rf SingleCellExperiment.buildbin-libdir && mkdir SingleCellExperiment.buildbin-libdir && C:\Users\biocbuild\bbs-3.11-bioc\R\bin\R.exe CMD INSTALL --merge-multiarch --build --library=SingleCellExperiment.buildbin-libdir SingleCellExperiment_1.10.1.tar.gz
###
##############################################################################
##############################################################################
install for i386
* installing *source* package 'SingleCellExperiment' ...
** using staged installation
** R
** inst
** byte-compile and prepare package for lazy loading
** help
*** installing help indices
converting help for package 'SingleCellExperiment'
finding HTML links ... done
LEM-combine html
LEM-getset html
LEM-misc html
LEM-subset html
LinearEmbeddingMatrix html
SingleCellExperiment html
finding level-2 HTML links ... done
altExps html
assays html
colLabels html
combine html
Rd warning: C:/Users/biocbuild/bbs-3.11-bioc/tmpdir/Rtmp0KtgSU/R.INSTALL2748695f7515/SingleCellExperiment/man/combine.Rd:27: file link 'rbind' in package 'base' does not exist and so has been treated as a topic
defunct html
internals html
miscellaneous html
reducedDims html
sizeFactors html
splitAltExps html
swapAltExp html
updateObject html
** building package indices
** installing vignettes
** testing if installed package can be loaded from temporary location
** testing if installed package can be loaded from final location
** testing if installed package keeps a record of temporary installation path
install for x64
* installing *source* package 'SingleCellExperiment' ...
** testing if installed package can be loaded
* MD5 sums
packaged installation of 'SingleCellExperiment' as SingleCellExperiment_1.10.1.zip
* DONE (SingleCellExperiment)