| Back to Multiple platform build/check report for BioC 3.11 |
|
This page was generated on 2020-10-16 11:58:53 -0400 (Fri, 16 Oct 2020).
| TO THE DEVELOPERS/MAINTAINERS OF THE SimFFPE PACKAGE: Please make sure to use the following settings in order to reproduce any error or warning you see on this page. |
| Package 1665/1905 | Hostname | OS / Arch | INSTALL | BUILD | CHECK | BUILD BIN | ||||||
| SimFFPE 1.0.0 Lanying Wei
| malbec2 | Linux (Ubuntu 18.04.4 LTS) / x86_64 | OK | OK | OK | |||||||
| tokay2 | Windows Server 2012 R2 Standard / x64 | OK | OK | WARNINGS | [ OK ] | |||||||
| machv2 | macOS 10.14.6 Mojave / x86_64 | OK | OK | OK | OK |
| Package: SimFFPE |
| Version: 1.0.0 |
| Command: rm -rf SimFFPE.buildbin-libdir && mkdir SimFFPE.buildbin-libdir && C:\Users\biocbuild\bbs-3.11-bioc\R\bin\R.exe CMD INSTALL --merge-multiarch --build --library=SimFFPE.buildbin-libdir SimFFPE_1.0.0.tar.gz |
| StartedAt: 2020-10-16 11:20:36 -0400 (Fri, 16 Oct 2020) |
| EndedAt: 2020-10-16 11:21:23 -0400 (Fri, 16 Oct 2020) |
| EllapsedTime: 47.5 seconds |
| RetCode: 0 |
| Status: OK |
| PackageFile: SimFFPE_1.0.0.zip |
| PackageFileSize: 804.1 KiB |
##############################################################################
##############################################################################
###
### Running command:
###
### rm -rf SimFFPE.buildbin-libdir && mkdir SimFFPE.buildbin-libdir && C:\Users\biocbuild\bbs-3.11-bioc\R\bin\R.exe CMD INSTALL --merge-multiarch --build --library=SimFFPE.buildbin-libdir SimFFPE_1.0.0.tar.gz
###
##############################################################################
##############################################################################
install for i386
* installing *source* package 'SimFFPE' ...
** using staged installation
** R
** inst
** byte-compile and prepare package for lazy loading
** help
*** installing help indices
converting help for package 'SimFFPE'
finding HTML links ... done
SimFFPE-package html
calcPhredScoreProfile html
readSimFFPE html
Rd warning: C:/Users/biocbuild/bbs-3.11-bioc/tmpdir/RtmpaOp4e2/R.INSTALL21ac4e5c7bcd/SimFFPE/man/readSimFFPE.Rd:82: file link 'rlnorm' in package 'stats' does not exist and so has been treated as a topic
Rd warning: C:/Users/biocbuild/bbs-3.11-bioc/tmpdir/RtmpaOp4e2/R.INSTALL21ac4e5c7bcd/SimFFPE/man/readSimFFPE.Rd:118: file link 'rbeta' in package 'stats' does not exist and so has been treated as a topic
Rd warning: C:/Users/biocbuild/bbs-3.11-bioc/tmpdir/RtmpaOp4e2/R.INSTALL21ac4e5c7bcd/SimFFPE/man/readSimFFPE.Rd:124: file link 'rbeta' in package 'stats' does not exist and so has been treated as a topic
targetReadSimFFPE html
Rd warning: C:/Users/biocbuild/bbs-3.11-bioc/tmpdir/RtmpaOp4e2/R.INSTALL21ac4e5c7bcd/SimFFPE/man/targetReadSimFFPE.Rd:94: file link 'rlnorm' in package 'stats' does not exist and so has been treated as a topic
Rd warning: C:/Users/biocbuild/bbs-3.11-bioc/tmpdir/RtmpaOp4e2/R.INSTALL21ac4e5c7bcd/SimFFPE/man/targetReadSimFFPE.Rd:130: file link 'rbeta' in package 'stats' does not exist and so has been treated as a topic
Rd warning: C:/Users/biocbuild/bbs-3.11-bioc/tmpdir/RtmpaOp4e2/R.INSTALL21ac4e5c7bcd/SimFFPE/man/targetReadSimFFPE.Rd:136: file link 'rbeta' in package 'stats' does not exist and so has been treated as a topic
** building package indices
** installing vignettes
** testing if installed package can be loaded from temporary location
** testing if installed package can be loaded from final location
** testing if installed package keeps a record of temporary installation path
install for x64
* installing *source* package 'SimFFPE' ...
** testing if installed package can be loaded
* MD5 sums
packaged installation of 'SimFFPE' as SimFFPE_1.0.0.zip
* DONE (SimFFPE)