| Back to Multiple platform build/check report for BioC 3.11 |
|
This page was generated on 2020-10-16 11:58:53 -0400 (Fri, 16 Oct 2020).
| TO THE DEVELOPERS/MAINTAINERS OF THE SimBindProfiles PACKAGE: Please make sure to use the following settings in order to reproduce any error or warning you see on this page. |
| Package 1663/1905 | Hostname | OS / Arch | INSTALL | BUILD | CHECK | BUILD BIN | ||||||
| SimBindProfiles 1.26.0 Bettina Fischer
| malbec2 | Linux (Ubuntu 18.04.4 LTS) / x86_64 | OK | OK | OK | |||||||
| tokay2 | Windows Server 2012 R2 Standard / x64 | OK | OK | WARNINGS | [ OK ] | |||||||
| machv2 | macOS 10.14.6 Mojave / x86_64 | OK | OK | OK | OK |
| Package: SimBindProfiles |
| Version: 1.26.0 |
| Command: rm -rf SimBindProfiles.buildbin-libdir && mkdir SimBindProfiles.buildbin-libdir && C:\Users\biocbuild\bbs-3.11-bioc\R\bin\R.exe CMD INSTALL --merge-multiarch --build --library=SimBindProfiles.buildbin-libdir SimBindProfiles_1.26.0.tar.gz |
| StartedAt: 2020-10-16 11:20:28 -0400 (Fri, 16 Oct 2020) |
| EndedAt: 2020-10-16 11:21:11 -0400 (Fri, 16 Oct 2020) |
| EllapsedTime: 43.2 seconds |
| RetCode: 0 |
| Status: OK |
| PackageFile: SimBindProfiles_1.26.0.zip |
| PackageFileSize: 1.831 MiB |
##############################################################################
##############################################################################
###
### Running command:
###
### rm -rf SimBindProfiles.buildbin-libdir && mkdir SimBindProfiles.buildbin-libdir && C:\Users\biocbuild\bbs-3.11-bioc\R\bin\R.exe CMD INSTALL --merge-multiarch --build --library=SimBindProfiles.buildbin-libdir SimBindProfiles_1.26.0.tar.gz
###
##############################################################################
##############################################################################
install for i386
* installing *source* package 'SimBindProfiles' ...
** using staged installation
** R
** data
** inst
** byte-compile and prepare package for lazy loading
** help
*** installing help indices
converting help for package 'SimBindProfiles'
finding HTML links ... done
SGR html
SimBindProfiles-package html
compensationRegions html
eSetScatterPlot html
Rd warning: C:/Users/biocbuild/bbs-3.11-bioc/tmpdir/RtmpoVXIwt/R.INSTALL1a47950daf/SimBindProfiles/man/eSetScatterPlot.Rd:24: file link 'plot' in package 'graphics' does not exist and so has been treated as a topic
findBoundCutoff html
increasedBindingRegions html
pairwiseRegions html
plotBoundProbes html
Rd warning: C:/Users/biocbuild/bbs-3.11-bioc/tmpdir/RtmpoVXIwt/R.INSTALL1a47950daf/SimBindProfiles/man/plotBoundProbes.Rd:30: file link 'plot' in package 'graphics' does not exist and so has been treated as a topic
probeAnnoFromESet html
Rd warning: C:/Users/biocbuild/bbs-3.11-bioc/tmpdir/RtmpoVXIwt/R.INSTALL1a47950daf/SimBindProfiles/man/probeAnnoFromESet.Rd:33: file link 'probeAnno-class' in package 'Ringo' does not exist and so has been treated as a topic
probeLengthPlot html
readSgrFiles html
Rd warning: C:/Users/biocbuild/bbs-3.11-bioc/tmpdir/RtmpoVXIwt/R.INSTALL1a47950daf/SimBindProfiles/man/readSgrFiles.Rd:29: file link 'ExpressionSet' in package 'Biobase' does not exist and so has been treated as a topic
threewayRegions html
** building package indices
** installing vignettes
** testing if installed package can be loaded from temporary location
** testing if installed package can be loaded from final location
** testing if installed package keeps a record of temporary installation path
install for x64
* installing *source* package 'SimBindProfiles' ...
** testing if installed package can be loaded
* MD5 sums
packaged installation of 'SimBindProfiles' as SimBindProfiles_1.26.0.zip
* DONE (SimBindProfiles)