| Back to Multiple platform build/check report for BioC 3.11 |
|
This page was generated on 2020-10-16 11:58:52 -0400 (Fri, 16 Oct 2020).
| TO THE DEVELOPERS/MAINTAINERS OF THE SigCheck PACKAGE: Please make sure to use the following settings in order to reproduce any error or warning you see on this page. |
| Package 1650/1905 | Hostname | OS / Arch | INSTALL | BUILD | CHECK | BUILD BIN | ||||||
| SigCheck 2.20.0 Rory Stark
| malbec2 | Linux (Ubuntu 18.04.4 LTS) / x86_64 | OK | OK | OK | |||||||
| tokay2 | Windows Server 2012 R2 Standard / x64 | OK | OK | OK | [ OK ] | |||||||
| machv2 | macOS 10.14.6 Mojave / x86_64 | OK | OK | OK | OK |
| Package: SigCheck |
| Version: 2.20.0 |
| Command: rm -rf SigCheck.buildbin-libdir && mkdir SigCheck.buildbin-libdir && C:\Users\biocbuild\bbs-3.11-bioc\R\bin\R.exe CMD INSTALL --merge-multiarch --build --library=SigCheck.buildbin-libdir SigCheck_2.20.0.tar.gz |
| StartedAt: 2020-10-16 11:19:35 -0400 (Fri, 16 Oct 2020) |
| EndedAt: 2020-10-16 11:20:07 -0400 (Fri, 16 Oct 2020) |
| EllapsedTime: 31.9 seconds |
| RetCode: 0 |
| Status: OK |
| PackageFile: SigCheck_2.20.0.zip |
| PackageFileSize: 706.2 KiB |
##############################################################################
##############################################################################
###
### Running command:
###
### rm -rf SigCheck.buildbin-libdir && mkdir SigCheck.buildbin-libdir && C:\Users\biocbuild\bbs-3.11-bioc\R\bin\R.exe CMD INSTALL --merge-multiarch --build --library=SigCheck.buildbin-libdir SigCheck_2.20.0.tar.gz
###
##############################################################################
##############################################################################
install for i386
* installing *source* package 'SigCheck' ...
** using staged installation
** R
** data
** inst
** byte-compile and prepare package for lazy loading
Creating a new generic function for 'signature' in package 'SigCheck'
** help
*** installing help indices
converting help for package 'SigCheck'
finding HTML links ... done
SigCheck-package html
finding level-2 HTML links ... done
SigCheckObject-class html
classifyResults html
knownSignatures html
nkiResults html
sigCheck html
sigCheckAll html
sigCheckKnown html
sigCheckPermuted html
sigCheckPlot html
sigCheckRandom html
** building package indices
** installing vignettes
** testing if installed package can be loaded from temporary location
** testing if installed package can be loaded from final location
** testing if installed package keeps a record of temporary installation path
install for x64
* installing *source* package 'SigCheck' ...
** testing if installed package can be loaded
* MD5 sums
packaged installation of 'SigCheck' as SigCheck_2.20.0.zip
* DONE (SigCheck)