| Back to Multiple platform build/check report for BioC 3.11 |
|
This page was generated on 2020-10-16 11:58:51 -0400 (Fri, 16 Oct 2020).
| TO THE DEVELOPERS/MAINTAINERS OF THE SeqVarTools PACKAGE: Please make sure to use the following settings in order to reproduce any error or warning you see on this page. |
| Package 1637/1905 | Hostname | OS / Arch | INSTALL | BUILD | CHECK | BUILD BIN | ||||||
| SeqVarTools 1.26.0 Stephanie M. Gogarten
| malbec2 | Linux (Ubuntu 18.04.4 LTS) / x86_64 | OK | OK | OK | |||||||
| tokay2 | Windows Server 2012 R2 Standard / x64 | OK | OK | OK | [ OK ] | |||||||
| machv2 | macOS 10.14.6 Mojave / x86_64 | OK | OK | OK | OK |
| Package: SeqVarTools |
| Version: 1.26.0 |
| Command: rm -rf SeqVarTools.buildbin-libdir && mkdir SeqVarTools.buildbin-libdir && C:\Users\biocbuild\bbs-3.11-bioc\R\bin\R.exe CMD INSTALL --merge-multiarch --build --library=SeqVarTools.buildbin-libdir SeqVarTools_1.26.0.tar.gz |
| StartedAt: 2020-10-16 11:18:44 -0400 (Fri, 16 Oct 2020) |
| EndedAt: 2020-10-16 11:19:28 -0400 (Fri, 16 Oct 2020) |
| EllapsedTime: 44.1 seconds |
| RetCode: 0 |
| Status: OK |
| PackageFile: SeqVarTools_1.26.0.zip |
| PackageFileSize: 1.451 MiB |
##############################################################################
##############################################################################
###
### Running command:
###
### rm -rf SeqVarTools.buildbin-libdir && mkdir SeqVarTools.buildbin-libdir && C:\Users\biocbuild\bbs-3.11-bioc\R\bin\R.exe CMD INSTALL --merge-multiarch --build --library=SeqVarTools.buildbin-libdir SeqVarTools_1.26.0.tar.gz
###
##############################################################################
##############################################################################
install for i386
* installing *source* package 'SeqVarTools' ...
** using staged installation
** R
** data
*** moving datasets to lazyload DB
** inst
** byte-compile and prepare package for lazy loading
** help
*** installing help indices
converting help for package 'SeqVarTools'
finding HTML links ... done
Iterator-class html
finding level-2 HTML links ... done
SeqVarData-class html
SeqVarTools-package html
allele-methods html
alleleFrequency html
alternateAlleleDetection html
applyMethod html
chromWithPAR html
countSingletons html
duplicateDiscordance html
getGenotype html
getVariableLengthData html
heterozygosity html
hwe html
imputedDosage html
inbreedCoeff html
isSNV html
isVariant html
meanBySample html
mendelErr html
missingGenotypeRate html
pca html
pedigree html
refFrac html
regression html
setVariantID html
titv html
variantInfo html
** building package indices
** installing vignettes
** testing if installed package can be loaded from temporary location
** testing if installed package can be loaded from final location
** testing if installed package keeps a record of temporary installation path
install for x64
* installing *source* package 'SeqVarTools' ...
** testing if installed package can be loaded
* MD5 sums
packaged installation of 'SeqVarTools' as SeqVarTools_1.26.0.zip
* DONE (SeqVarTools)