| Back to Multiple platform build/check report for BioC 3.11 |
|
This page was generated on 2020-10-17 11:57:47 -0400 (Sat, 17 Oct 2020).
| TO THE DEVELOPERS/MAINTAINERS OF THE SeqGSEA PACKAGE: Please make sure to use the following settings in order to reproduce any error or warning you see on this page. |
| Package 1630/1905 | Hostname | OS / Arch | INSTALL | BUILD | CHECK | BUILD BIN | ||||||
| SeqGSEA 1.28.0 Xi Wang
| malbec2 | Linux (Ubuntu 18.04.4 LTS) / x86_64 | OK | OK | WARNINGS | |||||||
| tokay2 | Windows Server 2012 R2 Standard / x64 | OK | OK | WARNINGS | [ OK ] | |||||||
| machv2 | macOS 10.14.6 Mojave / x86_64 | OK | OK | WARNINGS | OK |
| Package: SeqGSEA |
| Version: 1.28.0 |
| Command: rm -rf SeqGSEA.buildbin-libdir && mkdir SeqGSEA.buildbin-libdir && C:\Users\biocbuild\bbs-3.11-bioc\R\bin\R.exe CMD INSTALL --merge-multiarch --build --library=SeqGSEA.buildbin-libdir SeqGSEA_1.28.0.tar.gz |
| StartedAt: 2020-10-17 11:38:42 -0400 (Sat, 17 Oct 2020) |
| EndedAt: 2020-10-17 11:39:44 -0400 (Sat, 17 Oct 2020) |
| EllapsedTime: 62.1 seconds |
| RetCode: 0 |
| Status: OK |
| PackageFile: SeqGSEA_1.28.0.zip |
| PackageFileSize: 1.682 MiB |
##############################################################################
##############################################################################
###
### Running command:
###
### rm -rf SeqGSEA.buildbin-libdir && mkdir SeqGSEA.buildbin-libdir && C:\Users\biocbuild\bbs-3.11-bioc\R\bin\R.exe CMD INSTALL --merge-multiarch --build --library=SeqGSEA.buildbin-libdir SeqGSEA_1.28.0.tar.gz
###
##############################################################################
##############################################################################
install for i386
* installing *source* package 'SeqGSEA' ...
** using staged installation
** R
** data
** inst
** byte-compile and prepare package for lazy loading
Warning message:
Package 'DESeq' is deprecated and will be removed from Bioconductor
version 3.13. Please use DESeq2
** help
*** installing help indices
converting help for package 'SeqGSEA'
finding HTML links ... done
DENBStat4GSEA html
DENBStatPermut4GSEA html
DENBTest html
DEpermutePval html
DEscore html
DSpermute4GSEA html
DSpermutePval html
DSresultExonTable html
DSresultGeneTable html
GSEAresultTable html
GSEnrichAnalyze html
GS_example html
RCS_example html
ReadCountSet-class html
finding level-2 HTML links ... done
SeqGSEA-package html
SeqGeneSet-class html
calES html
calES.perm html
convertEnsembl2Symbol html
convertSymbol2Ensembl html
counts-methods html
estiExonNBstat html
estiGeneNBstat html
exonID html
exonTestability html
geneID html
geneList html
genePermuteScore html
geneScore html
geneSetDescs html
geneSetNames html
geneSetSize html
geneTestability html
genpermuteMat html
getGeneCount html
label html
loadExonCountData html
loadGenesets html
newGeneSets html
newReadCountSet html
normES html
normFactor html
plotES html
plotGeneScore html
plotSig html
plotSigGeneSet html
rankCombine html
runDESeq html
runSeqGSEA html
scoreNormalization html
signifES html
size html
subsetByGenes html
topDEGenes html
topDSExons html
topDSGenes html
topGeneSets html
writeScores html
writeSigGeneSet html
** building package indices
** installing vignettes
** testing if installed package can be loaded from temporary location
Warning: Package 'DESeq' is deprecated and will be removed from Bioconductor
version 3.13. Please use DESeq2
** testing if installed package can be loaded from final location
Warning: Package 'DESeq' is deprecated and will be removed from Bioconductor
version 3.13. Please use DESeq2
** testing if installed package keeps a record of temporary installation path
install for x64
* installing *source* package 'SeqGSEA' ...
** testing if installed package can be loaded
Warning: Package 'DESeq' is deprecated and will be removed from Bioconductor
version 3.13. Please use DESeq2
* MD5 sums
packaged installation of 'SeqGSEA' as SeqGSEA_1.28.0.zip
* DONE (SeqGSEA)